BEGIN:VCALENDAR
VERSION:2.0
PRODID:-//Cypress College - ECPv6.15.7//NONSGML v1.0//EN
CALSCALE:GREGORIAN
METHOD:PUBLISH
X-ORIGINAL-URL:https://www.cypresscollege.edu
X-WR-CALDESC:Events for Cypress College
REFRESH-INTERVAL;VALUE=DURATION:PT1H
X-Robots-Tag:noindex
X-PUBLISHED-TTL:PT1H
BEGIN:VTIMEZONE
TZID:America/Los_Angeles
BEGIN:DAYLIGHT
TZOFFSETFROM:-0800
TZOFFSETTO:-0700
TZNAME:PDT
DTSTART:20170312T100000
END:DAYLIGHT
BEGIN:STANDARD
TZOFFSETFROM:-0700
TZOFFSETTO:-0800
TZNAME:PST
DTSTART:20171105T090000
END:STANDARD
BEGIN:DAYLIGHT
TZOFFSETFROM:-0800
TZOFFSETTO:-0700
TZNAME:PDT
DTSTART:20180311T100000
END:DAYLIGHT
BEGIN:STANDARD
TZOFFSETFROM:-0700
TZOFFSETTO:-0800
TZNAME:PST
DTSTART:20181104T090000
END:STANDARD
BEGIN:DAYLIGHT
TZOFFSETFROM:-0800
TZOFFSETTO:-0700
TZNAME:PDT
DTSTART:20190310T100000
END:DAYLIGHT
BEGIN:STANDARD
TZOFFSETFROM:-0700
TZOFFSETTO:-0800
TZNAME:PST
DTSTART:20191103T090000
END:STANDARD
END:VTIMEZONE
BEGIN:VEVENT
DTSTART;TZID=America/Los_Angeles:20181025T114000
DTEND;TZID=America/Los_Angeles:20181025T114000
DTSTAMP:20260422T122922
CREATED:20181019T224234Z
LAST-MODIFIED:20181019T224234Z
UID:19857-1540467600-1540467600@www.cypresscollege.edu
SUMMARY:ASHRAE Club Meetings
DESCRIPTION:ASHRAE Club is an air conditioning and refrigeration industry emphasis club. Club activities include industry educational events\, field trips\, and seminars. The objective of the club is to promote the collaboration and camaraderie in social and educational events. ASHRAE Club meets every other Thursday (beginning August 29) at 11:40 a.m. in TE3-101. For questions or information contact the ASHRAE Club advisor\, Richard Hock\, at rhock@cypresscollege.edu. \n\n\n	Related
URL:https://www.cypresscollege.edu/event/ashrae-club-meetings/2018-10-25/
LOCATION:9200 Valley View St.\, Cypress\, CA\, 90630\, United States
CATEGORIES:Clubs
END:VEVENT
END:VCALENDAR