BEGIN:VCALENDAR
VERSION:2.0
PRODID:-//Cypress College - ECPv6.15.7//NONSGML v1.0//EN
CALSCALE:GREGORIAN
METHOD:PUBLISH
X-ORIGINAL-URL:https://www.cypresscollege.edu
X-WR-CALDESC:Events for Cypress College
REFRESH-INTERVAL;VALUE=DURATION:PT1H
X-Robots-Tag:noindex
X-PUBLISHED-TTL:PT1H
BEGIN:VTIMEZONE
TZID:America/Los_Angeles
BEGIN:DAYLIGHT
TZOFFSETFROM:-0800
TZOFFSETTO:-0700
TZNAME:PDT
DTSTART:20180311T100000
END:DAYLIGHT
BEGIN:STANDARD
TZOFFSETFROM:-0700
TZOFFSETTO:-0800
TZNAME:PST
DTSTART:20181104T090000
END:STANDARD
BEGIN:DAYLIGHT
TZOFFSETFROM:-0800
TZOFFSETTO:-0700
TZNAME:PDT
DTSTART:20190310T100000
END:DAYLIGHT
BEGIN:STANDARD
TZOFFSETFROM:-0700
TZOFFSETTO:-0800
TZNAME:PST
DTSTART:20191103T090000
END:STANDARD
BEGIN:DAYLIGHT
TZOFFSETFROM:-0800
TZOFFSETTO:-0700
TZNAME:PDT
DTSTART:20200308T100000
END:DAYLIGHT
BEGIN:STANDARD
TZOFFSETFROM:-0700
TZOFFSETTO:-0800
TZNAME:PST
DTSTART:20201101T090000
END:STANDARD
END:VTIMEZONE
BEGIN:VEVENT
DTSTART;TZID=America/Los_Angeles:20190330T083000
DTEND;TZID=America/Los_Angeles:20190330T120000
DTSTAMP:20260421T172609
CREATED:20190321T163948Z
LAST-MODIFIED:20190321T164005Z
UID:24704-1553934600-1553947200@www.cypresscollege.edu
SUMMARY:2019 Hall of Fame Induction Ceremony
DESCRIPTION:You’re Invited!\nCypress College Athletics is hosting its 2019 Hall of Fame Celebration\, which honors the memory and contributions of outstanding athletes\, coaches\, and supporters of our nationally recognized athletic programs. \nThis FREE event will take place on Saturday\, March 30 in the Gym II Foyer. Doors will open at 8:30 a.m.\, where breakfast will be served until the formal induction ceremony begins at 10 a.m. Following the program\, Chargers Baseball will take on Irvine Valley College and Softball will play against Citrus College at 1 p.m. \nThe Hall of Fame event requires an RSVP\, as we are near capacity for this event. Please contact Wes McCurtis via email at wmccurtis@cypresscollege.edu or phone at (714) 484-7356 to request seats at this event by Monday\, March 25. \nThe Athletics department will attempt to accommodate as many requests as possible.
URL:https://www.cypresscollege.edu/event/24704/
LOCATION:9200 Valley View St.\, Cypress\, CA\, 90630\, United States
CATEGORIES:Athletics
ATTACH;FMTTYPE=image/jpeg:https://www.cypresscollege.edu/wp-content/uploads/2019-event-athletics-hall-of-fame.jpg
END:VEVENT
BEGIN:VEVENT
DTSTART;TZID=America/Los_Angeles:20190330T123000
DTEND;TZID=America/Los_Angeles:20190330T123000
DTSTAMP:20260421T172609
CREATED:20190124T234311Z
LAST-MODIFIED:20190124T234311Z
UID:22434-1553949000-1553949000@www.cypresscollege.edu
SUMMARY:Softball vs. Citrus
DESCRIPTION:This is home game played by Cypress Softball.
URL:https://www.cypresscollege.edu/event/softball-vs-citrus/
LOCATION:9200 Valley View St.\, Cypress\, CA\, 90630\, United States
CATEGORIES:Athletics
ATTACH;FMTTYPE=image/jpeg:https://www.cypresscollege.edu/wp-content/uploads/2019_event-softball.jpg
END:VEVENT
BEGIN:VEVENT
DTSTART;TZID=America/Los_Angeles:20190330T150000
DTEND;TZID=America/Los_Angeles:20190330T150000
DTSTAMP:20260421T172609
CREATED:20190124T234413Z
LAST-MODIFIED:20190124T234413Z
UID:22437-1553958000-1553958000@www.cypresscollege.edu
SUMMARY:Softball vs. Mt. San Antonio
DESCRIPTION:This is home game played by Cypress Softball.
URL:https://www.cypresscollege.edu/event/softball-vs-mt-san-antonio-3/
LOCATION:9200 Valley View St.\, Cypress\, CA\, 90630\, United States
CATEGORIES:Athletics
ATTACH;FMTTYPE=image/jpeg:https://www.cypresscollege.edu/wp-content/uploads/2019_event-softball.jpg
END:VEVENT
END:VCALENDAR