BEGIN:VCALENDAR
VERSION:2.0
PRODID:-//Cypress College - ECPv6.15.7//NONSGML v1.0//EN
CALSCALE:GREGORIAN
METHOD:PUBLISH
X-ORIGINAL-URL:https://www.cypresscollege.edu
X-WR-CALDESC:Events for Cypress College
REFRESH-INTERVAL;VALUE=DURATION:PT1H
X-Robots-Tag:noindex
X-PUBLISHED-TTL:PT1H
BEGIN:VTIMEZONE
TZID:America/Los_Angeles
BEGIN:DAYLIGHT
TZOFFSETFROM:-0800
TZOFFSETTO:-0700
TZNAME:PDT
DTSTART:20180311T100000
END:DAYLIGHT
BEGIN:STANDARD
TZOFFSETFROM:-0700
TZOFFSETTO:-0800
TZNAME:PST
DTSTART:20181104T090000
END:STANDARD
BEGIN:DAYLIGHT
TZOFFSETFROM:-0800
TZOFFSETTO:-0700
TZNAME:PDT
DTSTART:20190310T100000
END:DAYLIGHT
BEGIN:STANDARD
TZOFFSETFROM:-0700
TZOFFSETTO:-0800
TZNAME:PST
DTSTART:20191103T090000
END:STANDARD
BEGIN:DAYLIGHT
TZOFFSETFROM:-0800
TZOFFSETTO:-0700
TZNAME:PDT
DTSTART:20200308T100000
END:DAYLIGHT
BEGIN:STANDARD
TZOFFSETFROM:-0700
TZOFFSETTO:-0800
TZNAME:PST
DTSTART:20201101T090000
END:STANDARD
END:VTIMEZONE
BEGIN:VEVENT
DTSTART;TZID=America/Los_Angeles:20190802T130000
DTEND;TZID=America/Los_Angeles:20190802T140000
DTSTAMP:20260419T053926
CREATED:20190715T172057Z
LAST-MODIFIED:20190715T172057Z
UID:28547-1564750800-1564754400@www.cypresscollege.edu
SUMMARY:The Renaissance: A New Beginning
DESCRIPTION:Cypress Recreation & Community Services host The Renaissance A New Beginning\, by David Halahmy\, a history professor at Cypress College. Professor Halahmy returns with this powerful and inspiring program on the Renaissance. Witness the explosion of art\, science\, and humanism\, and explore the cutthroat politics of Renaissance Florence along with its remarkable beauty and architecture. \nThis event takes place at the Cypress Senior Center at 9301 Grindlay Street\, Cypress\, CA 90630. Reservations recommended: (714) 229-2005
URL:https://www.cypresscollege.edu/event/the-renaissance-a-new-beginning/
LOCATION:9200 Valley View St.\, Cypress\, CA\, 90630\, United States
ATTACH;FMTTYPE=image/jpeg:https://www.cypresscollege.edu/wp-content/uploads/David-Halahmy-Lecture.jpg
END:VEVENT
END:VCALENDAR