BEGIN:VCALENDAR
VERSION:2.0
PRODID:-//Cypress College - ECPv6.15.7//NONSGML v1.0//EN
CALSCALE:GREGORIAN
METHOD:PUBLISH
X-WR-CALNAME:Cypress College
X-ORIGINAL-URL:https://www.cypresscollege.edu
X-WR-CALDESC:Events for Cypress College
REFRESH-INTERVAL;VALUE=DURATION:PT1H
X-Robots-Tag:noindex
X-PUBLISHED-TTL:PT1H
BEGIN:VTIMEZONE
TZID:America/Los_Angeles
BEGIN:DAYLIGHT
TZOFFSETFROM:-0800
TZOFFSETTO:-0700
TZNAME:PDT
DTSTART:20190310T100000
END:DAYLIGHT
BEGIN:STANDARD
TZOFFSETFROM:-0700
TZOFFSETTO:-0800
TZNAME:PST
DTSTART:20191103T090000
END:STANDARD
BEGIN:DAYLIGHT
TZOFFSETFROM:-0800
TZOFFSETTO:-0700
TZNAME:PDT
DTSTART:20200308T100000
END:DAYLIGHT
BEGIN:STANDARD
TZOFFSETFROM:-0700
TZOFFSETTO:-0800
TZNAME:PST
DTSTART:20201101T090000
END:STANDARD
BEGIN:DAYLIGHT
TZOFFSETFROM:-0800
TZOFFSETTO:-0700
TZNAME:PDT
DTSTART:20210314T100000
END:DAYLIGHT
BEGIN:STANDARD
TZOFFSETFROM:-0700
TZOFFSETTO:-0800
TZNAME:PST
DTSTART:20211107T090000
END:STANDARD
END:VTIMEZONE
BEGIN:VEVENT
DTSTART;TZID=America/Los_Angeles:20200123T180000
DTEND;TZID=America/Los_Angeles:20200123T200000
DTSTAMP:20260420T165635
CREATED:20191003T171940Z
LAST-MODIFIED:20191008T203727Z
UID:30023-1579802400-1579809600@www.cypresscollege.edu
SUMMARY:Open House: Hotel\, Restaurant\, and Culinary Arts
DESCRIPTION:CYPRESS COLLEGE SCHOOL OF CULINARY ARTS & HOSPITALITY MANAGEMENT \nTour NOCCCD Anaheim Campus culinary facility\, enjoy refreshments\, and learn about program options. \n6:00 pm Resource Fair and Tours\n7:00 pm Career Breakout 1\n7:30 pm Career Breakout 2 \nResource Fair\nMeet faculty\, staff\, students and representatives from Charger Experience\, Financial Aid\, Counseling\, Cal Poly Pomona Collins College\, CSULB Hospitality Management and more. \nInformational Career Breakouts\nCulinary Arts\, Baking & Pastry Arts\, Food & Beverage Management\, Hotel Management \nWho and How\nHigh school\, middle school\, students\, parents\, teachers and partners. Drop by\, stay for some or all activities. Eventbrite registration recommended. \nWhere\n1830 W. Romneya Drive\, Anaheim\, CA
URL:https://www.cypresscollege.edu/event/open-house-hotel-restaurant-and-culinary-arts/
LOCATION:Anaheim Campus\, 1830 W. Romneya Drive\, Anaheim\, CA\, 92801\, United States
CATEGORIES:Open House
ATTACH;FMTTYPE=image/jpeg:https://www.cypresscollege.edu/wp-content/uploads/HRC-Open-House-Jan-23-2020.jpg
GEO:33.8499864;-117.9452201
X-APPLE-STRUCTURED-LOCATION;VALUE=URI;X-ADDRESS=Anaheim Campus 1830 W. Romneya Drive Anaheim CA 92801 United States;X-APPLE-RADIUS=500;X-TITLE=1830 W. Romneya Drive:geo:-117.9452201,33.8499864
END:VEVENT
END:VCALENDAR