BEGIN:VCALENDAR
VERSION:2.0
PRODID:-//Cypress College - ECPv6.15.7//NONSGML v1.0//EN
CALSCALE:GREGORIAN
METHOD:PUBLISH
X-WR-CALNAME:Cypress College
X-ORIGINAL-URL:https://www.cypresscollege.edu
X-WR-CALDESC:Events for Cypress College
REFRESH-INTERVAL;VALUE=DURATION:PT1H
X-Robots-Tag:noindex
X-PUBLISHED-TTL:PT1H
BEGIN:VTIMEZONE
TZID:America/Los_Angeles
BEGIN:DAYLIGHT
TZOFFSETFROM:-0800
TZOFFSETTO:-0700
TZNAME:PDT
DTSTART:20200308T100000
END:DAYLIGHT
BEGIN:STANDARD
TZOFFSETFROM:-0700
TZOFFSETTO:-0800
TZNAME:PST
DTSTART:20201101T090000
END:STANDARD
BEGIN:DAYLIGHT
TZOFFSETFROM:-0800
TZOFFSETTO:-0700
TZNAME:PDT
DTSTART:20210314T100000
END:DAYLIGHT
BEGIN:STANDARD
TZOFFSETFROM:-0700
TZOFFSETTO:-0800
TZNAME:PST
DTSTART:20211107T090000
END:STANDARD
BEGIN:DAYLIGHT
TZOFFSETFROM:-0800
TZOFFSETTO:-0700
TZNAME:PDT
DTSTART:20220313T100000
END:DAYLIGHT
BEGIN:STANDARD
TZOFFSETFROM:-0700
TZOFFSETTO:-0800
TZNAME:PST
DTSTART:20221106T090000
END:STANDARD
END:VTIMEZONE
BEGIN:VEVENT
DTSTART;TZID=America/Los_Angeles:20210126T080000
DTEND;TZID=America/Los_Angeles:20210514T170000
DTSTAMP:20260421T125014
CREATED:20210126T195027Z
LAST-MODIFIED:20210126T195027Z
UID:42357-1611648000-1621011600@www.cypresscollege.edu
SUMMARY:Online Career and Student Success Workshop Series
DESCRIPTION:Welcome to our Online Career and Student Success Workshop Series. The Online Workshops are available for you to participate in at any time that is convenient for you. \nGet details about our online workshops.
URL:https://www.cypresscollege.edu/event/online-career-and-student-success-workshop-series/
LOCATION:9200 Valley View St.\, Cypress\, CA\, 90630\, United States
CATEGORIES:Career Planning Center,Workshop
ATTACH;FMTTYPE=image/jpeg:https://www.cypresscollege.edu/wp-content/uploads/Events-Featured-Image-workshop_Ken.jpg
END:VEVENT
BEGIN:VEVENT
DTSTART;VALUE=DATE:20210323
DTEND;VALUE=DATE:20210506
DTSTAMP:20260421T125014
CREATED:20210325T214223Z
LAST-MODIFIED:20210325T214223Z
UID:43421-1616457600-1620259199@www.cypresscollege.edu
SUMMARY:Native Art Contest
DESCRIPTION:Attention all students! The newly launched Native-American Faculty and Staff Alliance (NAFSA) for the North Orange County Community College District is looking for a logo and wants to see your art concepts. A cash prize will be awarded to the winner. \nTo Enter\n\nThe contest runs from March 23 to May 5\, 2021. The winner will be chosen by NAFSA members.\nAll files should be in PDF or EPS format and sent to NativeArtContest@nocccd.edu.\nMust be a current or former student of Cypress College\, Fullerton College\, or NOCE.\n\nDownload the contest guidelines.
URL:https://www.cypresscollege.edu/event/native-art-contest/
LOCATION:9200 Valley View St.\, Cypress\, CA\, 90630\, United States
CATEGORIES:District
ATTACH;FMTTYPE=image/jpeg:https://www.cypresscollege.edu/wp-content/uploads/Event_Featured_NAFSA-Student-Art-Poster-scaled.jpg
END:VEVENT
BEGIN:VEVENT
DTSTART;TZID=America/Los_Angeles:20210408T080000
DTEND;TZID=America/Los_Angeles:20210428T235900
DTSTAMP:20260421T125014
CREATED:20210408T215655Z
LAST-MODIFIED:20210408T215655Z
UID:43724-1617868800-1619654340@www.cypresscollege.edu
SUMMARY:Kiki Zuniga Scholarship
DESCRIPTION:Each year the LFSA awards at least three $300 or more scholarships to one Cypress College student\, one Fullerton College student\, and one NOCE student that are currently enrolled at our District\, have the goals of transferring to a 4-year university\, and demonstrate their commitment to the Latino community. Scholarship Application Flyer \nApplication period now open until Wednesday\, April 28\, at 11:59 p.m. Click here to apply.
URL:https://www.cypresscollege.edu/event/kiki-zuniga-scholarship/
LOCATION:9200 Valley View St.\, Cypress\, CA\, 90630\, United States
CATEGORIES:Scholarships
ATTACH;FMTTYPE=image/jpeg:https://www.cypresscollege.edu/wp-content/uploads/Events-Featured-Image-Scholarship_Ken.jpg
END:VEVENT
BEGIN:VEVENT
DTSTART;TZID=America/Los_Angeles:20210426T110000
DTEND;TZID=America/Los_Angeles:20210426T130000
DTSTAMP:20260421T125014
CREATED:20210421T223147Z
LAST-MODIFIED:20210421T223147Z
UID:43907-1619434800-1619442000@www.cypresscollege.edu
SUMMARY:A Conversation on Colorism
DESCRIPTION:Legacy Program presents A Conversation on Colorism. Join us for this conversation on colorism and the detrimental effects it can have on people. \nZoom: 935 9624 3011 \nMore information: rrhymes@cypresscollege.edu
URL:https://www.cypresscollege.edu/event/a-conversation-on-colorism/
LOCATION:9200 Valley View St.\, Cypress\, CA\, 90630\, United States
CATEGORIES:Legacy
ATTACH;FMTTYPE=image/png:https://www.cypresscollege.edu/wp-content/uploads/Event_Legacy_Colorism-Workshop.png
END:VEVENT
BEGIN:VEVENT
DTSTART;TZID=America/Los_Angeles:20210426T120000
DTEND;TZID=America/Los_Angeles:20210426T130000
DTSTAMP:20260421T125014
CREATED:20210421T233015Z
LAST-MODIFIED:20210421T233015Z
UID:43920-1619438400-1619442000@www.cypresscollege.edu
SUMMARY:Black Student Success Week
DESCRIPTION:Join us for a series of webinars aimed at improving Black and African American student success. \nRegister now for Black Student Success Week’s daily webinar series: The Black hour. Throughout the week\, The Black Hour will share insights and approaches for improving student success among Black and African American students at California’s community colleges. Webinars will be held from 12–1 p.m. and are open to California Community College administrators\, staff\, faculty\, practitioners\, and students. \nMonday\, April 26 — Follow the Money: Unapologetically Supporting Black Students\nBlack Student Success Week will kick off with a conversation regarding the importance of being unapologetically supportive of Black students and Black student success. This webinar will include a discussion about the Follow the Money report\, which examines how Black students are systematically underinvested in by the state when it comes to higher education funding\, thus perpetuating economic inequity for Black Californians and the maintenance of a permanent underclass. \nTuesday\, April 27 — The ADT Journey for African American Students\nThis webinar will include a student panel that will explore the experiences of achieving an Associate Degree for Transfer (ADT). African American students will share the benefits and challenges associated with their transfer pathway and degree completion at a California Community College. \nWednesday\, April 28 — Equity and Black Representation in Higher Education Leadership\nTo eliminate inequity in higher education such that student experiences and outcomes are not predicted by race\, public higher education requires diverse institutional leaders who define a vision\, determine a strategy\, and galvanize organization-wide action to mitigate inequity and close persistent racialized equity gaps. This webinar will explore the institutional barriers and biases in the identification\, recruitment\, selection\, and retention of equity-minded Black leaders at the CEO level in higher education and discuss actions that may lead to an increase in the number of BIPOC college and university presidents. Panelists will offer insight into their CEO journey\, discuss how exclusionary practices and barriers move the conversation away from individual preparedness to one of institutional bias\, and offer their insights into what actions can be taken to advance systemic change. \nThursday\, April 29 — A Legislative Briefing: Actively Advocating for Black Student Success\nHear from California legislators and community college advocates regarding important legislation and learn how to advocate on behalf of Black student success. This webinar will identify key bills and provide guidance as well as support for your college’s advocacy efforts. \nFriday\, April 30 — The Cost of Freedom: “Speaking Up to Diversify the Faculty Ranks”\nPresented by the Academic Senate for California Community Colleges\, this webinar will cover the role of the Black tax in serving on committees to diversify the faculty ranks\, and the trials and tribulations Black faculty endure to ensure adequate representation in the academy.
URL:https://www.cypresscollege.edu/event/black-student-success-week/2021-04-26/
LOCATION:9200 Valley View St.\, Cypress\, CA\, 90630\, United States
ATTACH;FMTTYPE=image/jpeg:https://www.cypresscollege.edu/wp-content/uploads/Event_Featured_BSSW.jpg
END:VEVENT
END:VCALENDAR