BEGIN:VCALENDAR
VERSION:2.0
PRODID:-//Cypress College - ECPv6.15.7//NONSGML v1.0//EN
CALSCALE:GREGORIAN
METHOD:PUBLISH
X-ORIGINAL-URL:https://www.cypresscollege.edu
X-WR-CALDESC:Events for Cypress College
REFRESH-INTERVAL;VALUE=DURATION:PT1H
X-Robots-Tag:noindex
X-PUBLISHED-TTL:PT1H
BEGIN:VTIMEZONE
TZID:America/Los_Angeles
BEGIN:DAYLIGHT
TZOFFSETFROM:-0800
TZOFFSETTO:-0700
TZNAME:PDT
DTSTART:20210314T100000
END:DAYLIGHT
BEGIN:STANDARD
TZOFFSETFROM:-0700
TZOFFSETTO:-0800
TZNAME:PST
DTSTART:20211107T090000
END:STANDARD
BEGIN:DAYLIGHT
TZOFFSETFROM:-0800
TZOFFSETTO:-0700
TZNAME:PDT
DTSTART:20220313T100000
END:DAYLIGHT
BEGIN:STANDARD
TZOFFSETFROM:-0700
TZOFFSETTO:-0800
TZNAME:PST
DTSTART:20221106T090000
END:STANDARD
BEGIN:DAYLIGHT
TZOFFSETFROM:-0800
TZOFFSETTO:-0700
TZNAME:PDT
DTSTART:20230312T100000
END:DAYLIGHT
BEGIN:STANDARD
TZOFFSETFROM:-0700
TZOFFSETTO:-0800
TZNAME:PST
DTSTART:20231105T090000
END:STANDARD
END:VTIMEZONE
BEGIN:VEVENT
DTSTART;VALUE=DATE:20220315
DTEND;VALUE=DATE:20220511
DTSTAMP:20260419T071301
CREATED:20220310T182830Z
LAST-MODIFIED:20220310T182830Z
UID:47470-1647302400-1652227199@www.cypresscollege.edu
SUMMARY:The Pandemic Twitch: Programming\, Performing\, Participating & Pirate T.V.
DESCRIPTION:Cypress College Art Gallery is pleased to announce a new online exhibition\, The Pandemic Twitch: Programming\, Performing\, Participating & Pirate T.V.\, curated by Professor Michael Hanson. \nMARCH 15 – MAY 10\, 2022\nCURATED BY MICHAEL HANSON\nWITH ESSAYS BY BADLY LICKED BEAR\, MATTHEW HAWKINS\, & MICHAEL HANSON\nWhen COVID-19 forced human interaction on-line in March 2020\, savvy culture-producers jumped into live-streaming platform Twitch. A popular pre-pandemic home for video-gamers and the people who like to watch them play\, Twitch became a pandemic go-to for artists and others to meet their audiences in real time. More than a neutral venue though\, Twitch and its chat streams quickly became a dynamic component of the works presented. \nCurated by artist Michael Hanson\, Pandemic Twitch: Programming\, Performing\, Participating\, and Pirate TV presents projects that have bubbled on Twitch ever since the first lockdown. With the need for social interaction as their pressure cooker context\, the “live” communal experiences re-invent appointment T.V. as participatory art; collage the outrageously mundane into dazzling\, fragmented futures; and offer a lockdown lifesaver of roiling\, rollicking fun.
URL:https://www.cypresscollege.edu/event/the-pandemic-twitch-programming-performing-participating-pirate-t-v/
LOCATION:9200 Valley View St.\, Cypress\, CA\, 90630\, United States
CATEGORIES:Art,Virtual
END:VEVENT
BEGIN:VEVENT
DTSTART;TZID=America/Los_Angeles:20220406T100000
DTEND;TZID=America/Los_Angeles:20220406T130000
DTSTAMP:20260419T071301
CREATED:20220322T204802Z
LAST-MODIFIED:20220322T204802Z
UID:47792-1649239200-1649250000@www.cypresscollege.edu
SUMMARY:Spring 2022 Career Fair
DESCRIPTION:Please join us\, on campus in Gateway Plaza\, on Wednesday\, April 6\, 10 a.m.- 1 p.m. for our Cypress College Spring 2022 Career Fair. \nAttendees are asked to: \n\nDress professionally\nBe prepared to take a headshot\, if desired\nBring copies of your resume to give to employers\n\nTo get help with your resume\, visit the Career Planning Center April 4 from 2–4 p.m. or April 5 1–4 p.m. The Career Planning Center is located in the Student Center on the second floor. \nRegistered employers who will be in attendance: \n\n24 Carrots\nAccel Therapies\nAirtech International\, Inc.\nAnaheim Family YMCA\nBerry Global\nBloom Behavioral Health\nBoys & Girls Club of Buena Park\nCENIC\nChild Care Careers\nCity of Long Beach – Parks\, Recreation & Marine\nCollins College of Hospitality Management at Cal Poly Pomona\nCreative Behavior Interventions\, Inc.\, APPC\nGelson’s\nGreat Wolf Lodge\nGSG Support Services\nHealthpointe\nHuntington Beach Union High School District\nHyatt Regency Huntington Beach Resort and Spa\nHyatt Regency Orange County\nHyundai Motor America\nInspira Behavior and Advocacy Specialists\nJ.Cat Beauty Enterprise LLC\nKnott’s Berry Farm\nLove 2 Learn Consulting\nMBK Senior Living Huntington Terrace\nMeBe\nOctapharma Plasma\nOrange County Head Start\, Inc.\nPatterns Behavioral Services\nSenior Helpers\nSilverado Hospice\nSnap-on AutoCrib\nSober Partners\nSober Partners Network\nSober Partners Network\nSynergy HomeCare\nTawa Services Inc.\nUnited Medical Imaging\nWoodcraft Rangers\n\nQuestions? Contact Melissa Carpenter at mcarpenter@cypresscollege.edu.
URL:https://www.cypresscollege.edu/event/spring-2022-career-fair/
LOCATION:9200 Valley View St.\, Cypress\, CA\, 90630\, United States
CATEGORIES:Career Planning Center
END:VEVENT
END:VCALENDAR