BEGIN:VCALENDAR
VERSION:2.0
PRODID:-//Cypress College - ECPv6.15.7//NONSGML v1.0//EN
CALSCALE:GREGORIAN
METHOD:PUBLISH
X-WR-CALNAME:Cypress College
X-ORIGINAL-URL:https://www.cypresscollege.edu
X-WR-CALDESC:Events for Cypress College
REFRESH-INTERVAL;VALUE=DURATION:PT1H
X-Robots-Tag:noindex
X-PUBLISHED-TTL:PT1H
BEGIN:VTIMEZONE
TZID:America/Los_Angeles
BEGIN:DAYLIGHT
TZOFFSETFROM:-0800
TZOFFSETTO:-0700
TZNAME:PDT
DTSTART:20210314T100000
END:DAYLIGHT
BEGIN:STANDARD
TZOFFSETFROM:-0700
TZOFFSETTO:-0800
TZNAME:PST
DTSTART:20211107T090000
END:STANDARD
BEGIN:DAYLIGHT
TZOFFSETFROM:-0800
TZOFFSETTO:-0700
TZNAME:PDT
DTSTART:20220313T100000
END:DAYLIGHT
BEGIN:STANDARD
TZOFFSETFROM:-0700
TZOFFSETTO:-0800
TZNAME:PST
DTSTART:20221106T090000
END:STANDARD
BEGIN:DAYLIGHT
TZOFFSETFROM:-0800
TZOFFSETTO:-0700
TZNAME:PDT
DTSTART:20230312T100000
END:DAYLIGHT
BEGIN:STANDARD
TZOFFSETFROM:-0700
TZOFFSETTO:-0800
TZNAME:PST
DTSTART:20231105T090000
END:STANDARD
END:VTIMEZONE
BEGIN:VEVENT
DTSTART;TZID=America/Los_Angeles:20221026T110000
DTEND;TZID=America/Los_Angeles:20221026T150000
DTSTAMP:20260421T155037
CREATED:20221013T200005Z
LAST-MODIFIED:20221013T200005Z
UID:51492-1666782000-1666796400@www.cypresscollege.edu
SUMMARY:Flu Vaccine Clinic
DESCRIPTION:FREE flu vaccines for students\, staff\, faculty\, and surrounding communities! The clinic is open October 26 from 11 a.m. to 3 p.m. in NOCE Building 18\, Room 118. Bring your student/employee ID with you. Anyone under 18 needs a parent or legal guardian to provide consent. \nQuestions? Call the Health Center direct line at (714) 484-7361.
URL:https://www.cypresscollege.edu/event/flu-vaccine-clinic/
LOCATION:9200 Valley View St.\, Cypress\, CA\, 90630\, United States
CATEGORIES:Health Center
ATTACH;FMTTYPE=image/jpeg:https://www.cypresscollege.edu/wp-content/uploads/Event_Featured_Flu-Vaccine-Clinic-scaled.jpg
END:VEVENT
END:VCALENDAR