BEGIN:VCALENDAR
VERSION:2.0
PRODID:-//Cypress College - ECPv6.15.7//NONSGML v1.0//EN
CALSCALE:GREGORIAN
METHOD:PUBLISH
X-WR-CALNAME:Cypress College
X-ORIGINAL-URL:https://www.cypresscollege.edu
X-WR-CALDESC:Events for Cypress College
REFRESH-INTERVAL;VALUE=DURATION:PT1H
X-Robots-Tag:noindex
X-PUBLISHED-TTL:PT1H
BEGIN:VTIMEZONE
TZID:America/Los_Angeles
BEGIN:DAYLIGHT
TZOFFSETFROM:-0800
TZOFFSETTO:-0700
TZNAME:PDT
DTSTART:20210314T100000
END:DAYLIGHT
BEGIN:STANDARD
TZOFFSETFROM:-0700
TZOFFSETTO:-0800
TZNAME:PST
DTSTART:20211107T090000
END:STANDARD
BEGIN:DAYLIGHT
TZOFFSETFROM:-0800
TZOFFSETTO:-0700
TZNAME:PDT
DTSTART:20220313T100000
END:DAYLIGHT
BEGIN:STANDARD
TZOFFSETFROM:-0700
TZOFFSETTO:-0800
TZNAME:PST
DTSTART:20221106T090000
END:STANDARD
BEGIN:DAYLIGHT
TZOFFSETFROM:-0800
TZOFFSETTO:-0700
TZNAME:PDT
DTSTART:20230312T100000
END:DAYLIGHT
BEGIN:STANDARD
TZOFFSETFROM:-0700
TZOFFSETTO:-0800
TZNAME:PST
DTSTART:20231105T090000
END:STANDARD
END:VTIMEZONE
BEGIN:VEVENT
DTSTART;VALUE=DATE:20221109
DTEND;VALUE=DATE:20221201
DTSTAMP:20260419T091925
CREATED:20221109T214940Z
LAST-MODIFIED:20221109T214940Z
UID:52215-1667952000-1669852799@www.cypresscollege.edu
SUMMARY:Blanket & Jacket Drive
DESCRIPTION:Donate today to the Associated Students’ Blanket & Jacket Drive! We accept new and old blankets\, jackets\, and clothing to be donated to those in need. \nThe drive is happening November 9 through November 30. \nDonation boxes are located at the entrance of each building on campus. \nFind your nearest bin today!
URL:https://www.cypresscollege.edu/event/blanket-jacket-drive/
LOCATION:9200 Valley View St.\, Cypress\, CA\, 90630\, United States
CATEGORIES:Associated Students
ATTACH;FMTTYPE=image/jpeg:https://www.cypresscollege.edu/wp-content/uploads/Event_Featured_Blanket-Jacket-Drive-AS.jpg
END:VEVENT
BEGIN:VEVENT
DTSTART;VALUE=DATE:20221109
DTEND;VALUE=DATE:20221117
DTSTAMP:20260419T091925
CREATED:20221109T220128Z
LAST-MODIFIED:20221109T220128Z
UID:52218-1667952000-1668643199@www.cypresscollege.edu
SUMMARY:Thanksgiving Food Drive
DESCRIPTION:Cypress College Associated Students presents our Thanksgiving Food Drive. Held November 9–16\, the food drive accepts donations of non-perishable food in jars and cans\, as well as packaged. Recommended items include mashed potatoes\, stuffing\, gravy\, cranberries\, chicken broth\, mac & cheese\, canned vegetables\, canned fruit\, pumpkin pie mix\, pie crust/mix\, evaporated milk\, sweet potatoes\, pasta/rice\, quick bread mix\, biscuit/roll mix\, dessert. Make someone’s Thanksgiving a special one by donating to those in need. Find your nearest bin around campus!
URL:https://www.cypresscollege.edu/event/thanksgiving-food-drive/
LOCATION:9200 Valley View St.\, Cypress\, CA\, 90630\, United States
CATEGORIES:Associated Students
ATTACH;FMTTYPE=image/jpeg:https://www.cypresscollege.edu/wp-content/uploads/Event_Featured_AS_Thanksgiving-Food-Drive.jpg
END:VEVENT
BEGIN:VEVENT
DTSTART;TZID=America/Los_Angeles:20221109T100000
DTEND;TZID=America/Los_Angeles:20221109T140000
DTSTAMP:20260419T091925
CREATED:20221102T223925Z
LAST-MODIFIED:20221102T223925Z
UID:51972-1667988000-1668002400@www.cypresscollege.edu
SUMMARY:COVID Vaccine Clinic
DESCRIPTION:A COVID vaccine clinic will be held on campus 11/9 & 11/16 from 10 a.m. – 2 p.m. near the NOCE building [building 18]. All COVID vaccine types and Bivalent Booster will be available\, free of charge. If you’re under 18 years of age\, a parent must be present for consent. Our campus and surrounding community are welcome to participate.
URL:https://www.cypresscollege.edu/event/covid-vaccine-clinic/2022-11-09/
LOCATION:9200 Valley View St.\, Cypress\, CA\, 90630\, United States
CATEGORIES:Health Center
ATTACH;FMTTYPE=image/png:https://www.cypresscollege.edu/wp-content/uploads/Event_Featured_COVID-Clinics.png
END:VEVENT
BEGIN:VEVENT
DTSTART;TZID=America/Los_Angeles:20221109T130000
DTEND;TZID=America/Los_Angeles:20221109T150000
DTSTAMP:20260419T091925
CREATED:20221101T232046Z
LAST-MODIFIED:20221102T185439Z
UID:51943-1667998800-1668006000@www.cypresscollege.edu
SUMMARY:Women Veterans Celebration
DESCRIPTION:  \nThe  Cypress College VRC is partnering with Strong Families\, Strong Children to celebrate and honor Women Veterans!\nFood will be provided.\nPlease RSVP by November 4\nLocation: Veterans Resource Center Patio\, Building 8\nContact for more information (714) 484-7150
URL:https://www.cypresscollege.edu/event/women-veterans-celebration/
LOCATION:9200 Valley View St.\, Cypress\, CA\, 90630\, United States
CATEGORIES:Veterans Resource Center
END:VEVENT
END:VCALENDAR