BEGIN:VCALENDAR
VERSION:2.0
PRODID:-//Cypress College - ECPv6.15.7//NONSGML v1.0//EN
CALSCALE:GREGORIAN
METHOD:PUBLISH
X-WR-CALNAME:Cypress College
X-ORIGINAL-URL:https://www.cypresscollege.edu
X-WR-CALDESC:Events for Cypress College
REFRESH-INTERVAL;VALUE=DURATION:PT1H
X-Robots-Tag:noindex
X-PUBLISHED-TTL:PT1H
BEGIN:VTIMEZONE
TZID:America/Los_Angeles
BEGIN:DAYLIGHT
TZOFFSETFROM:-0800
TZOFFSETTO:-0700
TZNAME:PDT
DTSTART:20220313T100000
END:DAYLIGHT
BEGIN:STANDARD
TZOFFSETFROM:-0700
TZOFFSETTO:-0800
TZNAME:PST
DTSTART:20221106T090000
END:STANDARD
BEGIN:DAYLIGHT
TZOFFSETFROM:-0800
TZOFFSETTO:-0700
TZNAME:PDT
DTSTART:20230312T100000
END:DAYLIGHT
BEGIN:STANDARD
TZOFFSETFROM:-0700
TZOFFSETTO:-0800
TZNAME:PST
DTSTART:20231105T090000
END:STANDARD
BEGIN:DAYLIGHT
TZOFFSETFROM:-0800
TZOFFSETTO:-0700
TZNAME:PDT
DTSTART:20240310T100000
END:DAYLIGHT
BEGIN:STANDARD
TZOFFSETFROM:-0700
TZOFFSETTO:-0800
TZNAME:PST
DTSTART:20241103T090000
END:STANDARD
END:VTIMEZONE
BEGIN:VEVENT
DTSTART;VALUE=DATE:20230501
DTEND;VALUE=DATE:20230502
DTSTAMP:20260421T182511
CREATED:20230424T175727Z
LAST-MODIFIED:20230424T181409Z
UID:54859-1682899200-1682985599@www.cypresscollege.edu
SUMMARY:Last Day to Order Caps and Gowns
DESCRIPTION:Order your regalia!\nTo participate in the commencement ceremony\, graduates MUST purchase an academic regalia (cap\, gown\, and tassel) package online and have it shipped directly to them. The deadline to do so is May 1\, 2023.
URL:https://www.cypresscollege.edu/event/last-day-to-order-caps-and-gowns-online/
LOCATION:9200 Valley View St.\, Cypress\, CA\, 90630\, United States
CATEGORIES:Graduation
END:VEVENT
BEGIN:VEVENT
DTSTART;TZID=America/Los_Angeles:20230501T083000
DTEND;TZID=America/Los_Angeles:20230501T180000
DTSTAMP:20260421T182511
CREATED:20230424T175545Z
LAST-MODIFIED:20230424T175545Z
UID:54850-1682929800-1682964000@www.cypresscollege.edu
SUMMARY:Graduation Stole Distribution
DESCRIPTION:Are you graduating this semester? Stole distribution will take place May 1 through May 11 during Student Life and Leadership hours. Those hours are Monday through Thursday from 8:30 a.m. to 6 p.m. \nAlso\, as a reminder that the last day to place your order for cap and gowns online is May 1.
URL:https://www.cypresscollege.edu/event/graduation-stole-distribution/2023-05-01/
LOCATION:9200 Valley View St.\, Cypress\, CA\, 90630\, United States
CATEGORIES:Graduation
END:VEVENT
END:VCALENDAR