BEGIN:VCALENDAR
VERSION:2.0
PRODID:-//Cypress College - ECPv6.15.7//NONSGML v1.0//EN
CALSCALE:GREGORIAN
METHOD:PUBLISH
X-ORIGINAL-URL:https://www.cypresscollege.edu
X-WR-CALDESC:Events for Cypress College
REFRESH-INTERVAL;VALUE=DURATION:PT1H
X-Robots-Tag:noindex
X-PUBLISHED-TTL:PT1H
BEGIN:VTIMEZONE
TZID:America/Los_Angeles
BEGIN:DAYLIGHT
TZOFFSETFROM:-0800
TZOFFSETTO:-0700
TZNAME:PDT
DTSTART:20230312T100000
END:DAYLIGHT
BEGIN:STANDARD
TZOFFSETFROM:-0700
TZOFFSETTO:-0800
TZNAME:PST
DTSTART:20231105T090000
END:STANDARD
BEGIN:DAYLIGHT
TZOFFSETFROM:-0800
TZOFFSETTO:-0700
TZNAME:PDT
DTSTART:20240310T100000
END:DAYLIGHT
BEGIN:STANDARD
TZOFFSETFROM:-0700
TZOFFSETTO:-0800
TZNAME:PST
DTSTART:20241103T090000
END:STANDARD
BEGIN:DAYLIGHT
TZOFFSETFROM:-0800
TZOFFSETTO:-0700
TZNAME:PDT
DTSTART:20250309T100000
END:DAYLIGHT
BEGIN:STANDARD
TZOFFSETFROM:-0700
TZOFFSETTO:-0800
TZNAME:PST
DTSTART:20251102T090000
END:STANDARD
END:VTIMEZONE
BEGIN:VEVENT
DTSTART;TZID=America/Los_Angeles:20240213T114500
DTEND;TZID=America/Los_Angeles:20240213T130000
DTSTAMP:20260420T213039
CREATED:20240212T221354Z
LAST-MODIFIED:20240212T221354Z
UID:59288-1707824700-1707829200@www.cypresscollege.edu
SUMMARY:Mardi Gras Parade
DESCRIPTION:Join us for our annual Mardi Gras Parade! It’s happening Tuesday\, February 13. Meet at the flagpole at 11:45 a.m. Parade will commence at 12 noon. Wear your Mardi Gras attire! \nPresided by: \nPresident Thayer\, Vice President Reiland\, Vice President Schoonmaker\, Dean Dower\, Dean Cassens\, Dean Preston \nSponsored by: \nThe Black History Month Committee \nDance Department and Music Department
URL:https://www.cypresscollege.edu/event/mardi-gras-parade-3/
LOCATION:9200 Valley View St.\, Cypress\, CA\, 90630\, United States
CATEGORIES:Cultural
ATTACH;FMTTYPE=image/jpeg:https://www.cypresscollege.edu/wp-content/uploads/mardi-gras.jpg
END:VEVENT
BEGIN:VEVENT
DTSTART;TZID=America/Los_Angeles:20240213T143000
DTEND;TZID=America/Los_Angeles:20240213T173000
DTSTAMP:20260420T213039
CREATED:20240212T195904Z
LAST-MODIFIED:20240212T195904Z
UID:59102-1707834600-1707845400@www.cypresscollege.edu
SUMMARY:DSS Math Tutoring
DESCRIPTION:Math tutoring sessions (1/2 hour) are available to currently registered DSS students. \n\n\n\n\nSubject\nDay and Time\nLocation\n\n\nMath (stats\, algebra\, calculus)\nTuesdays\, 2:30 –5:30 p.m.\nWednesdays\, 12–3 p.m.\nThursdays\, 1:30–5:30 p.m.\nDSS Computer Lab
URL:https://www.cypresscollege.edu/event/dss-math-tutoring/2024-02-13/
LOCATION:9200 Valley View St.\, Cypress\, CA\, 90630\, United States
CATEGORIES:DSS
END:VEVENT
END:VCALENDAR