BEGIN:VCALENDAR
VERSION:2.0
PRODID:-//Cypress College - ECPv6.15.7//NONSGML v1.0//EN
CALSCALE:GREGORIAN
METHOD:PUBLISH
X-WR-CALNAME:Cypress College
X-ORIGINAL-URL:https://www.cypresscollege.edu
X-WR-CALDESC:Events for Cypress College
REFRESH-INTERVAL;VALUE=DURATION:PT1H
X-Robots-Tag:noindex
X-PUBLISHED-TTL:PT1H
BEGIN:VTIMEZONE
TZID:America/Los_Angeles
BEGIN:DAYLIGHT
TZOFFSETFROM:-0800
TZOFFSETTO:-0700
TZNAME:PDT
DTSTART:20240310T100000
END:DAYLIGHT
BEGIN:STANDARD
TZOFFSETFROM:-0700
TZOFFSETTO:-0800
TZNAME:PST
DTSTART:20241103T090000
END:STANDARD
BEGIN:DAYLIGHT
TZOFFSETFROM:-0800
TZOFFSETTO:-0700
TZNAME:PDT
DTSTART:20250309T100000
END:DAYLIGHT
BEGIN:STANDARD
TZOFFSETFROM:-0700
TZOFFSETTO:-0800
TZNAME:PST
DTSTART:20251102T090000
END:STANDARD
BEGIN:DAYLIGHT
TZOFFSETFROM:-0800
TZOFFSETTO:-0700
TZNAME:PDT
DTSTART:20260308T100000
END:DAYLIGHT
BEGIN:STANDARD
TZOFFSETFROM:-0700
TZOFFSETTO:-0800
TZNAME:PST
DTSTART:20261101T090000
END:STANDARD
END:VTIMEZONE
BEGIN:VEVENT
DTSTART;VALUE=DATE:20250312
DTEND;VALUE=DATE:20250614
DTSTAMP:20260419T071235
CREATED:20250312T160650Z
LAST-MODIFIED:20250312T160812Z
UID:65318-1741737600-1749859199@www.cypresscollege.edu
SUMMARY:Sole Image Call for Entries
DESCRIPTION:The creative arts journal “Sole Image\,” from the English Department\, is accepting submissions in prose\, poetry\, visual arts\, music\, and more from any current Cypress College student. The submission window is open until midnight\, June 13. \nGenre Guidelines: \nProse can include fiction\, flash fiction\, creative nonfiction\, and other prose. Word count should be less than 3\,000 words. Up to two pieces can be submitted for this genre. (Please submit as a .doc file.) \nPoetry can include freestyle\, sonnets\, elegies\, etc. Up to three pieces can be submitted for this genre; please format and submit as a single document. Total word count submission for poetry should be less than 3\,000 words. (Please submit as a .doc file.) \nMusic can include music videos\, audio recordings\, song lyrics\, etc. Up to one piece can be submitted for this genre. \nVisual Arts can include photography\, art pieces\, videos\, dance/theatre\, animation\, etc. Up to three static pieces can be submitted for this genre (images of paintings and ceramics for example); up to one motion piece can be submitted for this genre. \nAll pieces are expected to be at the final stages of editing and completed by time of submission. Click here for more information and for the form to submit work. \nFor questions\, please reach out to soleimage@cypresscollege.edu.
URL:https://www.cypresscollege.edu/event/sole-image-call-for-entries/
LOCATION:9200 Valley View St.\, Cypress\, CA\, 90630\, United States
ATTACH;FMTTYPE=image/jpeg:https://www.cypresscollege.edu/wp-content/uploads/FB_Sole-Image-Spring-25.jpg
END:VEVENT
BEGIN:VEVENT
DTSTART;VALUE=DATE:20250409
DTEND;VALUE=DATE:20250901
DTSTAMP:20260419T071235
CREATED:20250411T181214Z
LAST-MODIFIED:20250411T181214Z
UID:65745-1744156800-1756684799@www.cypresscollege.edu
SUMMARY:The Collective Self
DESCRIPTION:The Collective Self is a showcase of Cypress College Visual and Performing Arts Division’s student works. Visit this gallery of student artwork\, photography\, and the celebration of the arts with dance and a choral performance. \nThis exhibit is at the John Wayne Airport at Baggage Claim A & B. \nThere will be a live performance May 16 at 11 a.m.
URL:https://www.cypresscollege.edu/event/the-collective-self/
LOCATION:9200 Valley View St.\, Cypress\, CA\, 90630\, United States
CATEGORIES:Art
END:VEVENT
BEGIN:VEVENT
DTSTART;VALUE=DATE:20250428
DTEND;VALUE=DATE:20250429
DTSTAMP:20260419T071235
CREATED:20250312T203551Z
LAST-MODIFIED:20250312T203551Z
UID:65338-1745798400-1745884799@www.cypresscollege.edu
SUMMARY:First Day to Apply for Summer 2025 Graduation
DESCRIPTION:
URL:https://www.cypresscollege.edu/event/first-day-to-apply-for-summer-2025-graduation/
LOCATION:9200 Valley View St.\, Cypress\, CA\, 90630\, United States
CATEGORIES:Important Dates to Remember
END:VEVENT
BEGIN:VEVENT
DTSTART;VALUE=DATE:20250428
DTEND;VALUE=DATE:20250429
DTSTAMP:20260419T071235
CREATED:20250312T203627Z
LAST-MODIFIED:20250312T203627Z
UID:65340-1745798400-1745884799@www.cypresscollege.edu
SUMMARY:First Day to Apply for Summer 2025 Vocational Certificates
DESCRIPTION:
URL:https://www.cypresscollege.edu/event/first-day-to-apply-for-summer-2025-vocational-certificates/
LOCATION:9200 Valley View St.\, Cypress\, CA\, 90630\, United States
CATEGORIES:Important Dates to Remember
END:VEVENT
BEGIN:VEVENT
DTSTART;TZID=America/Los_Angeles:20250428T100000
DTEND;TZID=America/Los_Angeles:20250428T150000
DTSTAMP:20260419T071235
CREATED:20250201T001050Z
LAST-MODIFIED:20250201T001050Z
UID:64632-1745834400-1745852400@www.cypresscollege.edu
SUMMARY:Career Closet
DESCRIPTION:Get FREE professional wear at CCCPLX-215\, Monday–Thursday\, 10 a.m.–3 p.m. or by appointment. For information or to make an appointment\, email the Career Center at careercenter@cypresscollege.edu. The Career Center can also be reached via phone at (714) 484-7120. \nThe Career Closet provides Cypress College students a FREE professional outfit each academic year for interviews\, networking\, or special events. \nThe professional clothes are donated by the campus community and include dress shirts\, dresses\, pants\, blazers\, shirts\, ties\, and more!
URL:https://www.cypresscollege.edu/event/career-closet/2025-04-28/
LOCATION:9200 Valley View St.\, Cypress\, CA\, 90630\, United States
CATEGORIES:Career Planning Center
END:VEVENT
BEGIN:VEVENT
DTSTART;TZID=America/Los_Angeles:20250428T140000
DTEND;TZID=America/Los_Angeles:20250428T150000
DTSTAMP:20260419T071235
CREATED:20250128T195317Z
LAST-MODIFIED:20250128T195317Z
UID:64521-1745848800-1745852400@www.cypresscollege.edu
SUMMARY:Neurodiversity Club
DESCRIPTION:Neurodiversity Club meets in the ARISE Lab (BUS-119) at 2–3 p.m. on the following dates: \n\n2/10/25\n2/24/25\n3/10/25\n3/24/25\n4/14/25\n4/28/25\n5/12/25
URL:https://www.cypresscollege.edu/event/neurodiversity-club/2025-04-28/
LOCATION:9200 Valley View St.\, Cypress\, CA\, 90630\, United States
CATEGORIES:Clubs,DSS
END:VEVENT
BEGIN:VEVENT
DTSTART;TZID=America/Los_Angeles:20250428T150000
DTEND;TZID=America/Los_Angeles:20250428T180000
DTSTAMP:20260419T071235
CREATED:20250325T211845Z
LAST-MODIFIED:20250325T211845Z
UID:65572-1745852400-1745863200@www.cypresscollege.edu
SUMMARY:RISE Youth Program Movie Night (Documentary and Musical)
DESCRIPTION:The NOCCCD RISE Youth Program is hosting an upcoming event on April 28\, 2025\, from 3-6 p.m. in CCCPLX-216: Documentary Screening: Songs from the Hole. \nThis event is open to all who want to attend. This event will be “movie themed” so it will consist of popcorn\, snacks\, drinks\, and Jersey Mikes! All information is listed below. If you can make it\, make sure to RSVP with the link provided below to ensure that we have enough food to feed everyone. \nUpcoming RISE Program Documentary screening: \n\nWhat: Songs from the Hole tells the story of a young boy (James “JJ’88” Jacobs) who\, at the age of 15\, took a life. Three days later\, his brother’s life was taken. The film showcases JJ’88’s story\, as an incarcerated musician struggling for healing and peace as he comes of age in this documentary visual album composed behind bars. With special live performance by JJ’88 after the documentary showing!\nWhen: Monday\, April 28 3- 6 p.m.\nWhere: CC Campus: CCCPLX-216 (Pancake Breakfast location)\nRSVP: Songs from the Hole RSVP link\n\nAccommodation requests related to a disability should be directed to Cynthia Blake at cblake@cypresscollege.edu at least five days prior to the event.
URL:https://www.cypresscollege.edu/event/rise-youth-program-movie-night-documentary-and-musical/
LOCATION:9200 Valley View St.\, Cypress\, CA\, 90630\, United States
CATEGORIES:District,Rising Scholars
END:VEVENT
END:VCALENDAR