BEGIN:VCALENDAR
VERSION:2.0
PRODID:-//Cypress College - ECPv6.15.7//NONSGML v1.0//EN
CALSCALE:GREGORIAN
METHOD:PUBLISH
X-WR-CALNAME:Cypress College
X-ORIGINAL-URL:https://www.cypresscollege.edu
X-WR-CALDESC:Events for Cypress College
REFRESH-INTERVAL;VALUE=DURATION:PT1H
X-Robots-Tag:noindex
X-PUBLISHED-TTL:PT1H
BEGIN:VTIMEZONE
TZID:America/Los_Angeles
BEGIN:DAYLIGHT
TZOFFSETFROM:-0800
TZOFFSETTO:-0700
TZNAME:PDT
DTSTART:20160313T100000
END:DAYLIGHT
BEGIN:STANDARD
TZOFFSETFROM:-0700
TZOFFSETTO:-0800
TZNAME:PST
DTSTART:20161106T090000
END:STANDARD
BEGIN:DAYLIGHT
TZOFFSETFROM:-0800
TZOFFSETTO:-0700
TZNAME:PDT
DTSTART:20170312T100000
END:DAYLIGHT
BEGIN:STANDARD
TZOFFSETFROM:-0700
TZOFFSETTO:-0800
TZNAME:PST
DTSTART:20171105T090000
END:STANDARD
BEGIN:DAYLIGHT
TZOFFSETFROM:-0800
TZOFFSETTO:-0700
TZNAME:PDT
DTSTART:20180311T100000
END:DAYLIGHT
BEGIN:STANDARD
TZOFFSETFROM:-0700
TZOFFSETTO:-0800
TZNAME:PST
DTSTART:20181104T090000
END:STANDARD
END:VTIMEZONE
BEGIN:VEVENT
DTSTART;VALUE=DATE:20171101
DTEND;VALUE=DATE:20171102
DTSTAMP:20260419T145055
CREATED:20170829T164336Z
LAST-MODIFIED:20170829T170025Z
UID:9031-1509494400-1509580799@www.cypresscollege.edu
SUMMARY:Food Collection for Baskets
DESCRIPTION:AS members set out Big decorated boxes all over campus in hope to get donations for their annual  Thanksgiving baskets. One can nominate a person in need of a basket in the Student Activities room.
URL:https://www.cypresscollege.edu/event/food-collection-for-baskets/
LOCATION:Cypress College\, 9200 Valley View St.\, Cypress\, CA\, 90630\, United States
CATEGORIES:Associated Students
GEO:33.8280924;-118.0252758
X-APPLE-STRUCTURED-LOCATION;VALUE=URI;X-ADDRESS=Cypress College 9200 Valley View St. Cypress CA 90630 United States;X-APPLE-RADIUS=500;X-TITLE=9200 Valley View St.:geo:-118.0252758,33.8280924
END:VEVENT
BEGIN:VEVENT
DTSTART;VALUE=DATE:20171115
DTEND;VALUE=DATE:20171116
DTSTAMP:20260419T145055
CREATED:20170829T164223Z
LAST-MODIFIED:20171003T183459Z
UID:9027-1510704000-1510790399@www.cypresscollege.edu
SUMMARY:Donate a Day of Service
DESCRIPTION:Donate A Day of Service is an event where multiple non profit organizations get together to recruit Cypress College volunteers by the pond. This event is very hands on. Students can help make sandwiches for the homeless\, write veterans letters and sign up to feed the less fortunate on Thanksgiving and  much more. This event allows students to give back to the community and those in need.
URL:https://www.cypresscollege.edu/event/donate-a-day-of-service/
LOCATION:Cypress College\, 9200 Valley View St.\, Cypress\, CA\, 90630\, United States
CATEGORIES:Associated Students
GEO:33.8280924;-118.0252758
X-APPLE-STRUCTURED-LOCATION;VALUE=URI;X-ADDRESS=Cypress College 9200 Valley View St. Cypress CA 90630 United States;X-APPLE-RADIUS=500;X-TITLE=9200 Valley View St.:geo:-118.0252758,33.8280924
END:VEVENT
BEGIN:VEVENT
DTSTART;VALUE=DATE:20171120
DTEND;VALUE=DATE:20171121
DTSTAMP:20260419T145055
CREATED:20170829T164418Z
LAST-MODIFIED:20170829T170110Z
UID:9033-1511136000-1511222399@www.cypresscollege.edu
SUMMARY:Basket Distribution
DESCRIPTION:AS distributes baskets with a large turkey\, stuffing\, and  along with many other Thanksgiving goods to those who need some holiday help!
URL:https://www.cypresscollege.edu/event/basket-distribution/2017-11-20/
LOCATION:Cypress College\, 9200 Valley View St.\, Cypress\, CA\, 90630\, United States
CATEGORIES:Associated Students
GEO:33.8280924;-118.0252758
X-APPLE-STRUCTURED-LOCATION;VALUE=URI;X-ADDRESS=Cypress College 9200 Valley View St. Cypress CA 90630 United States;X-APPLE-RADIUS=500;X-TITLE=9200 Valley View St.:geo:-118.0252758,33.8280924
END:VEVENT
END:VCALENDAR