BEGIN:VCALENDAR
VERSION:2.0
PRODID:-//Cypress College - ECPv6.15.7//NONSGML v1.0//EN
CALSCALE:GREGORIAN
METHOD:PUBLISH
X-WR-CALNAME:Cypress College
X-ORIGINAL-URL:https://www.cypresscollege.edu
X-WR-CALDESC:Events for Cypress College
REFRESH-INTERVAL;VALUE=DURATION:PT1H
X-Robots-Tag:noindex
X-PUBLISHED-TTL:PT1H
BEGIN:VTIMEZONE
TZID:America/Los_Angeles
BEGIN:DAYLIGHT
TZOFFSETFROM:-0800
TZOFFSETTO:-0700
TZNAME:PDT
DTSTART:20160313T100000
END:DAYLIGHT
BEGIN:STANDARD
TZOFFSETFROM:-0700
TZOFFSETTO:-0800
TZNAME:PST
DTSTART:20161106T090000
END:STANDARD
BEGIN:DAYLIGHT
TZOFFSETFROM:-0800
TZOFFSETTO:-0700
TZNAME:PDT
DTSTART:20170312T100000
END:DAYLIGHT
BEGIN:STANDARD
TZOFFSETFROM:-0700
TZOFFSETTO:-0800
TZNAME:PST
DTSTART:20171105T090000
END:STANDARD
BEGIN:DAYLIGHT
TZOFFSETFROM:-0800
TZOFFSETTO:-0700
TZNAME:PDT
DTSTART:20180311T100000
END:DAYLIGHT
BEGIN:STANDARD
TZOFFSETFROM:-0700
TZOFFSETTO:-0800
TZNAME:PST
DTSTART:20181104T090000
END:STANDARD
END:VTIMEZONE
BEGIN:VEVENT
DTSTART;TZID=America/Los_Angeles:20170207T113000
DTEND;TZID=America/Los_Angeles:20170207T133000
DTSTAMP:20260420T053914
CREATED:20170206T232749Z
LAST-MODIFIED:20170206T232749Z
UID:5831-1486467000-1486474200@www.cypresscollege.edu
SUMMARY:Welcome Back
DESCRIPTION:Join Associated Students at their Welcome Back event to celebrate the beginning of the spring semester. There will be pizza and punch\, games\, music and fun! \nWhen: Tues.\, Feb. 7 & Wed.\, Feb. 8 \nWhere: The Pond* \n*If raining\, event will be held in front of the Student Activities Center
URL:https://www.cypresscollege.edu/event/welcome-back/
LOCATION:9200 Valley View St.\, Cypress\, CA\, 90630\, United States
CATEGORIES:Associated Students
ATTACH;FMTTYPE=image/png:https://www.cypresscollege.edu/wp-content/uploads/untitled.png
END:VEVENT
END:VCALENDAR