BEGIN:VCALENDAR
VERSION:2.0
PRODID:-//Cypress College - ECPv6.15.7//NONSGML v1.0//EN
CALSCALE:GREGORIAN
METHOD:PUBLISH
X-WR-CALNAME:Cypress College
X-ORIGINAL-URL:https://www.cypresscollege.edu
X-WR-CALDESC:Events for Cypress College
REFRESH-INTERVAL;VALUE=DURATION:PT1H
X-Robots-Tag:noindex
X-PUBLISHED-TTL:PT1H
BEGIN:VTIMEZONE
TZID:America/Los_Angeles
BEGIN:DAYLIGHT
TZOFFSETFROM:-0800
TZOFFSETTO:-0700
TZNAME:PDT
DTSTART:20160313T100000
END:DAYLIGHT
BEGIN:STANDARD
TZOFFSETFROM:-0700
TZOFFSETTO:-0800
TZNAME:PST
DTSTART:20161106T090000
END:STANDARD
BEGIN:DAYLIGHT
TZOFFSETFROM:-0800
TZOFFSETTO:-0700
TZNAME:PDT
DTSTART:20170312T100000
END:DAYLIGHT
BEGIN:STANDARD
TZOFFSETFROM:-0700
TZOFFSETTO:-0800
TZNAME:PST
DTSTART:20171105T090000
END:STANDARD
BEGIN:DAYLIGHT
TZOFFSETFROM:-0800
TZOFFSETTO:-0700
TZNAME:PDT
DTSTART:20180311T100000
END:DAYLIGHT
BEGIN:STANDARD
TZOFFSETFROM:-0700
TZOFFSETTO:-0800
TZNAME:PST
DTSTART:20181104T090000
END:STANDARD
END:VTIMEZONE
BEGIN:VEVENT
DTSTART;TZID=America/Los_Angeles:20170905T113000
DTEND;TZID=America/Los_Angeles:20170905T133000
DTSTAMP:20260419T191333
CREATED:20170829T163136Z
LAST-MODIFIED:20170829T165250Z
UID:9013-1504611000-1504618200@www.cypresscollege.edu
SUMMARY:Welcome Back
DESCRIPTION:Welcome Back is an event where we give a huge welcome to the new academic school year and the returning students. We celebrate the upcoming year by giving out burgers\, chips and refreshments for FREE! There is also games and prizes. This event is key to getting an overview of  the student life here at Cypress College. The bridge by the pond is filled with good music and good vibes and Cypress Charger Pride! \n  \nLocation: the Pond Area
URL:https://www.cypresscollege.edu/event/welcome-back-3/2017-09-05/
LOCATION:CA
CATEGORIES:Associated Students
END:VEVENT
END:VCALENDAR