BEGIN:VCALENDAR
VERSION:2.0
PRODID:-//Cypress College - ECPv6.15.7//NONSGML v1.0//EN
CALSCALE:GREGORIAN
METHOD:PUBLISH
X-ORIGINAL-URL:https://www.cypresscollege.edu
X-WR-CALDESC:Events for Cypress College
REFRESH-INTERVAL;VALUE=DURATION:PT1H
X-Robots-Tag:noindex
X-PUBLISHED-TTL:PT1H
BEGIN:VTIMEZONE
TZID:America/Los_Angeles
BEGIN:DAYLIGHT
TZOFFSETFROM:-0800
TZOFFSETTO:-0700
TZNAME:PDT
DTSTART:20160313T100000
END:DAYLIGHT
BEGIN:STANDARD
TZOFFSETFROM:-0700
TZOFFSETTO:-0800
TZNAME:PST
DTSTART:20161106T090000
END:STANDARD
BEGIN:DAYLIGHT
TZOFFSETFROM:-0800
TZOFFSETTO:-0700
TZNAME:PDT
DTSTART:20170312T100000
END:DAYLIGHT
BEGIN:STANDARD
TZOFFSETFROM:-0700
TZOFFSETTO:-0800
TZNAME:PST
DTSTART:20171105T090000
END:STANDARD
BEGIN:DAYLIGHT
TZOFFSETFROM:-0800
TZOFFSETTO:-0700
TZNAME:PDT
DTSTART:20180311T100000
END:DAYLIGHT
BEGIN:STANDARD
TZOFFSETFROM:-0700
TZOFFSETTO:-0800
TZNAME:PST
DTSTART:20181104T090000
END:STANDARD
END:VTIMEZONE
BEGIN:VEVENT
DTSTART;VALUE=DATE:20171120
DTEND;VALUE=DATE:20171121
DTSTAMP:20260419T213136
CREATED:20170829T164418Z
LAST-MODIFIED:20170829T170110Z
UID:9033-1511136000-1511222399@www.cypresscollege.edu
SUMMARY:Basket Distribution
DESCRIPTION:AS distributes baskets with a large turkey\, stuffing\, and  along with many other Thanksgiving goods to those who need some holiday help!
URL:https://www.cypresscollege.edu/event/basket-distribution/2017-11-20/
LOCATION:Cypress College\, 9200 Valley View St.\, Cypress\, CA\, 90630\, United States
CATEGORIES:Associated Students
GEO:33.8280924;-118.0252758
X-APPLE-STRUCTURED-LOCATION;VALUE=URI;X-ADDRESS=Cypress College 9200 Valley View St. Cypress CA 90630 United States;X-APPLE-RADIUS=500;X-TITLE=9200 Valley View St.:geo:-118.0252758,33.8280924
END:VEVENT
END:VCALENDAR