BEGIN:VCALENDAR
VERSION:2.0
PRODID:-//Cypress College - ECPv6.15.7//NONSGML v1.0//EN
CALSCALE:GREGORIAN
METHOD:PUBLISH
X-ORIGINAL-URL:https://www.cypresscollege.edu
X-WR-CALDESC:Events for Cypress College
REFRESH-INTERVAL;VALUE=DURATION:PT1H
X-Robots-Tag:noindex
X-PUBLISHED-TTL:PT1H
BEGIN:VTIMEZONE
TZID:America/Los_Angeles
BEGIN:DAYLIGHT
TZOFFSETFROM:-0800
TZOFFSETTO:-0700
TZNAME:PDT
DTSTART:20210314T100000
END:DAYLIGHT
BEGIN:STANDARD
TZOFFSETFROM:-0700
TZOFFSETTO:-0800
TZNAME:PST
DTSTART:20211107T090000
END:STANDARD
BEGIN:DAYLIGHT
TZOFFSETFROM:-0800
TZOFFSETTO:-0700
TZNAME:PDT
DTSTART:20220313T100000
END:DAYLIGHT
BEGIN:STANDARD
TZOFFSETFROM:-0700
TZOFFSETTO:-0800
TZNAME:PST
DTSTART:20221106T090000
END:STANDARD
BEGIN:DAYLIGHT
TZOFFSETFROM:-0800
TZOFFSETTO:-0700
TZNAME:PDT
DTSTART:20230312T100000
END:DAYLIGHT
BEGIN:STANDARD
TZOFFSETFROM:-0700
TZOFFSETTO:-0800
TZNAME:PST
DTSTART:20231105T090000
END:STANDARD
END:VTIMEZONE
BEGIN:VEVENT
DTSTART;TZID=America/Los_Angeles:20220216T173000
DTEND;TZID=America/Los_Angeles:20220216T193000
DTSTAMP:20260419T101923
CREATED:20220207T222234Z
LAST-MODIFIED:20220211T234828Z
UID:46921-1645032600-1645039800@www.cypresscollege.edu
SUMMARY:The Souls of Black Folk: Being Black in the 21st Century
DESCRIPTION:Celebrate Black History Month at Cypress College by participating in this series of virtual events examining and celebrating the Black experience throughout February. \n\nWednesday\, February 16 @ 5:30–7 p.m.\nPassing Novel/Movie Discussion\nMeeting ID: 92980647121\nThursday\, February 24 @ 10–11:30 a.m.\nA Day of Expression\nMeeting ID: 84583684265\nMonday\, February 28 @ 8–10 a.m.\n“Soul” Healing Through Yoga with James Woods (“Dat Yoga Dude”)\nMeeting ID: 92052510391
URL:https://www.cypresscollege.edu/event/the-souls-of-black-folk-being-black-in-the-21st-century/2022-02-16/
LOCATION:9200 Valley View St.\, Cypress\, CA\, 90630\, United States
CATEGORIES:Black History Month,Virtual
END:VEVENT
END:VCALENDAR