BEGIN:VCALENDAR
VERSION:2.0
PRODID:-//Cypress College - ECPv6.15.7//NONSGML v1.0//EN
CALSCALE:GREGORIAN
METHOD:PUBLISH
X-ORIGINAL-URL:https://www.cypresscollege.edu
X-WR-CALDESC:Events for Cypress College
REFRESH-INTERVAL;VALUE=DURATION:PT1H
X-Robots-Tag:noindex
X-PUBLISHED-TTL:PT1H
BEGIN:VTIMEZONE
TZID:America/Los_Angeles
BEGIN:DAYLIGHT
TZOFFSETFROM:-0800
TZOFFSETTO:-0700
TZNAME:PDT
DTSTART:20170312T100000
END:DAYLIGHT
BEGIN:STANDARD
TZOFFSETFROM:-0700
TZOFFSETTO:-0800
TZNAME:PST
DTSTART:20171105T090000
END:STANDARD
BEGIN:DAYLIGHT
TZOFFSETFROM:-0800
TZOFFSETTO:-0700
TZNAME:PDT
DTSTART:20180311T100000
END:DAYLIGHT
BEGIN:STANDARD
TZOFFSETFROM:-0700
TZOFFSETTO:-0800
TZNAME:PST
DTSTART:20181104T090000
END:STANDARD
BEGIN:DAYLIGHT
TZOFFSETFROM:-0800
TZOFFSETTO:-0700
TZNAME:PDT
DTSTART:20190310T100000
END:DAYLIGHT
BEGIN:STANDARD
TZOFFSETFROM:-0700
TZOFFSETTO:-0800
TZNAME:PST
DTSTART:20191103T090000
END:STANDARD
END:VTIMEZONE
BEGIN:VEVENT
DTSTART;TZID=America/Los_Angeles:20180208T140000
DTEND;TZID=America/Los_Angeles:20180208T140000
DTSTAMP:20260419T145354
CREATED:20180202T164015Z
LAST-MODIFIED:20180202T164015Z
UID:12567-1518098400-1518098400@www.cypresscollege.edu
SUMMARY:Opening Day Ceremony
DESCRIPTION:
URL:https://www.cypresscollege.edu/event/opening-day-ceremony/
LOCATION:LLRC
CATEGORIES:Cultural
GEO:33.82842;-118.023529
END:VEVENT
BEGIN:VEVENT
DTSTART;TZID=America/Los_Angeles:20180213T114500
DTEND;TZID=America/Los_Angeles:20180213T114500
DTSTAMP:20260419T145354
CREATED:20180202T164122Z
LAST-MODIFIED:20180202T164122Z
UID:12572-1518522300-1518522300@www.cypresscollege.edu
SUMMARY:Mardi Gras
DESCRIPTION:
URL:https://www.cypresscollege.edu/event/mardi-gras/
LOCATION:CA
CATEGORIES:Cultural
END:VEVENT
BEGIN:VEVENT
DTSTART;TZID=America/Los_Angeles:20180222T183000
DTEND;TZID=America/Los_Angeles:20180222T183000
DTSTAMP:20260419T145354
CREATED:20180202T164324Z
LAST-MODIFIED:20180202T164324Z
UID:12574-1519324200-1519324200@www.cypresscollege.edu
SUMMARY:Documentary & Forum “Whose Streets?”
DESCRIPTION:This event takes place in Humanities 131. \n 
URL:https://www.cypresscollege.edu/event/documentary-forum-whose-streets/
LOCATION:CA
CATEGORIES:Cultural
ATTACH;FMTTYPE=image/jpeg:https://www.cypresscollege.edu/wp-content/uploads/Cultural-Appreciation_flyer.jpg
END:VEVENT
BEGIN:VEVENT
DTSTART;TZID=America/Los_Angeles:20180226T120000
DTEND;TZID=America/Los_Angeles:20180226T120000
DTSTAMP:20260419T145354
CREATED:20180202T164422Z
LAST-MODIFIED:20180202T164422Z
UID:12577-1519646400-1519646400@www.cypresscollege.edu
SUMMARY:InterAct & Day of Expression
DESCRIPTION:This event takes place in the Fine Arts Lobby.
URL:https://www.cypresscollege.edu/event/interact-day-of-expression/
LOCATION:CA
CATEGORIES:Cultural
ATTACH;FMTTYPE=image/jpeg:https://www.cypresscollege.edu/wp-content/uploads/Cultural-Appreciation_flyer.jpg
END:VEVENT
END:VCALENDAR