BEGIN:VCALENDAR
VERSION:2.0
PRODID:-//Cypress College - ECPv6.15.7//NONSGML v1.0//EN
CALSCALE:GREGORIAN
METHOD:PUBLISH
X-WR-CALNAME:Cypress College
X-ORIGINAL-URL:https://www.cypresscollege.edu
X-WR-CALDESC:Events for Cypress College
REFRESH-INTERVAL;VALUE=DURATION:PT1H
X-Robots-Tag:noindex
X-PUBLISHED-TTL:PT1H
BEGIN:VTIMEZONE
TZID:America/Los_Angeles
BEGIN:DAYLIGHT
TZOFFSETFROM:-0800
TZOFFSETTO:-0700
TZNAME:PDT
DTSTART:20180311T100000
END:DAYLIGHT
BEGIN:STANDARD
TZOFFSETFROM:-0700
TZOFFSETTO:-0800
TZNAME:PST
DTSTART:20181104T090000
END:STANDARD
BEGIN:DAYLIGHT
TZOFFSETFROM:-0800
TZOFFSETTO:-0700
TZNAME:PDT
DTSTART:20190310T100000
END:DAYLIGHT
BEGIN:STANDARD
TZOFFSETFROM:-0700
TZOFFSETTO:-0800
TZNAME:PST
DTSTART:20191103T090000
END:STANDARD
BEGIN:DAYLIGHT
TZOFFSETFROM:-0800
TZOFFSETTO:-0700
TZNAME:PDT
DTSTART:20200308T100000
END:DAYLIGHT
BEGIN:STANDARD
TZOFFSETFROM:-0700
TZOFFSETTO:-0800
TZNAME:PST
DTSTART:20201101T090000
END:STANDARD
END:VTIMEZONE
BEGIN:VEVENT
DTSTART;TZID=America/Los_Angeles:20190409T153000
DTEND;TZID=America/Los_Angeles:20190409T184500
DTSTAMP:20260419T181211
CREATED:20190326T221545Z
LAST-MODIFIED:20190326T221545Z
UID:24843-1554823800-1554835500@www.cypresscollege.edu
SUMMARY:Strategic Conversation #20: Student Success at its Core
DESCRIPTION:Strategic Conversations are planned\, but informal\, discussions conducted in a democratic and conversational style\, and focused on policy issues. The goal of this effort is to help our Board of Trustees thoughtfully examine what drives its policy decisions\, by involving everyone who wishes to express a point of view\, and gathering information in a less structured atmosphere than the traditional Board meeting. \nThe process provides opportunities for a positive exchange of ideas and concerns\, as well as improved decision-making among all constituencies. Anyone from the District\, and the community at large\, may participate in the Strategic Conversations\, which are aimed at maximizing dialogue among all who have an interest in the District\, establishing an environment conducive to consensus building\, and developing a spirit of teamwork. \nIt is important to note that Strategic Conversations are not designed to result in formal decision\, rather\, to develop ideas and information that may assist decision making in the future. In addition\, topics will be confined to policy\, rather than operational matters. Topics may be proposed by anyone in the District\, and will be selected by the Board Subcommittee on the basis of what seems to be of significant interest to the participants\, and the District in general. \nContact: For more information regarding Strategic Conversations\, contact the Chancellor’s Office at (714) 808-4797\, or the District Office of Public and Governmental Affairs at (714) 808-4831. \nStrategic Conversation #20 – Student Success at its Core\nTuesday\, April 9\, 2019\nFullerton College – College Center \nSchedule\n3:30–4:30 p.m.: Refreshments\n4:30–6:45 p.m.: Strategic Conversation\n(Board Business Meeting Immediately Following) \nEvent Topic\nAddressing Basic Needs with Empathy for Student Health\, Well-being\, and Success \nClick here to register!
URL:https://www.cypresscollege.edu/event/strategic-conversation-20-student-success-at-its-core/
LOCATION:9200 Valley View St.\, Cypress\, 90630\, United States
CATEGORIES:District
ATTACH;FMTTYPE=image/png:https://www.cypresscollege.edu/wp-content/uploads/2019-event-district-strategic-convo-20_87065.png
END:VEVENT
BEGIN:VEVENT
DTSTART;TZID=America/Los_Angeles:20190425T120000
DTEND;TZID=America/Los_Angeles:20190425T130000
DTSTAMP:20260419T181211
CREATED:20190405T230628Z
LAST-MODIFIED:20190405T230628Z
UID:25039-1556193600-1556197200@www.cypresscollege.edu
SUMMARY:Title IX Workshop: Sexual Misconduct on Campus
DESCRIPTION:North Orange County Community College District Policies and Title IX prohibit discrimination on the basis of sex and gender\, sexual harassment\, and sexual assault. Sexual assault includes but is not limited to rape\, domestic violence\, dating violence\, and stalking. \nUpcoming Workshops: \n\nApril 25\, 12–1 p.m.\, Cypress College in CCCPLX-414\nMay 9\, 1–2 p.m.\, Anaheim Campus in Room 105/107\n\nThese workshops are for students\, faculty\, and staff.
URL:https://www.cypresscollege.edu/event/title-ix-workshop-sexual-misconduct-on-campus-2/2019-04-25/
LOCATION:9200 Valley View St.\, Cypress\, 90630\, United States
CATEGORIES:District,Workshop
ATTACH;FMTTYPE=image/jpeg:https://www.cypresscollege.edu/wp-content/uploads/2019-Event-Title-IX.jpg
END:VEVENT
BEGIN:VEVENT
DTSTART;TZID=America/Los_Angeles:20190426T083000
DTEND;TZID=America/Los_Angeles:20190426T113000
DTSTAMP:20260419T181211
CREATED:20190405T231140Z
LAST-MODIFIED:20190405T231140Z
UID:25045-1556267400-1556278200@www.cypresscollege.edu
SUMMARY:Creating Safe and Inclusive Spaces for LGBTQ Students
DESCRIPTION:Presenter: Amber Rose González\, Ph.D.\nWhen: April 26\, 2019\, 8:30–11:30 a.m.\nWhere: Fullerton College\, Humanities\, 515 \nDescription: This workshop will provide participants with an analytical toolkit based in critical ethnic\, gender\, and queer studies. We will apply frameworks from these fields in order to better understand issues LGBTQ+ students\, staff and faculty face in higher education generally and at NOCCCD campuses specifically. This workshop will be hands-on and discussion based and will ask participants to be open\, honest\, and self-reflective in order to contribute to an engaging and liberatory learning environment. \nPresenter Bio: Amber Rose González is an Associate Professor and the Coordinator of Ethnic Studies Department at Fullerton College. Dr. González received her MA and PhD in Chicana/Chicano Studies with an emphasis in Feminist Studies from UC Santa Barbara. \nSponsored by: Office of Diversity and Compliance \nOpen to all faculty\, staff\, and students.
URL:https://www.cypresscollege.edu/event/creating-safe-and-inclusive-spaces-for-lgbtq-students/
LOCATION:9200 Valley View St.\, Cypress\, 90630\, United States
CATEGORIES:District,Speaker Series
ATTACH;FMTTYPE=image/jpeg:https://www.cypresscollege.edu/wp-content/uploads/2019-Event-LGBTQ.jpg
END:VEVENT
BEGIN:VEVENT
DTSTART;TZID=America/Los_Angeles:20190426T093000
DTEND;TZID=America/Los_Angeles:20190426T143000
DTSTAMP:20260419T181211
CREATED:20190402T182344Z
LAST-MODIFIED:20190402T182344Z
UID:24962-1556271000-1556289000@www.cypresscollege.edu
SUMMARY:Student Equity Symposium: Equity in Action
DESCRIPTION:Where: Cypress College Theater\, 9200 Valley View St.\, Cypress\, CA 90630 \nCheck-in is at 9 a.m. \nOpen to all NOCCCD students\, faculty and staff. Parking accommodations are covered for event attendees. Please be sure to park in Lot 1. \nFree Continental Breakfast and Lunch\nThe North Orange County Community College District (NOCCCD) is proud to host the District-wide Student Equity Symposium. The 2019 NOCCCD Student Equity Symposium aims to bring together local voices on student equity to engage students\, faculty and staff in expanding the equity narrative. Participants will hear from influential voices\, equity plan ideas\, participate in insightful discussions as well as engage with their peers in a collaborative effort to further community building and advance equity mindedness in our institutions. \nFeatures\nColleges Presenting Their Equity-Minded Practices: \n\nSacramento City College\nPasadena City College\nMission College\nSan Diego Mesa College\nGrossmont College\n\nRegistration Now Open:\nStudent Equity Symposium Event Registration: tinyurl.com/NOCCCDStudent-Equity \nAre you a student and need transportation to this event? Visit: tinyurl.com/NOCCCDTransportation \nQuestions?\nCall or email Nancy Flores at profdev@nocccd.edu or (714) 808-4646.
URL:https://www.cypresscollege.edu/event/student-equity-symposium-equity-in-action/
LOCATION:9200 Valley View St.\, Cypress\, 90630\, United States
CATEGORIES:District
ATTACH;FMTTYPE=image/jpeg:https://www.cypresscollege.edu/wp-content/uploads/2019-Event-NOCCCD-Student-Equity-Symposium.jpg
END:VEVENT
BEGIN:VEVENT
DTSTART;TZID=America/Los_Angeles:20190429T150000
DTEND;TZID=America/Los_Angeles:20190429T163000
DTSTAMP:20260419T181211
CREATED:20190212T002025Z
LAST-MODIFIED:20190212T002025Z
UID:22823-1556550000-1556555400@www.cypresscollege.edu
SUMMARY:Coffee with the Chancellor
DESCRIPTION:This event will take place in CCCPLX-414.
URL:https://www.cypresscollege.edu/event/coffee-with-the-chancellor-2/
LOCATION:9200 Valley View St.\, Cypress\, 90630\, United States
CATEGORIES:District
ATTACH;FMTTYPE=image/jpeg:https://www.cypresscollege.edu/wp-content/uploads/2019-event-coffee-with-chancellor.jpg
END:VEVENT
END:VCALENDAR