BEGIN:VCALENDAR
VERSION:2.0
PRODID:-//Cypress College - ECPv6.15.7//NONSGML v1.0//EN
CALSCALE:GREGORIAN
METHOD:PUBLISH
X-ORIGINAL-URL:https://www.cypresscollege.edu
X-WR-CALDESC:Events for Cypress College
REFRESH-INTERVAL;VALUE=DURATION:PT1H
X-Robots-Tag:noindex
X-PUBLISHED-TTL:PT1H
BEGIN:VTIMEZONE
TZID:America/Los_Angeles
BEGIN:DAYLIGHT
TZOFFSETFROM:-0800
TZOFFSETTO:-0700
TZNAME:PDT
DTSTART:20210314T100000
END:DAYLIGHT
BEGIN:STANDARD
TZOFFSETFROM:-0700
TZOFFSETTO:-0800
TZNAME:PST
DTSTART:20211107T090000
END:STANDARD
BEGIN:DAYLIGHT
TZOFFSETFROM:-0800
TZOFFSETTO:-0700
TZNAME:PDT
DTSTART:20220313T100000
END:DAYLIGHT
BEGIN:STANDARD
TZOFFSETFROM:-0700
TZOFFSETTO:-0800
TZNAME:PST
DTSTART:20221106T090000
END:STANDARD
BEGIN:DAYLIGHT
TZOFFSETFROM:-0800
TZOFFSETTO:-0700
TZNAME:PDT
DTSTART:20230312T100000
END:DAYLIGHT
BEGIN:STANDARD
TZOFFSETFROM:-0700
TZOFFSETTO:-0800
TZNAME:PST
DTSTART:20231105T090000
END:STANDARD
END:VTIMEZONE
BEGIN:VEVENT
DTSTART;TZID=America/Los_Angeles:20220329T163000
DTEND;TZID=America/Los_Angeles:20220329T163000
DTSTAMP:20260420T200601
CREATED:20220322T192450Z
LAST-MODIFIED:20220322T192450Z
UID:47784-1648571400-1648571400@www.cypresscollege.edu
SUMMARY:NOCE Career Readiness Program
DESCRIPTION:Presented by Oscar Garcia\nChief Empowerment Officer of Aspira Consulting \nAs a first-generation or minority student\, our experiences and challenges are different; we are bicultural\, multiracial\, and encounter the glass ceiling\, lack of mentorship\, and the opportunity gap. Aspira Consulting provides culturally relevant\, practical\, and personalized career development and leadership programs that helps first-generation and minority students embrace their uniqueness and be their authentic self. As a first-generation professional\, Oscar Garcia has successfully overcome career pitfalls\, blended his professional and bicultural identity\, and today empowers others\, so opportunities come to them. \nThis 5-part virtual career series builds upon each previous training. Students will receive a Professional Development Certificate if they attend all five sessions. \n\nTuesday\, March 29 @ 4:30 p.m.\nWednesday\, April 6 @ 4:30 p.m.\nThursday\, April 14 @ 4:30 p.m.\nTuesday\, April 19 @ 4:30 p.m.\nTuesday\, April 26 @ 4:30 p.m.\n\nProgram Description\nThis Career Readiness Program gives students real-life examples\, tools\, and techniques to: \n\nChange the narrative of their personal journey\nTurn adversity into positive career traits\nMarket themselves to employers\n\nProgram Topics \n\nHow to Tell Your First-Generation Story to Get Hired\nTurning Adversity into Positive Career Traits\nDemystifying Networking\nHow to Overcome Imposter Syndrome\nHow to Successfully Interview Virtually\n\nThis free event is open to all NOCE\, Fullerton College\, and Cypress College students. \nRSVP at: noce.edu/workshops
URL:https://www.cypresscollege.edu/event/noce-career-readiness-program/2022-03-29/
LOCATION:9200 Valley View St.\, Cypress\, 90630\, United States
CATEGORIES:District,Virtual
ATTACH;FMTTYPE=image/jpeg:https://www.cypresscollege.edu/wp-content/uploads/Event_NOCE-First-Generation-Student-Training-scaled.jpg
END:VEVENT
BEGIN:VEVENT
DTSTART;TZID=America/Los_Angeles:20220331T170000
DTEND;TZID=America/Los_Angeles:20220331T170000
DTSTAMP:20260420T200601
CREATED:20220321T184703Z
LAST-MODIFIED:20220321T184703Z
UID:47751-1648746000-1648746000@www.cypresscollege.edu
SUMMARY:NOCCCD Anti-Racism Campaign Pre-Launch Event
DESCRIPTION:The NOCCCD Office of Diversity & Compliance is hosting an Anti-Racism Campaign Pre-Launch event. This event is open to faculty\, staff\, students\, and the community. Faculty and staff must register through Edvantage. \nPre-launch presentation by Melina Abdullah\, PhD\nDr. Abdullah is a renowned expert on race\, gender\, class\, and social movements. She is a Professor of Pan-African Studies at California State University\, Los Angeles. She was appointed to the Los Angeles County Human Relations Commission in 2014. Dr. Abdullah is the author of numerous articles and book chapters\, with subjects ranging from political coalition building to womanist mothering. \nZoom Link \nMeeting ID: 992 5393 1404 \nPasscode: 879740
URL:https://www.cypresscollege.edu/event/nocccd-anti-racism-campaign-pre-launch-event/
LOCATION:9200 Valley View St.\, Cypress\, 90630\, United States
CATEGORIES:District,Virtual
ATTACH;FMTTYPE=image/jpeg:https://www.cypresscollege.edu/wp-content/uploads/Event_District_Anti-Racism-Pre-Launch-Event.jpg
END:VEVENT
END:VCALENDAR