BEGIN:VCALENDAR
VERSION:2.0
PRODID:-//Cypress College - ECPv6.15.7//NONSGML v1.0//EN
CALSCALE:GREGORIAN
METHOD:PUBLISH
X-ORIGINAL-URL:https://www.cypresscollege.edu
X-WR-CALDESC:Events for Cypress College
REFRESH-INTERVAL;VALUE=DURATION:PT1H
X-Robots-Tag:noindex
X-PUBLISHED-TTL:PT1H
BEGIN:VTIMEZONE
TZID:America/Los_Angeles
BEGIN:DAYLIGHT
TZOFFSETFROM:-0800
TZOFFSETTO:-0700
TZNAME:PDT
DTSTART:20210314T100000
END:DAYLIGHT
BEGIN:STANDARD
TZOFFSETFROM:-0700
TZOFFSETTO:-0800
TZNAME:PST
DTSTART:20211107T090000
END:STANDARD
BEGIN:DAYLIGHT
TZOFFSETFROM:-0800
TZOFFSETTO:-0700
TZNAME:PDT
DTSTART:20220313T100000
END:DAYLIGHT
BEGIN:STANDARD
TZOFFSETFROM:-0700
TZOFFSETTO:-0800
TZNAME:PST
DTSTART:20221106T090000
END:STANDARD
BEGIN:DAYLIGHT
TZOFFSETFROM:-0800
TZOFFSETTO:-0700
TZNAME:PDT
DTSTART:20230312T100000
END:DAYLIGHT
BEGIN:STANDARD
TZOFFSETFROM:-0700
TZOFFSETTO:-0800
TZNAME:PST
DTSTART:20231105T090000
END:STANDARD
END:VTIMEZONE
BEGIN:VEVENT
DTSTART;TZID=America/Los_Angeles:20221114T110000
DTEND;TZID=America/Los_Angeles:20221114T120000
DTSTAMP:20260421T051950
CREATED:20221110T223034Z
LAST-MODIFIED:20221110T223034Z
UID:52230-1668423600-1668427200@www.cypresscollege.edu
SUMMARY:NOCCCD Survey Results on the Future of Learning and Work
DESCRIPTION:Join NOCCCD on Monday\, November 14\, from 11 a.m.-12 p.m. as the results of the districtwide Education Engagement Index survey conducted in spring 2022 are presented. The survey asked about student and employee experiences during remote teaching and working as well as expectations/preferences for the future of learning and work. As we envision what our institutions look like in a post-pandemic environment\, these results will help improve understanding of the student and employee experience and points of view about the future. Register in advance for this webinar. \nAfter registering\, you will receive a confirmation email containing information about joining the webinar. \nPlease address any questions or comments you might have to Dr. Gabrielle Stanco\, gstanco@nocccd.edu.
URL:https://www.cypresscollege.edu/event/nocccd-survey-results-on-the-future-of-learning-and-work/
LOCATION:9200 Valley View St.\, Cypress\, 90630\, United States
CATEGORIES:District
ATTACH;FMTTYPE=image/png:https://www.cypresscollege.edu/wp-content/uploads/Events-Featured-webinar.png
END:VEVENT
BEGIN:VEVENT
DTSTART;TZID=America/Los_Angeles:20221118T090000
DTEND;TZID=America/Los_Angeles:20221118T103000
DTSTAMP:20260421T051950
CREATED:20221103T221132Z
LAST-MODIFIED:20221103T221132Z
UID:51999-1668762000-1668767400@www.cypresscollege.edu
SUMMARY:The Moral Courage Method of Communicating Across Divides
DESCRIPTION:Zoom Meeting ID: 850 5029 1233\nPasscode: 303614\nEvent is open to Faculty\, Staff\, Students and Community \nThe Pluralism\, Inclusion\, and Equity (P.I.E.) series offers workshops and trainings designed to increase our intercultural proficiency so we may provide effective teaching and support services for our diverse student body. \nEmpathetic communication skills constitute the most crucial element of an inclusive culture. When exercised well\, these skills can help us move from transactional relationships that fixate on what people are (their labels) and toward relationships that bring out who people are (their multiple dimensions and paradoxes).” Join Moral Courage Mentor Allison Gerrard for a virtual communication workshop to learn the idea\, framework\, and science of Moral Courage and its method for communicating across divides. Participants will gain practical tools that can be applied to improve our empathetic communication skills. \nPre-viewing by participants (optional). \nFor more information about these and other events please visit the District webpage\, Upcoming Events.
URL:https://www.cypresscollege.edu/event/the-moral-courage-method-of-communicating-across-divides/
LOCATION:9200 Valley View St.\, Cypress\, 90630\, United States
CATEGORIES:District
ATTACH;FMTTYPE=image/jpeg:https://www.cypresscollege.edu/wp-content/uploads/Event_District_PIE_Moral.jpg
END:VEVENT
END:VCALENDAR