BEGIN:VCALENDAR
VERSION:2.0
PRODID:-//Cypress College - ECPv6.15.7//NONSGML v1.0//EN
CALSCALE:GREGORIAN
METHOD:PUBLISH
X-WR-CALNAME:Cypress College
X-ORIGINAL-URL:https://www.cypresscollege.edu
X-WR-CALDESC:Events for Cypress College
REFRESH-INTERVAL;VALUE=DURATION:PT1H
X-Robots-Tag:noindex
X-PUBLISHED-TTL:PT1H
BEGIN:VTIMEZONE
TZID:America/Los_Angeles
BEGIN:DAYLIGHT
TZOFFSETFROM:-0800
TZOFFSETTO:-0700
TZNAME:PDT
DTSTART:20220313T100000
END:DAYLIGHT
BEGIN:STANDARD
TZOFFSETFROM:-0700
TZOFFSETTO:-0800
TZNAME:PST
DTSTART:20221106T090000
END:STANDARD
BEGIN:DAYLIGHT
TZOFFSETFROM:-0800
TZOFFSETTO:-0700
TZNAME:PDT
DTSTART:20230312T100000
END:DAYLIGHT
BEGIN:STANDARD
TZOFFSETFROM:-0700
TZOFFSETTO:-0800
TZNAME:PST
DTSTART:20231105T090000
END:STANDARD
BEGIN:DAYLIGHT
TZOFFSETFROM:-0800
TZOFFSETTO:-0700
TZNAME:PDT
DTSTART:20240310T100000
END:DAYLIGHT
BEGIN:STANDARD
TZOFFSETFROM:-0700
TZOFFSETTO:-0800
TZNAME:PST
DTSTART:20241103T090000
END:STANDARD
END:VTIMEZONE
BEGIN:VEVENT
DTSTART;TZID=America/Los_Angeles:20230110T160000
DTEND;TZID=America/Los_Angeles:20230110T180000
DTSTAMP:20260423T141817
CREATED:20220228T180136Z
LAST-MODIFIED:20221214T184041Z
UID:47255-1673366400-1673373600@www.cypresscollege.edu
SUMMARY:2023-24 Financial Aid Labs
DESCRIPTION:We’re hosting Financial Aid Labs to assist you with completing your 2023-24 Financial Aid Application before the March 2 priority deadline! In-person labs are located at the Assessment Center (2nd floor of the Student Center) and virtual labs will be held via zoom. \nPlease register for the lab date and time that works best for you on Eventbrite. \nJanuary:\nTuesday In-Person:\n1/10/23\n1/17/23 \nWednesday Virtual:\n1/11/23\n1/18/23
URL:https://www.cypresscollege.edu/event/2022-23-financial-aid-labs/2023-01-10/
LOCATION:9200 Valley View St.\, Cypress\, CA\, 90630\, United States
CATEGORIES:Financial Aid
ATTACH;FMTTYPE=image/jpeg:https://www.cypresscollege.edu/wp-content/uploads/Events-Featured-Image-Financial_Aid_JC.jpg
END:VEVENT
BEGIN:VEVENT
DTSTART;TZID=America/Los_Angeles:20230118T101500
DTEND;TZID=America/Los_Angeles:20230118T114500
DTSTAMP:20260423T141817
CREATED:20221206T225208Z
LAST-MODIFIED:20221206T225208Z
UID:52944-1674036900-1674042300@www.cypresscollege.edu
SUMMARY:Spring 2023 Loan Orientations
DESCRIPTION:An educational loan is a form of financial aid that must be repaid\, with interest. Grants\, scholarships\, work-study and other forms of gift aid typically cover the full cost of an education at Cypress College. However\, some students find that they must supplement their savings with student loans. \nCommunity colleges remain an affordable option for students. Loan debt and increasing loan default rates are concerning for Financial Aid Offices due to the impact it can have on the institution. As a result\, the Cypress College Financial Aid Office has adopted the following loan procedures for student borrowers. These procedures were implemented due to increasing student loan debt for graduates who eventually earn a BA/BS degree. Therefore\, Cypress College Financial Aid has a strict policy on established loan limits to (1) help students minimize debt\, (2) help students keep aggregate loan eligibility available for when they transfer to four-year institutions\, and (3) help improve financial literacy and responsibility so that future economic hardships and credit damage can be prevented. \nThe Cypress College Financial Aid Office strongly discourages students to borrow loans without first discussing their options with a Financial Aid Technician. \nIf you are interested in obtaining a loan\, please contact Loan Coordinator Nishad Marathe at nmarathe@cypresscollege.edu. \nDeadline to submit spring 2023 loan application: Friday\, May 12\, 2023. \nOnline Loan Orientations \n\nWednesday\, January 18\, 2023 @ 10:15 – 11:45 a.m.\nWednesday\, February 15\, 2023 @ 5:45 – 7:15 p.m.\nTuesday\, March 7\, 2023 @ 3:15 – 4:45 p.m.\nTuesday\, April 4\, 2023 @ 10:15 – 11:45 a.m.\nWednesday\, April 26\, 2023 @ 3:15 – 4:45 p.m.\nWednesday\, May 10\, 2023 10:15 – 11:45 a.m.\n\nIn-Person Orientations \n\nTuesday\, January 31\, 2023 @ 3:15 – 4:45p.m. CCCPLX-414\nWednesday\, February 22\, 2023 @ 10:15 – 11:45 a.m. CCCPLX-414\nTuesday\, March 29\, 2023 @ 5:45 – 7:15 p.m. CCCPLX-414
URL:https://www.cypresscollege.edu/event/spring-2023-loan-orientations/2023-01-18/
LOCATION:9200 Valley View St.\, Cypress\, CA\, 90630\, United States
CATEGORIES:Financial Aid
ATTACH;FMTTYPE=image/jpeg:https://www.cypresscollege.edu/wp-content/uploads/Events-Featured-Image-Financial_Aid_JC.jpg
END:VEVENT
END:VCALENDAR