BEGIN:VCALENDAR
VERSION:2.0
PRODID:-//Cypress College - ECPv6.15.7//NONSGML v1.0//EN
CALSCALE:GREGORIAN
METHOD:PUBLISH
X-ORIGINAL-URL:https://www.cypresscollege.edu
X-WR-CALDESC:Events for Cypress College
REFRESH-INTERVAL;VALUE=DURATION:PT1H
X-Robots-Tag:noindex
X-PUBLISHED-TTL:PT1H
BEGIN:VTIMEZONE
TZID:America/Los_Angeles
BEGIN:DAYLIGHT
TZOFFSETFROM:-0800
TZOFFSETTO:-0700
TZNAME:PDT
DTSTART:20210314T100000
END:DAYLIGHT
BEGIN:STANDARD
TZOFFSETFROM:-0700
TZOFFSETTO:-0800
TZNAME:PST
DTSTART:20211107T090000
END:STANDARD
BEGIN:DAYLIGHT
TZOFFSETFROM:-0800
TZOFFSETTO:-0700
TZNAME:PDT
DTSTART:20220313T100000
END:DAYLIGHT
BEGIN:STANDARD
TZOFFSETFROM:-0700
TZOFFSETTO:-0800
TZNAME:PST
DTSTART:20221106T090000
END:STANDARD
BEGIN:DAYLIGHT
TZOFFSETFROM:-0800
TZOFFSETTO:-0700
TZNAME:PDT
DTSTART:20230312T100000
END:DAYLIGHT
BEGIN:STANDARD
TZOFFSETFROM:-0700
TZOFFSETTO:-0800
TZNAME:PST
DTSTART:20231105T090000
END:STANDARD
END:VTIMEZONE
BEGIN:VEVENT
DTSTART;VALUE=DATE:20220411
DTEND;VALUE=DATE:20220510
DTSTAMP:20260422T122922
CREATED:20220411T202405Z
LAST-MODIFIED:20220411T203031Z
UID:48016-1649635200-1652140799@www.cypresscollege.edu
SUMMARY:Healthy Minds Survey (HMS)
DESCRIPTION:The Healthy Minds Study (HMS) is a confidential web-based survey study examining mental health\, service utilization\, and related issues among college students. The information from this study will be used to inform policy\, practice\, and funding for mental health programs and services at Cypress College. \nCheck your email for the survey link from healthyminds-cc@umich.edu. \nSurvey runs from April 11 through May 9\, 2022. \nChance to win prizes\, including an Apple Watch!
URL:https://www.cypresscollege.edu/event/healthy-minds-survey/
LOCATION:9200 Valley View St.\, Cypress\, CA\, 90630\, United States
CATEGORIES:Health Center
ATTACH;FMTTYPE=image/png:https://www.cypresscollege.edu/wp-content/uploads/Event_Health-Center_The-Healthy-Minds-Study.png
END:VEVENT
BEGIN:VEVENT
DTSTART;TZID=America/Los_Angeles:20220420T120000
DTEND;TZID=America/Los_Angeles:20220420T130000
DTSTAMP:20260422T122922
CREATED:20220405T184334Z
LAST-MODIFIED:20220405T184334Z
UID:47935-1650456000-1650459600@www.cypresscollege.edu
SUMMARY:Consent and Sex: Your Love Language and Healthy Boundaries
DESCRIPTION:The Health Center presents Consent and Sex: Your Love Language and Healthy Boundaries. \nWhat you will learn: \n\nDefining consensual sex\nWhat’s your love language?\nHow to negotiate boundaries rationally\, not emotionally\nTips for clear\, direct communication\n\nJoin us April 20 from 12–1 p.m.\nMeeting ID: 939 9046 0600\nPasscode: Consent
URL:https://www.cypresscollege.edu/event/consent-and-sex-your-love-language-and-healthy-boundaries/
LOCATION:9200 Valley View St.\, Cypress\, CA\, 90630\, United States
CATEGORIES:Health Center
ATTACH;FMTTYPE=image/jpeg:https://www.cypresscollege.edu/wp-content/uploads/Event_Health-Center_Wellness-Wednesday-4202022-scaled.jpg
END:VEVENT
BEGIN:VEVENT
DTSTART;TZID=America/Los_Angeles:20220427T100000
DTEND;TZID=America/Los_Angeles:20220427T140000
DTSTAMP:20260422T122922
CREATED:20220405T184738Z
LAST-MODIFIED:20220405T184738Z
UID:47938-1651053600-1651068000@www.cypresscollege.edu
SUMMARY:Denim Day Resource Fair
DESCRIPTION:The Denim Day Resource Fair is hosted by the Health Center\, Active Minds\, & EOPS. \nApril is Sexual Assault Awareness month. WEAR YOUR JEANS and come learn about the history of Denim Day. \nCheck out services and resources provided by our community partners and student clubs about sexual assault awareness. \nJoin us Wednesday\, April 27\, 10 a.m.–2 p.m.\nGateway Plaza
URL:https://www.cypresscollege.edu/event/denim-day-resource-fair/
LOCATION:9200 Valley View St.\, Cypress\, CA\, 90630\, United States
CATEGORIES:Health Center
ATTACH;FMTTYPE=image/jpeg:https://www.cypresscollege.edu/wp-content/uploads/Event_Health-Center_Denim-Day-2022-scaled.jpg
END:VEVENT
END:VCALENDAR