BEGIN:VCALENDAR
VERSION:2.0
PRODID:-//Cypress College - ECPv6.15.7//NONSGML v1.0//EN
CALSCALE:GREGORIAN
METHOD:PUBLISH
X-WR-CALNAME:Cypress College
X-ORIGINAL-URL:https://www.cypresscollege.edu
X-WR-CALDESC:Events for Cypress College
REFRESH-INTERVAL;VALUE=DURATION:PT1H
X-Robots-Tag:noindex
X-PUBLISHED-TTL:PT1H
BEGIN:VTIMEZONE
TZID:America/Los_Angeles
BEGIN:DAYLIGHT
TZOFFSETFROM:-0800
TZOFFSETTO:-0700
TZNAME:PDT
DTSTART:20250309T100000
END:DAYLIGHT
BEGIN:STANDARD
TZOFFSETFROM:-0700
TZOFFSETTO:-0800
TZNAME:PST
DTSTART:20251102T090000
END:STANDARD
BEGIN:DAYLIGHT
TZOFFSETFROM:-0800
TZOFFSETTO:-0700
TZNAME:PDT
DTSTART:20260308T100000
END:DAYLIGHT
BEGIN:STANDARD
TZOFFSETFROM:-0700
TZOFFSETTO:-0800
TZNAME:PST
DTSTART:20261101T090000
END:STANDARD
BEGIN:DAYLIGHT
TZOFFSETFROM:-0800
TZOFFSETTO:-0700
TZNAME:PDT
DTSTART:20270314T100000
END:DAYLIGHT
BEGIN:STANDARD
TZOFFSETFROM:-0700
TZOFFSETTO:-0800
TZNAME:PST
DTSTART:20271107T090000
END:STANDARD
END:VTIMEZONE
BEGIN:VEVENT
DTSTART;VALUE=DATE:20260201
DTEND;VALUE=DATE:20260202
DTSTAMP:20260420T012416
CREATED:20250320T214051Z
LAST-MODIFIED:20250320T214051Z
UID:65520-1769904000-1769990399@www.cypresscollege.edu
SUMMARY:Winter Recess Ends
DESCRIPTION:
URL:https://www.cypresscollege.edu/event/winter-recess-ends/
LOCATION:CA
CATEGORIES:Important Dates to Remember
END:VEVENT
BEGIN:VEVENT
DTSTART;VALUE=DATE:20260202
DTEND;VALUE=DATE:20260203
DTSTAMP:20260420T012416
CREATED:20250320T214633Z
LAST-MODIFIED:20250320T214633Z
UID:65530-1769990400-1770076799@www.cypresscollege.edu
SUMMARY:Spring 2026 Semester Begins
DESCRIPTION:
URL:https://www.cypresscollege.edu/event/spring-2026-semester-begins/
LOCATION:CA
CATEGORIES:Important Dates to Remember,Instruction
END:VEVENT
BEGIN:VEVENT
DTSTART;VALUE=DATE:20260213
DTEND;VALUE=DATE:20260214
DTSTAMP:20260420T012416
CREATED:20250320T214726Z
LAST-MODIFIED:20250320T214726Z
UID:65532-1770940800-1771027199@www.cypresscollege.edu
SUMMARY:Lincoln's Birthday Holiday — Campus & Online Services Closed
DESCRIPTION:
URL:https://www.cypresscollege.edu/event/lincolns-birthday-holiday-campus-online-services-closed/
LOCATION:CA
CATEGORIES:Holidays,Important Dates to Remember
END:VEVENT
BEGIN:VEVENT
DTSTART;VALUE=DATE:20260216
DTEND;VALUE=DATE:20260217
DTSTAMP:20260420T012416
CREATED:20250320T214848Z
LAST-MODIFIED:20250320T214848Z
UID:65534-1771200000-1771286399@www.cypresscollege.edu
SUMMARY:Presidents' Day Holiday — Campus & Online Services Closed
DESCRIPTION:
URL:https://www.cypresscollege.edu/event/presidents-day-holiday-campus-online-services-closed/
LOCATION:CA
CATEGORIES:Holidays,Important Dates to Remember
END:VEVENT
BEGIN:VEVENT
DTSTART;VALUE=DATE:20260217
DTEND;VALUE=DATE:20260218
DTSTAMP:20260420T012416
CREATED:20250320T214956Z
LAST-MODIFIED:20250320T214956Z
UID:65536-1771286400-1771372799@www.cypresscollege.edu
SUMMARY:Lunar New Year Holiday — Campus & Online Services Closed
DESCRIPTION:
URL:https://www.cypresscollege.edu/event/lunar-new-year-holiday-campus-online-services-closed-2/
LOCATION:CA
CATEGORIES:Holidays,Important Dates to Remember
END:VEVENT
END:VCALENDAR