BEGIN:VCALENDAR
VERSION:2.0
PRODID:-//Cypress College - ECPv6.15.7//NONSGML v1.0//EN
CALSCALE:GREGORIAN
METHOD:PUBLISH
X-WR-CALNAME:Cypress College
X-ORIGINAL-URL:https://www.cypresscollege.edu
X-WR-CALDESC:Events for Cypress College
REFRESH-INTERVAL;VALUE=DURATION:PT1H
X-Robots-Tag:noindex
X-PUBLISHED-TTL:PT1H
BEGIN:VTIMEZONE
TZID:America/Los_Angeles
BEGIN:DAYLIGHT
TZOFFSETFROM:-0800
TZOFFSETTO:-0700
TZNAME:PDT
DTSTART:20170312T100000
END:DAYLIGHT
BEGIN:STANDARD
TZOFFSETFROM:-0700
TZOFFSETTO:-0800
TZNAME:PST
DTSTART:20171105T090000
END:STANDARD
BEGIN:DAYLIGHT
TZOFFSETFROM:-0800
TZOFFSETTO:-0700
TZNAME:PDT
DTSTART:20180311T100000
END:DAYLIGHT
BEGIN:STANDARD
TZOFFSETFROM:-0700
TZOFFSETTO:-0800
TZNAME:PST
DTSTART:20181104T090000
END:STANDARD
BEGIN:DAYLIGHT
TZOFFSETFROM:-0800
TZOFFSETTO:-0700
TZNAME:PDT
DTSTART:20190310T100000
END:DAYLIGHT
BEGIN:STANDARD
TZOFFSETFROM:-0700
TZOFFSETTO:-0800
TZNAME:PST
DTSTART:20191103T090000
END:STANDARD
END:VTIMEZONE
BEGIN:VEVENT
DTSTART;TZID=America/Los_Angeles:20181129T180000
DTEND;TZID=America/Los_Angeles:20181129T180000
DTSTAMP:20260422T172659
CREATED:20181105T163908Z
LAST-MODIFIED:20181105T163916Z
UID:20289-1543514400-1543514400@www.cypresscollege.edu
SUMMARY:Kwanzaa Celebration
DESCRIPTION:We will be celebrating our Annual Kwanzaa Celebration on Thursday\, November 29\, at 6 p.m. in CCC-414. It is a wonderful opportunity to celebrate and participate in a fantastic cultural event. \nWe will be having great food\, fun\, and learning opportunities. In addition\, there will be drumming lessons and informational tables. \nPrizes will be given to the ones with the best cultural outfits.
URL:https://www.cypresscollege.edu/event/kwanzaa-celebration-2/
LOCATION:9200 Valley View St.\, Cypress\, CA\, 90630\, United States
CATEGORIES:Legacy
END:VEVENT
END:VCALENDAR