BEGIN:VCALENDAR
VERSION:2.0
PRODID:-//Cypress College - ECPv6.15.7//NONSGML v1.0//EN
CALSCALE:GREGORIAN
METHOD:PUBLISH
X-ORIGINAL-URL:https://www.cypresscollege.edu
X-WR-CALDESC:Events for Cypress College
REFRESH-INTERVAL;VALUE=DURATION:PT1H
X-Robots-Tag:noindex
X-PUBLISHED-TTL:PT1H
BEGIN:VTIMEZONE
TZID:America/Los_Angeles
BEGIN:DAYLIGHT
TZOFFSETFROM:-0800
TZOFFSETTO:-0700
TZNAME:PDT
DTSTART:20180311T100000
END:DAYLIGHT
BEGIN:STANDARD
TZOFFSETFROM:-0700
TZOFFSETTO:-0800
TZNAME:PST
DTSTART:20181104T090000
END:STANDARD
BEGIN:DAYLIGHT
TZOFFSETFROM:-0800
TZOFFSETTO:-0700
TZNAME:PDT
DTSTART:20190310T100000
END:DAYLIGHT
BEGIN:STANDARD
TZOFFSETFROM:-0700
TZOFFSETTO:-0800
TZNAME:PST
DTSTART:20191103T090000
END:STANDARD
BEGIN:DAYLIGHT
TZOFFSETFROM:-0800
TZOFFSETTO:-0700
TZNAME:PDT
DTSTART:20200308T100000
END:DAYLIGHT
BEGIN:STANDARD
TZOFFSETFROM:-0700
TZOFFSETTO:-0800
TZNAME:PST
DTSTART:20201101T090000
END:STANDARD
END:VTIMEZONE
BEGIN:VEVENT
DTSTART;TZID=America/Los_Angeles:20190422T110000
DTEND;TZID=America/Los_Angeles:20190422T130000
DTSTAMP:20260422T110740
CREATED:20190416T170458Z
LAST-MODIFIED:20190416T170458Z
UID:25533-1555930800-1555938000@www.cypresscollege.edu
SUMMARY:Speed Networking
DESCRIPTION:Hosted by the Cypress College Legacy Program\, at this event students will be able to: \n\nexchange business cards\nnetwork with more people than the typical environment\npractice networking skills and elevator speeches\nlearn effective networking techniques through energized networking conversations and repetition\n\nSpeed Networking will take place in the Cypress College Complex building\, room 414. \nFeatured Speaker: Dr. Carmen Dominguez\, Vice President of Instruction
URL:https://www.cypresscollege.edu/event/speed-networking/
LOCATION:9200 Valley View St.\, Cypress\, CA\, 90630\, United States
CATEGORIES:Legacy
ATTACH;FMTTYPE=image/jpeg:https://www.cypresscollege.edu/wp-content/uploads/2019-Cypress-College-Legacy-Networking-Event.jpg
END:VEVENT
END:VCALENDAR