BEGIN:VCALENDAR
VERSION:2.0
PRODID:-//Cypress College - ECPv6.15.7//NONSGML v1.0//EN
CALSCALE:GREGORIAN
METHOD:PUBLISH
X-WR-CALNAME:Cypress College
X-ORIGINAL-URL:https://www.cypresscollege.edu
X-WR-CALDESC:Events for Cypress College
REFRESH-INTERVAL;VALUE=DURATION:PT1H
X-Robots-Tag:noindex
X-PUBLISHED-TTL:PT1H
BEGIN:VTIMEZONE
TZID:America/Los_Angeles
BEGIN:DAYLIGHT
TZOFFSETFROM:-0800
TZOFFSETTO:-0700
TZNAME:PDT
DTSTART:20210314T100000
END:DAYLIGHT
BEGIN:STANDARD
TZOFFSETFROM:-0700
TZOFFSETTO:-0800
TZNAME:PST
DTSTART:20211107T090000
END:STANDARD
BEGIN:DAYLIGHT
TZOFFSETFROM:-0800
TZOFFSETTO:-0700
TZNAME:PDT
DTSTART:20220313T100000
END:DAYLIGHT
BEGIN:STANDARD
TZOFFSETFROM:-0700
TZOFFSETTO:-0800
TZNAME:PST
DTSTART:20221106T090000
END:STANDARD
BEGIN:DAYLIGHT
TZOFFSETFROM:-0800
TZOFFSETTO:-0700
TZNAME:PDT
DTSTART:20230312T100000
END:DAYLIGHT
BEGIN:STANDARD
TZOFFSETFROM:-0700
TZOFFSETTO:-0800
TZNAME:PST
DTSTART:20231105T090000
END:STANDARD
END:VTIMEZONE
BEGIN:VEVENT
DTSTART;TZID=America/Los_Angeles:20220418T080000
DTEND;TZID=America/Los_Angeles:20220418T100000
DTSTAMP:20260420T041424
CREATED:20220414T173426Z
LAST-MODIFIED:20220414T173426Z
UID:48085-1650268800-1650276000@www.cypresscollege.edu
SUMMARY:Mental Health Monday Guest Speaker Carlos Martin
DESCRIPTION:The Legacy Program presents Mental Health Monday with guest speaker Carlos Martin\, Monday\, April 18\, 8–10 a.m. \nBorn in Benton Harbor\, Michigan on August 5. Carlos Martin is a veteran of the U.S. Army. \nHungry and Humble is the motto that King lives by. If you consistently put in the work\, the result will come. \nCarlos Martin discovered acting in high school but didn’t pursue it until he retired from the Army. He made his television debut on Wives with Knives which aired on the Investigation Discovery Channel. Then\, he was cast for a principal role and the voice-over on a Bank of America commercial. He also made his debut on HBO Ballers as an actor. \nHe has a BFA in Film making from New York Film Academy in Los Angeles. Carlos Martin is also an award-winning Director and Actor. Carlos Martin has turned his 5-STAR RATED book A War on Friendly Grounds into an Award Winning short film that has been selected over 28 film festivals. \nZoom Meeting ID: 414 681 6407
URL:https://www.cypresscollege.edu/event/mental-health-monday-guest-speaker-carlos-martin/
LOCATION:9200 Valley View St.\, Cypress\, CA\, 90630\, United States
CATEGORIES:Legacy,Speaker Series
ATTACH;FMTTYPE=image/jpeg:https://www.cypresscollege.edu/wp-content/uploads/Event_Legacy-Guest-Speaker-Carlos-Martin-scaled.jpg
END:VEVENT
END:VCALENDAR