BEGIN:VCALENDAR
VERSION:2.0
PRODID:-//Cypress College - ECPv6.15.7//NONSGML v1.0//EN
CALSCALE:GREGORIAN
METHOD:PUBLISH
X-ORIGINAL-URL:https://www.cypresscollege.edu
X-WR-CALDESC:Events for Cypress College
REFRESH-INTERVAL;VALUE=DURATION:PT1H
X-Robots-Tag:noindex
X-PUBLISHED-TTL:PT1H
BEGIN:VTIMEZONE
TZID:America/Los_Angeles
BEGIN:DAYLIGHT
TZOFFSETFROM:-0800
TZOFFSETTO:-0700
TZNAME:PDT
DTSTART:20240310T100000
END:DAYLIGHT
BEGIN:STANDARD
TZOFFSETFROM:-0700
TZOFFSETTO:-0800
TZNAME:PST
DTSTART:20241103T090000
END:STANDARD
BEGIN:DAYLIGHT
TZOFFSETFROM:-0800
TZOFFSETTO:-0700
TZNAME:PDT
DTSTART:20250309T100000
END:DAYLIGHT
BEGIN:STANDARD
TZOFFSETFROM:-0700
TZOFFSETTO:-0800
TZNAME:PST
DTSTART:20251102T090000
END:STANDARD
BEGIN:DAYLIGHT
TZOFFSETFROM:-0800
TZOFFSETTO:-0700
TZNAME:PDT
DTSTART:20260308T100000
END:DAYLIGHT
BEGIN:STANDARD
TZOFFSETFROM:-0700
TZOFFSETTO:-0800
TZNAME:PST
DTSTART:20261101T090000
END:STANDARD
END:VTIMEZONE
BEGIN:VEVENT
DTSTART;TZID=America/Los_Angeles:20251125T140000
DTEND;TZID=America/Los_Angeles:20251125T160000
DTSTAMP:20260420T043403
CREATED:20250829T185008Z
LAST-MODIFIED:20251125T191151Z
UID:67243-1764079200-1764086400@www.cypresscollege.edu
SUMMARY:Applied Recitals Fall - Vocal
DESCRIPTION:Music majors will be presenting the fruits of their private sessions displaying their acquired musical skills. Attendees are invited to cheer on their loved ones\, friends\, and peers\, making for an afternoon of shared accomplishment and celebration. \nThis free event is happening in CCCPLX-216.
URL:https://www.cypresscollege.edu/event/applied-recitals-fall-vocal/
LOCATION:Cypress College\, 9200 Valley View St.\, Cypress\, CA\, 90630\, United States
CATEGORIES:Music
GEO:33.8280924;-118.0252758
X-APPLE-STRUCTURED-LOCATION;VALUE=URI;X-ADDRESS=Cypress College 9200 Valley View St. Cypress CA 90630 United States;X-APPLE-RADIUS=500;X-TITLE=9200 Valley View St.:geo:-118.0252758,33.8280924
END:VEVENT
END:VCALENDAR