BEGIN:VCALENDAR
VERSION:2.0
PRODID:-//Cypress College - ECPv6.15.7//NONSGML v1.0//EN
CALSCALE:GREGORIAN
METHOD:PUBLISH
X-ORIGINAL-URL:https://www.cypresscollege.edu
X-WR-CALDESC:Events for Cypress College
REFRESH-INTERVAL;VALUE=DURATION:PT1H
X-Robots-Tag:noindex
X-PUBLISHED-TTL:PT1H
BEGIN:VTIMEZONE
TZID:America/Los_Angeles
BEGIN:DAYLIGHT
TZOFFSETFROM:-0800
TZOFFSETTO:-0700
TZNAME:PDT
DTSTART:20250309T100000
END:DAYLIGHT
BEGIN:STANDARD
TZOFFSETFROM:-0700
TZOFFSETTO:-0800
TZNAME:PST
DTSTART:20251102T090000
END:STANDARD
BEGIN:DAYLIGHT
TZOFFSETFROM:-0800
TZOFFSETTO:-0700
TZNAME:PDT
DTSTART:20260308T100000
END:DAYLIGHT
BEGIN:STANDARD
TZOFFSETFROM:-0700
TZOFFSETTO:-0800
TZNAME:PST
DTSTART:20261101T090000
END:STANDARD
BEGIN:DAYLIGHT
TZOFFSETFROM:-0800
TZOFFSETTO:-0700
TZNAME:PDT
DTSTART:20270314T100000
END:DAYLIGHT
BEGIN:STANDARD
TZOFFSETFROM:-0700
TZOFFSETTO:-0800
TZNAME:PST
DTSTART:20271107T090000
END:STANDARD
END:VTIMEZONE
BEGIN:VEVENT
DTSTART;TZID=America/Los_Angeles:20260501T190000
DTEND;TZID=America/Los_Angeles:20260501T190000
DTSTAMP:20260419T181547
CREATED:20250829T192654Z
LAST-MODIFIED:20250829T192654Z
UID:67411-1777662000-1777662000@www.cypresscollege.edu
SUMMARY:Spring Jazz Band Concert
DESCRIPTION:Celebrating the social music of the greatest composers of the 20th century ranging in style from Jazz to Old School to Hip Hop. \nAdmission: \n\n$7 Children (5-13)\n$7 Seniors (55+)\n$7 Students\n$10 General\n\nThis event takes place in the Campus Theater.
URL:https://www.cypresscollege.edu/event/spring-jazz-band-concert-2/
CATEGORIES:Music
END:VEVENT
END:VCALENDAR