BEGIN:VCALENDAR
VERSION:2.0
PRODID:-//Cypress College - ECPv6.15.7//NONSGML v1.0//EN
CALSCALE:GREGORIAN
METHOD:PUBLISH
X-WR-CALNAME:Cypress College
X-ORIGINAL-URL:https://www.cypresscollege.edu
X-WR-CALDESC:Events for Cypress College
REFRESH-INTERVAL;VALUE=DURATION:PT1H
X-Robots-Tag:noindex
X-PUBLISHED-TTL:PT1H
BEGIN:VTIMEZONE
TZID:America/Los_Angeles
BEGIN:DAYLIGHT
TZOFFSETFROM:-0800
TZOFFSETTO:-0700
TZNAME:PDT
DTSTART:20250309T100000
END:DAYLIGHT
BEGIN:STANDARD
TZOFFSETFROM:-0700
TZOFFSETTO:-0800
TZNAME:PST
DTSTART:20251102T090000
END:STANDARD
BEGIN:DAYLIGHT
TZOFFSETFROM:-0800
TZOFFSETTO:-0700
TZNAME:PDT
DTSTART:20260308T100000
END:DAYLIGHT
BEGIN:STANDARD
TZOFFSETFROM:-0700
TZOFFSETTO:-0800
TZNAME:PST
DTSTART:20261101T090000
END:STANDARD
BEGIN:DAYLIGHT
TZOFFSETFROM:-0800
TZOFFSETTO:-0700
TZNAME:PDT
DTSTART:20270314T100000
END:DAYLIGHT
BEGIN:STANDARD
TZOFFSETFROM:-0700
TZOFFSETTO:-0800
TZNAME:PST
DTSTART:20271107T090000
END:STANDARD
END:VTIMEZONE
BEGIN:VEVENT
DTSTART;TZID=America/Los_Angeles:20260512T140000
DTEND;TZID=America/Los_Angeles:20260512T160000
DTSTAMP:20260419T211223
CREATED:20250829T193227Z
LAST-MODIFIED:20250829T193227Z
UID:67439-1778594400-1778601600@www.cypresscollege.edu
SUMMARY:Applied Music Recital - Vocal
DESCRIPTION:This free event is happening in CCCPLX-216.
URL:https://www.cypresscollege.edu/event/applied-music-recital-vocal/
CATEGORIES:Music
END:VEVENT
BEGIN:VEVENT
DTSTART;TZID=America/Los_Angeles:20260514T140000
DTEND;TZID=America/Los_Angeles:20260514T160000
DTSTAMP:20260419T211223
CREATED:20250829T193444Z
LAST-MODIFIED:20250829T193444Z
UID:67443-1778767200-1778774400@www.cypresscollege.edu
SUMMARY:Applied Music Recital - Instrumental
DESCRIPTION:Music majors will be presenting the fruits of their private lesson labors from this semester to display their acquired musical skills. Attendees are invited to cheer on their loved ones\, friends\, and peers\, making for an afternoon of shared accomplishment and celebration. \nThis free event takes place in CCCPLX-216.
URL:https://www.cypresscollege.edu/event/applied-music-recital-instrumental/
CATEGORIES:Music
END:VEVENT
BEGIN:VEVENT
DTSTART;TZID=America/Los_Angeles:20260514T180000
DTEND;TZID=America/Los_Angeles:20260514T180000
DTSTAMP:20260419T211223
CREATED:20250829T193338Z
LAST-MODIFIED:20250829T193338Z
UID:67441-1778781600-1778781600@www.cypresscollege.edu
SUMMARY:Open Mic Night
DESCRIPTION:Experience the power of student-led passion and talent as Cypress College’s singing community presents a concert featuring an array of captivating vocal soloists. From heartfelt ballads to electrifying anthems\, each performance is a testament to the dedication and artistry of our musicians. \nThis free event takes place on the first floor of the FASS building.
URL:https://www.cypresscollege.edu/event/open-mic-night-3/
CATEGORIES:Art,Fine Arts,MAD,Music,Photography,Theater & Dance
END:VEVENT
END:VCALENDAR