BEGIN:VCALENDAR
VERSION:2.0
PRODID:-//Cypress College - ECPv6.15.7//NONSGML v1.0//EN
CALSCALE:GREGORIAN
METHOD:PUBLISH
X-ORIGINAL-URL:https://www.cypresscollege.edu
X-WR-CALDESC:Events for Cypress College
REFRESH-INTERVAL;VALUE=DURATION:PT1H
X-Robots-Tag:noindex
X-PUBLISHED-TTL:PT1H
BEGIN:VTIMEZONE
TZID:America/Los_Angeles
BEGIN:DAYLIGHT
TZOFFSETFROM:-0800
TZOFFSETTO:-0700
TZNAME:PDT
DTSTART:20250309T100000
END:DAYLIGHT
BEGIN:STANDARD
TZOFFSETFROM:-0700
TZOFFSETTO:-0800
TZNAME:PST
DTSTART:20251102T090000
END:STANDARD
BEGIN:DAYLIGHT
TZOFFSETFROM:-0800
TZOFFSETTO:-0700
TZNAME:PDT
DTSTART:20260308T100000
END:DAYLIGHT
BEGIN:STANDARD
TZOFFSETFROM:-0700
TZOFFSETTO:-0800
TZNAME:PST
DTSTART:20261101T090000
END:STANDARD
BEGIN:DAYLIGHT
TZOFFSETFROM:-0800
TZOFFSETTO:-0700
TZNAME:PDT
DTSTART:20270314T100000
END:DAYLIGHT
BEGIN:STANDARD
TZOFFSETFROM:-0700
TZOFFSETTO:-0800
TZNAME:PST
DTSTART:20271107T090000
END:STANDARD
END:VTIMEZONE
BEGIN:VEVENT
DTSTART;TZID=America/Los_Angeles:20260202T080000
DTEND;TZID=America/Los_Angeles:20260202T170000
DTSTAMP:20260419T071748
CREATED:20250829T190152Z
LAST-MODIFIED:20250829T190152Z
UID:67312-1770019200-1770051600@www.cypresscollege.edu
SUMMARY:TOPOGRAPHIX Latinx Photographers and the Suburban Landscape
DESCRIPTION:More than a backdrop\, “place” is a character that shapes and reflects the identities of its inhabitants. Topographic presents photography by Latinx artists who engage their environments\, transform lands into language\, and locate memory and history in places that remain alive with possibility. Curated by Aydinaneth Ortiz and Janet Owen Driggs\, Topographix is part of Foto SoCal. \nThe opening reception is February 12. \nThis free exhibition takes place in the Edouard de Merlier Gallery.
URL:https://www.cypresscollege.edu/event/topographix-latinx-photographers-and-the-suburban-landscape/2026-02-02/
CATEGORIES:Photography
END:VEVENT
BEGIN:VEVENT
DTSTART;TZID=America/Los_Angeles:20260203T080000
DTEND;TZID=America/Los_Angeles:20260203T170000
DTSTAMP:20260419T071748
CREATED:20250829T190152Z
LAST-MODIFIED:20250829T190152Z
UID:67313-1770105600-1770138000@www.cypresscollege.edu
SUMMARY:TOPOGRAPHIX Latinx Photographers and the Suburban Landscape
DESCRIPTION:More than a backdrop\, “place” is a character that shapes and reflects the identities of its inhabitants. Topographic presents photography by Latinx artists who engage their environments\, transform lands into language\, and locate memory and history in places that remain alive with possibility. Curated by Aydinaneth Ortiz and Janet Owen Driggs\, Topographix is part of Foto SoCal. \nThe opening reception is February 12. \nThis free exhibition takes place in the Edouard de Merlier Gallery.
URL:https://www.cypresscollege.edu/event/topographix-latinx-photographers-and-the-suburban-landscape/2026-02-03/
CATEGORIES:Photography
END:VEVENT
BEGIN:VEVENT
DTSTART;TZID=America/Los_Angeles:20260204T080000
DTEND;TZID=America/Los_Angeles:20260204T170000
DTSTAMP:20260419T071748
CREATED:20250829T190152Z
LAST-MODIFIED:20250829T190152Z
UID:67314-1770192000-1770224400@www.cypresscollege.edu
SUMMARY:TOPOGRAPHIX Latinx Photographers and the Suburban Landscape
DESCRIPTION:More than a backdrop\, “place” is a character that shapes and reflects the identities of its inhabitants. Topographic presents photography by Latinx artists who engage their environments\, transform lands into language\, and locate memory and history in places that remain alive with possibility. Curated by Aydinaneth Ortiz and Janet Owen Driggs\, Topographix is part of Foto SoCal. \nThe opening reception is February 12. \nThis free exhibition takes place in the Edouard de Merlier Gallery.
URL:https://www.cypresscollege.edu/event/topographix-latinx-photographers-and-the-suburban-landscape/2026-02-04/
CATEGORIES:Photography
END:VEVENT
BEGIN:VEVENT
DTSTART;TZID=America/Los_Angeles:20260205T080000
DTEND;TZID=America/Los_Angeles:20260205T170000
DTSTAMP:20260419T071748
CREATED:20250829T190152Z
LAST-MODIFIED:20250829T190152Z
UID:67315-1770278400-1770310800@www.cypresscollege.edu
SUMMARY:TOPOGRAPHIX Latinx Photographers and the Suburban Landscape
DESCRIPTION:More than a backdrop\, “place” is a character that shapes and reflects the identities of its inhabitants. Topographic presents photography by Latinx artists who engage their environments\, transform lands into language\, and locate memory and history in places that remain alive with possibility. Curated by Aydinaneth Ortiz and Janet Owen Driggs\, Topographix is part of Foto SoCal. \nThe opening reception is February 12. \nThis free exhibition takes place in the Edouard de Merlier Gallery.
URL:https://www.cypresscollege.edu/event/topographix-latinx-photographers-and-the-suburban-landscape/2026-02-05/
CATEGORIES:Photography
END:VEVENT
BEGIN:VEVENT
DTSTART;TZID=America/Los_Angeles:20260206T080000
DTEND;TZID=America/Los_Angeles:20260206T170000
DTSTAMP:20260419T071748
CREATED:20250829T190152Z
LAST-MODIFIED:20250829T190152Z
UID:67316-1770364800-1770397200@www.cypresscollege.edu
SUMMARY:TOPOGRAPHIX Latinx Photographers and the Suburban Landscape
DESCRIPTION:More than a backdrop\, “place” is a character that shapes and reflects the identities of its inhabitants. Topographic presents photography by Latinx artists who engage their environments\, transform lands into language\, and locate memory and history in places that remain alive with possibility. Curated by Aydinaneth Ortiz and Janet Owen Driggs\, Topographix is part of Foto SoCal. \nThe opening reception is February 12. \nThis free exhibition takes place in the Edouard de Merlier Gallery.
URL:https://www.cypresscollege.edu/event/topographix-latinx-photographers-and-the-suburban-landscape/2026-02-06/
CATEGORIES:Photography
END:VEVENT
BEGIN:VEVENT
DTSTART;TZID=America/Los_Angeles:20260209T080000
DTEND;TZID=America/Los_Angeles:20260209T170000
DTSTAMP:20260419T071748
CREATED:20250829T190152Z
LAST-MODIFIED:20250829T190152Z
UID:67317-1770624000-1770656400@www.cypresscollege.edu
SUMMARY:TOPOGRAPHIX Latinx Photographers and the Suburban Landscape
DESCRIPTION:More than a backdrop\, “place” is a character that shapes and reflects the identities of its inhabitants. Topographic presents photography by Latinx artists who engage their environments\, transform lands into language\, and locate memory and history in places that remain alive with possibility. Curated by Aydinaneth Ortiz and Janet Owen Driggs\, Topographix is part of Foto SoCal. \nThe opening reception is February 12. \nThis free exhibition takes place in the Edouard de Merlier Gallery.
URL:https://www.cypresscollege.edu/event/topographix-latinx-photographers-and-the-suburban-landscape/2026-02-09/
CATEGORIES:Photography
END:VEVENT
BEGIN:VEVENT
DTSTART;TZID=America/Los_Angeles:20260210T080000
DTEND;TZID=America/Los_Angeles:20260210T170000
DTSTAMP:20260419T071748
CREATED:20250829T190152Z
LAST-MODIFIED:20250829T190152Z
UID:67318-1770710400-1770742800@www.cypresscollege.edu
SUMMARY:TOPOGRAPHIX Latinx Photographers and the Suburban Landscape
DESCRIPTION:More than a backdrop\, “place” is a character that shapes and reflects the identities of its inhabitants. Topographic presents photography by Latinx artists who engage their environments\, transform lands into language\, and locate memory and history in places that remain alive with possibility. Curated by Aydinaneth Ortiz and Janet Owen Driggs\, Topographix is part of Foto SoCal. \nThe opening reception is February 12. \nThis free exhibition takes place in the Edouard de Merlier Gallery.
URL:https://www.cypresscollege.edu/event/topographix-latinx-photographers-and-the-suburban-landscape/2026-02-10/
CATEGORIES:Photography
END:VEVENT
BEGIN:VEVENT
DTSTART;TZID=America/Los_Angeles:20260211T080000
DTEND;TZID=America/Los_Angeles:20260211T170000
DTSTAMP:20260419T071748
CREATED:20250829T190152Z
LAST-MODIFIED:20250829T190152Z
UID:67319-1770796800-1770829200@www.cypresscollege.edu
SUMMARY:TOPOGRAPHIX Latinx Photographers and the Suburban Landscape
DESCRIPTION:More than a backdrop\, “place” is a character that shapes and reflects the identities of its inhabitants. Topographic presents photography by Latinx artists who engage their environments\, transform lands into language\, and locate memory and history in places that remain alive with possibility. Curated by Aydinaneth Ortiz and Janet Owen Driggs\, Topographix is part of Foto SoCal. \nThe opening reception is February 12. \nThis free exhibition takes place in the Edouard de Merlier Gallery.
URL:https://www.cypresscollege.edu/event/topographix-latinx-photographers-and-the-suburban-landscape/2026-02-11/
CATEGORIES:Photography
END:VEVENT
BEGIN:VEVENT
DTSTART;TZID=America/Los_Angeles:20260212T080000
DTEND;TZID=America/Los_Angeles:20260212T170000
DTSTAMP:20260419T071748
CREATED:20250829T190152Z
LAST-MODIFIED:20250829T190152Z
UID:67320-1770883200-1770915600@www.cypresscollege.edu
SUMMARY:TOPOGRAPHIX Latinx Photographers and the Suburban Landscape
DESCRIPTION:More than a backdrop\, “place” is a character that shapes and reflects the identities of its inhabitants. Topographic presents photography by Latinx artists who engage their environments\, transform lands into language\, and locate memory and history in places that remain alive with possibility. Curated by Aydinaneth Ortiz and Janet Owen Driggs\, Topographix is part of Foto SoCal. \nThe opening reception is February 12. \nThis free exhibition takes place in the Edouard de Merlier Gallery.
URL:https://www.cypresscollege.edu/event/topographix-latinx-photographers-and-the-suburban-landscape/2026-02-12/
CATEGORIES:Photography
END:VEVENT
BEGIN:VEVENT
DTSTART;TZID=America/Los_Angeles:20260213T080000
DTEND;TZID=America/Los_Angeles:20260213T170000
DTSTAMP:20260419T071748
CREATED:20250829T190152Z
LAST-MODIFIED:20250829T190152Z
UID:67321-1770969600-1771002000@www.cypresscollege.edu
SUMMARY:TOPOGRAPHIX Latinx Photographers and the Suburban Landscape
DESCRIPTION:More than a backdrop\, “place” is a character that shapes and reflects the identities of its inhabitants. Topographic presents photography by Latinx artists who engage their environments\, transform lands into language\, and locate memory and history in places that remain alive with possibility. Curated by Aydinaneth Ortiz and Janet Owen Driggs\, Topographix is part of Foto SoCal. \nThe opening reception is February 12. \nThis free exhibition takes place in the Edouard de Merlier Gallery.
URL:https://www.cypresscollege.edu/event/topographix-latinx-photographers-and-the-suburban-landscape/2026-02-13/
CATEGORIES:Photography
END:VEVENT
BEGIN:VEVENT
DTSTART;TZID=America/Los_Angeles:20260216T080000
DTEND;TZID=America/Los_Angeles:20260216T170000
DTSTAMP:20260419T071748
CREATED:20250829T190152Z
LAST-MODIFIED:20250829T190152Z
UID:67322-1771228800-1771261200@www.cypresscollege.edu
SUMMARY:TOPOGRAPHIX Latinx Photographers and the Suburban Landscape
DESCRIPTION:More than a backdrop\, “place” is a character that shapes and reflects the identities of its inhabitants. Topographic presents photography by Latinx artists who engage their environments\, transform lands into language\, and locate memory and history in places that remain alive with possibility. Curated by Aydinaneth Ortiz and Janet Owen Driggs\, Topographix is part of Foto SoCal. \nThe opening reception is February 12. \nThis free exhibition takes place in the Edouard de Merlier Gallery.
URL:https://www.cypresscollege.edu/event/topographix-latinx-photographers-and-the-suburban-landscape/2026-02-16/
CATEGORIES:Photography
END:VEVENT
BEGIN:VEVENT
DTSTART;TZID=America/Los_Angeles:20260217T080000
DTEND;TZID=America/Los_Angeles:20260217T170000
DTSTAMP:20260419T071748
CREATED:20250829T190152Z
LAST-MODIFIED:20250829T190152Z
UID:67323-1771315200-1771347600@www.cypresscollege.edu
SUMMARY:TOPOGRAPHIX Latinx Photographers and the Suburban Landscape
DESCRIPTION:More than a backdrop\, “place” is a character that shapes and reflects the identities of its inhabitants. Topographic presents photography by Latinx artists who engage their environments\, transform lands into language\, and locate memory and history in places that remain alive with possibility. Curated by Aydinaneth Ortiz and Janet Owen Driggs\, Topographix is part of Foto SoCal. \nThe opening reception is February 12. \nThis free exhibition takes place in the Edouard de Merlier Gallery.
URL:https://www.cypresscollege.edu/event/topographix-latinx-photographers-and-the-suburban-landscape/2026-02-17/
CATEGORIES:Photography
END:VEVENT
BEGIN:VEVENT
DTSTART;TZID=America/Los_Angeles:20260218T080000
DTEND;TZID=America/Los_Angeles:20260218T170000
DTSTAMP:20260419T071748
CREATED:20250829T190152Z
LAST-MODIFIED:20250829T190152Z
UID:67324-1771401600-1771434000@www.cypresscollege.edu
SUMMARY:TOPOGRAPHIX Latinx Photographers and the Suburban Landscape
DESCRIPTION:More than a backdrop\, “place” is a character that shapes and reflects the identities of its inhabitants. Topographic presents photography by Latinx artists who engage their environments\, transform lands into language\, and locate memory and history in places that remain alive with possibility. Curated by Aydinaneth Ortiz and Janet Owen Driggs\, Topographix is part of Foto SoCal. \nThe opening reception is February 12. \nThis free exhibition takes place in the Edouard de Merlier Gallery.
URL:https://www.cypresscollege.edu/event/topographix-latinx-photographers-and-the-suburban-landscape/2026-02-18/
CATEGORIES:Photography
END:VEVENT
BEGIN:VEVENT
DTSTART;TZID=America/Los_Angeles:20260219T080000
DTEND;TZID=America/Los_Angeles:20260219T170000
DTSTAMP:20260419T071748
CREATED:20250829T190152Z
LAST-MODIFIED:20250829T190152Z
UID:67325-1771488000-1771520400@www.cypresscollege.edu
SUMMARY:TOPOGRAPHIX Latinx Photographers and the Suburban Landscape
DESCRIPTION:More than a backdrop\, “place” is a character that shapes and reflects the identities of its inhabitants. Topographic presents photography by Latinx artists who engage their environments\, transform lands into language\, and locate memory and history in places that remain alive with possibility. Curated by Aydinaneth Ortiz and Janet Owen Driggs\, Topographix is part of Foto SoCal. \nThe opening reception is February 12. \nThis free exhibition takes place in the Edouard de Merlier Gallery.
URL:https://www.cypresscollege.edu/event/topographix-latinx-photographers-and-the-suburban-landscape/2026-02-19/
CATEGORIES:Photography
END:VEVENT
END:VCALENDAR