BEGIN:VCALENDAR
VERSION:2.0
PRODID:-//Cypress College - ECPv6.15.7//NONSGML v1.0//EN
CALSCALE:GREGORIAN
METHOD:PUBLISH
X-WR-CALNAME:Cypress College
X-ORIGINAL-URL:https://www.cypresscollege.edu
X-WR-CALDESC:Events for Cypress College
REFRESH-INTERVAL;VALUE=DURATION:PT1H
X-Robots-Tag:noindex
X-PUBLISHED-TTL:PT1H
BEGIN:VTIMEZONE
TZID:America/Los_Angeles
BEGIN:DAYLIGHT
TZOFFSETFROM:-0800
TZOFFSETTO:-0700
TZNAME:PDT
DTSTART:20250309T100000
END:DAYLIGHT
BEGIN:STANDARD
TZOFFSETFROM:-0700
TZOFFSETTO:-0800
TZNAME:PST
DTSTART:20251102T090000
END:STANDARD
BEGIN:DAYLIGHT
TZOFFSETFROM:-0800
TZOFFSETTO:-0700
TZNAME:PDT
DTSTART:20260308T100000
END:DAYLIGHT
BEGIN:STANDARD
TZOFFSETFROM:-0700
TZOFFSETTO:-0800
TZNAME:PST
DTSTART:20261101T090000
END:STANDARD
BEGIN:DAYLIGHT
TZOFFSETFROM:-0800
TZOFFSETTO:-0700
TZNAME:PDT
DTSTART:20270314T100000
END:DAYLIGHT
BEGIN:STANDARD
TZOFFSETFROM:-0700
TZOFFSETTO:-0800
TZNAME:PST
DTSTART:20271107T090000
END:STANDARD
END:VTIMEZONE
BEGIN:VEVENT
DTSTART;TZID=America/Los_Angeles:20260507T080000
DTEND;TZID=America/Los_Angeles:20260507T170000
DTSTAMP:20260419T054231
CREATED:20250829T193128Z
LAST-MODIFIED:20250829T193128Z
UID:67427-1778140800-1778173200@www.cypresscollege.edu
SUMMARY:Photography Students Show 2026
DESCRIPTION:This event is happening in the Edouard de Merlier Gallery. Opening reception is May 7.
URL:https://www.cypresscollege.edu/event/photography-students-show-2026/2026-05-07/
CATEGORIES:Photography
END:VEVENT
BEGIN:VEVENT
DTSTART;TZID=America/Los_Angeles:20260508T080000
DTEND;TZID=America/Los_Angeles:20260508T170000
DTSTAMP:20260419T054231
CREATED:20250829T193128Z
LAST-MODIFIED:20250829T193128Z
UID:67429-1778227200-1778259600@www.cypresscollege.edu
SUMMARY:Photography Students Show 2026
DESCRIPTION:This event is happening in the Edouard de Merlier Gallery. Opening reception is May 7.
URL:https://www.cypresscollege.edu/event/photography-students-show-2026/2026-05-08/
CATEGORIES:Photography
END:VEVENT
BEGIN:VEVENT
DTSTART;TZID=America/Los_Angeles:20260511T080000
DTEND;TZID=America/Los_Angeles:20260511T170000
DTSTAMP:20260419T054231
CREATED:20250829T193128Z
LAST-MODIFIED:20250829T193128Z
UID:67430-1778486400-1778518800@www.cypresscollege.edu
SUMMARY:Photography Students Show 2026
DESCRIPTION:This event is happening in the Edouard de Merlier Gallery. Opening reception is May 7.
URL:https://www.cypresscollege.edu/event/photography-students-show-2026/2026-05-11/
CATEGORIES:Photography
END:VEVENT
BEGIN:VEVENT
DTSTART;TZID=America/Los_Angeles:20260512T080000
DTEND;TZID=America/Los_Angeles:20260512T170000
DTSTAMP:20260419T054231
CREATED:20250829T193128Z
LAST-MODIFIED:20250829T193128Z
UID:67431-1778572800-1778605200@www.cypresscollege.edu
SUMMARY:Photography Students Show 2026
DESCRIPTION:This event is happening in the Edouard de Merlier Gallery. Opening reception is May 7.
URL:https://www.cypresscollege.edu/event/photography-students-show-2026/2026-05-12/
CATEGORIES:Photography
END:VEVENT
BEGIN:VEVENT
DTSTART;TZID=America/Los_Angeles:20260513T080000
DTEND;TZID=America/Los_Angeles:20260513T170000
DTSTAMP:20260419T054231
CREATED:20250829T193128Z
LAST-MODIFIED:20250829T193128Z
UID:67432-1778659200-1778691600@www.cypresscollege.edu
SUMMARY:Photography Students Show 2026
DESCRIPTION:This event is happening in the Edouard de Merlier Gallery. Opening reception is May 7.
URL:https://www.cypresscollege.edu/event/photography-students-show-2026/2026-05-13/
CATEGORIES:Photography
END:VEVENT
BEGIN:VEVENT
DTSTART;TZID=America/Los_Angeles:20260514T080000
DTEND;TZID=America/Los_Angeles:20260514T170000
DTSTAMP:20260419T054231
CREATED:20250829T193128Z
LAST-MODIFIED:20250829T193128Z
UID:67433-1778745600-1778778000@www.cypresscollege.edu
SUMMARY:Photography Students Show 2026
DESCRIPTION:This event is happening in the Edouard de Merlier Gallery. Opening reception is May 7.
URL:https://www.cypresscollege.edu/event/photography-students-show-2026/2026-05-14/
CATEGORIES:Photography
END:VEVENT
BEGIN:VEVENT
DTSTART;TZID=America/Los_Angeles:20260514T180000
DTEND;TZID=America/Los_Angeles:20260514T180000
DTSTAMP:20260419T054231
CREATED:20250829T193338Z
LAST-MODIFIED:20250829T193338Z
UID:67441-1778781600-1778781600@www.cypresscollege.edu
SUMMARY:Open Mic Night
DESCRIPTION:Experience the power of student-led passion and talent as Cypress College’s singing community presents a concert featuring an array of captivating vocal soloists. From heartfelt ballads to electrifying anthems\, each performance is a testament to the dedication and artistry of our musicians. \nThis free event takes place on the first floor of the FASS building.
URL:https://www.cypresscollege.edu/event/open-mic-night-3/
CATEGORIES:Art,Fine Arts,MAD,Music,Photography,Theater & Dance
END:VEVENT
BEGIN:VEVENT
DTSTART;TZID=America/Los_Angeles:20260515T080000
DTEND;TZID=America/Los_Angeles:20260515T170000
DTSTAMP:20260419T054231
CREATED:20250829T193128Z
LAST-MODIFIED:20250829T193128Z
UID:67434-1778832000-1778864400@www.cypresscollege.edu
SUMMARY:Photography Students Show 2026
DESCRIPTION:This event is happening in the Edouard de Merlier Gallery. Opening reception is May 7.
URL:https://www.cypresscollege.edu/event/photography-students-show-2026/2026-05-15/
CATEGORIES:Photography
END:VEVENT
BEGIN:VEVENT
DTSTART;TZID=America/Los_Angeles:20260518T080000
DTEND;TZID=America/Los_Angeles:20260518T170000
DTSTAMP:20260419T054231
CREATED:20250829T193128Z
LAST-MODIFIED:20250829T193128Z
UID:67435-1779091200-1779123600@www.cypresscollege.edu
SUMMARY:Photography Students Show 2026
DESCRIPTION:This event is happening in the Edouard de Merlier Gallery. Opening reception is May 7.
URL:https://www.cypresscollege.edu/event/photography-students-show-2026/2026-05-18/
CATEGORIES:Photography
END:VEVENT
BEGIN:VEVENT
DTSTART;TZID=America/Los_Angeles:20260519T080000
DTEND;TZID=America/Los_Angeles:20260519T170000
DTSTAMP:20260419T054231
CREATED:20250829T193128Z
LAST-MODIFIED:20250829T193128Z
UID:67436-1779177600-1779210000@www.cypresscollege.edu
SUMMARY:Photography Students Show 2026
DESCRIPTION:This event is happening in the Edouard de Merlier Gallery. Opening reception is May 7.
URL:https://www.cypresscollege.edu/event/photography-students-show-2026/2026-05-19/
CATEGORIES:Photography
END:VEVENT
BEGIN:VEVENT
DTSTART;TZID=America/Los_Angeles:20260520T080000
DTEND;TZID=America/Los_Angeles:20260520T170000
DTSTAMP:20260419T054231
CREATED:20250829T193128Z
LAST-MODIFIED:20250829T193128Z
UID:67437-1779264000-1779296400@www.cypresscollege.edu
SUMMARY:Photography Students Show 2026
DESCRIPTION:This event is happening in the Edouard de Merlier Gallery. Opening reception is May 7.
URL:https://www.cypresscollege.edu/event/photography-students-show-2026/2026-05-20/
CATEGORIES:Photography
END:VEVENT
BEGIN:VEVENT
DTSTART;TZID=America/Los_Angeles:20260521T080000
DTEND;TZID=America/Los_Angeles:20260521T170000
DTSTAMP:20260419T054231
CREATED:20250829T193128Z
LAST-MODIFIED:20250829T193128Z
UID:67438-1779350400-1779382800@www.cypresscollege.edu
SUMMARY:Photography Students Show 2026
DESCRIPTION:This event is happening in the Edouard de Merlier Gallery. Opening reception is May 7.
URL:https://www.cypresscollege.edu/event/photography-students-show-2026/2026-05-21/
CATEGORIES:Photography
END:VEVENT
END:VCALENDAR