BEGIN:VCALENDAR
VERSION:2.0
PRODID:-//Cypress College - ECPv6.15.7//NONSGML v1.0//EN
CALSCALE:GREGORIAN
METHOD:PUBLISH
X-ORIGINAL-URL:https://www.cypresscollege.edu
X-WR-CALDESC:Events for Cypress College
REFRESH-INTERVAL;VALUE=DURATION:PT1H
X-Robots-Tag:noindex
X-PUBLISHED-TTL:PT1H
BEGIN:VTIMEZONE
TZID:America/Los_Angeles
BEGIN:DAYLIGHT
TZOFFSETFROM:-0800
TZOFFSETTO:-0700
TZNAME:PDT
DTSTART:20160313T100000
END:DAYLIGHT
BEGIN:STANDARD
TZOFFSETFROM:-0700
TZOFFSETTO:-0800
TZNAME:PST
DTSTART:20161106T090000
END:STANDARD
BEGIN:DAYLIGHT
TZOFFSETFROM:-0800
TZOFFSETTO:-0700
TZNAME:PDT
DTSTART:20170312T100000
END:DAYLIGHT
BEGIN:STANDARD
TZOFFSETFROM:-0700
TZOFFSETTO:-0800
TZNAME:PST
DTSTART:20171105T090000
END:STANDARD
BEGIN:DAYLIGHT
TZOFFSETFROM:-0800
TZOFFSETTO:-0700
TZNAME:PDT
DTSTART:20180311T100000
END:DAYLIGHT
BEGIN:STANDARD
TZOFFSETFROM:-0700
TZOFFSETTO:-0800
TZNAME:PST
DTSTART:20181104T090000
END:STANDARD
END:VTIMEZONE
BEGIN:VEVENT
DTSTART;TZID=America/Los_Angeles:20170518T200000
DTEND;TZID=America/Los_Angeles:20170518T200000
DTSTAMP:20260423T090314
CREATED:20170105T200737Z
LAST-MODIFIED:20170105T200737Z
UID:4889-1495137600-1495137600@www.cypresscollege.edu
SUMMARY:People in Motion
DESCRIPTION:People in Motion is directed by Erin Landry. Tickets are $15 general admission and $12 for seniors\, students with student ID\, and children under 12.
URL:https://www.cypresscollege.edu/event/people-in-motion/
LOCATION:9200 Valley View St.\, Cypress\, CA\, 90630\, United States
CATEGORIES:Theater & Dance
ATTACH;FMTTYPE=image/jpeg:https://www.cypresscollege.edu/wp-content/uploads/PeopleInMotion.jpg
END:VEVENT
BEGIN:VEVENT
DTSTART;TZID=America/Los_Angeles:20170519T200000
DTEND;TZID=America/Los_Angeles:20170519T200000
DTSTAMP:20260423T090314
CREATED:20170105T200902Z
LAST-MODIFIED:20170105T200902Z
UID:4891-1495224000-1495224000@www.cypresscollege.edu
SUMMARY:People in Motion
DESCRIPTION:People in Motion is directed by Erin Landry. Tickets are $15 general admission and $12 for seniors\, students with student ID\, and children under 12.
URL:https://www.cypresscollege.edu/event/people-in-motion-2/
LOCATION:9200 Valley View St.\, Cypress\, CA\, 90630\, United States
CATEGORIES:Theater & Dance
ATTACH;FMTTYPE=image/jpeg:https://www.cypresscollege.edu/wp-content/uploads/PeopleInMotion.jpg
END:VEVENT
BEGIN:VEVENT
DTSTART;TZID=America/Los_Angeles:20170520T200000
DTEND;TZID=America/Los_Angeles:20170520T200000
DTSTAMP:20260423T090314
CREATED:20170105T201027Z
LAST-MODIFIED:20170105T201027Z
UID:4893-1495310400-1495310400@www.cypresscollege.edu
SUMMARY:People in Motion
DESCRIPTION:People in Motion is directed by Erin Landry. Tickets are $15 general admission and $12 for seniors\, students with student ID\, and children under 12.
URL:https://www.cypresscollege.edu/event/people-in-motion-3/
LOCATION:9200 Valley View St.\, Cypress\, CA\, 90630\, United States
CATEGORIES:Theater & Dance
ATTACH;FMTTYPE=image/jpeg:https://www.cypresscollege.edu/wp-content/uploads/PeopleInMotion.jpg
END:VEVENT
END:VCALENDAR