BEGIN:VCALENDAR
VERSION:2.0
PRODID:-//Cypress College - ECPv6.15.7//NONSGML v1.0//EN
CALSCALE:GREGORIAN
METHOD:PUBLISH
X-WR-CALNAME:Cypress College
X-ORIGINAL-URL:https://www.cypresscollege.edu
X-WR-CALDESC:Events for Cypress College
REFRESH-INTERVAL;VALUE=DURATION:PT1H
X-Robots-Tag:noindex
X-PUBLISHED-TTL:PT1H
BEGIN:VTIMEZONE
TZID:America/Los_Angeles
BEGIN:DAYLIGHT
TZOFFSETFROM:-0800
TZOFFSETTO:-0700
TZNAME:PDT
DTSTART:20160313T100000
END:DAYLIGHT
BEGIN:STANDARD
TZOFFSETFROM:-0700
TZOFFSETTO:-0800
TZNAME:PST
DTSTART:20161106T090000
END:STANDARD
BEGIN:DAYLIGHT
TZOFFSETFROM:-0800
TZOFFSETTO:-0700
TZNAME:PDT
DTSTART:20170312T100000
END:DAYLIGHT
BEGIN:STANDARD
TZOFFSETFROM:-0700
TZOFFSETTO:-0800
TZNAME:PST
DTSTART:20171105T090000
END:STANDARD
BEGIN:DAYLIGHT
TZOFFSETFROM:-0800
TZOFFSETTO:-0700
TZNAME:PDT
DTSTART:20180311T100000
END:DAYLIGHT
BEGIN:STANDARD
TZOFFSETFROM:-0700
TZOFFSETTO:-0800
TZNAME:PST
DTSTART:20181104T090000
END:STANDARD
END:VTIMEZONE
BEGIN:VEVENT
DTSTART;TZID=America/Los_Angeles:20170521T160000
DTEND;TZID=America/Los_Angeles:20170521T160000
DTSTAMP:20260423T073013
CREATED:20170105T201144Z
LAST-MODIFIED:20170105T201144Z
UID:4895-1495382400-1495382400@www.cypresscollege.edu
SUMMARY:People in Motion
DESCRIPTION:People in Motion is directed by Erin Landry. Tickets are $15 general admission and $12 for seniors\, students with student ID\, and children under 12.
URL:https://www.cypresscollege.edu/event/people-in-motion-4/
LOCATION:9200 Valley View St.\, Cypress\, CA\, 90630\, United States
CATEGORIES:Theater & Dance
ATTACH;FMTTYPE=image/jpeg:https://www.cypresscollege.edu/wp-content/uploads/PeopleInMotion.jpg
END:VEVENT
BEGIN:VEVENT
DTSTART;TZID=America/Los_Angeles:20170522T190000
DTEND;TZID=America/Los_Angeles:20170522T190000
DTSTAMP:20260423T073013
CREATED:20170112T182805Z
LAST-MODIFIED:20170112T182805Z
UID:4901-1495479600-1495479600@www.cypresscollege.edu
SUMMARY:Choreographers' Showcase
DESCRIPTION:Join us for Triple Threat Week as we celebrate singing\, dancing\, and acting. There is a $5 minimum donation.
URL:https://www.cypresscollege.edu/event/choreographers-showcase/
LOCATION:9200 Valley View St.\, Cypress\, CA\, 90630\, United States
CATEGORIES:Theater & Dance
ATTACH;FMTTYPE=image/jpeg:https://www.cypresscollege.edu/wp-content/uploads/triplethreat.jpg
END:VEVENT
BEGIN:VEVENT
DTSTART;TZID=America/Los_Angeles:20170524T190000
DTEND;TZID=America/Los_Angeles:20170524T190000
DTSTAMP:20260423T073013
CREATED:20170112T182707Z
LAST-MODIFIED:20170112T182707Z
UID:4903-1495652400-1495652400@www.cypresscollege.edu
SUMMARY:Musical Theater Revue
DESCRIPTION:Join us for Triple Threat Week as we celebrate singing\, dancing\, and acting. There is a $5 minimum donation.
URL:https://www.cypresscollege.edu/event/musical-theater-revue/
LOCATION:9200 Valley View St.\, Cypress\, CA\, 90630\, United States
CATEGORIES:Theater & Dance
ATTACH;FMTTYPE=image/jpeg:https://www.cypresscollege.edu/wp-content/uploads/triplethreat.jpg
END:VEVENT
BEGIN:VEVENT
DTSTART;TZID=America/Los_Angeles:20170525T193000
DTEND;TZID=America/Los_Angeles:20170525T193000
DTSTAMP:20260423T073013
CREATED:20170112T182552Z
LAST-MODIFIED:20170112T182552Z
UID:4905-1495740600-1495740600@www.cypresscollege.edu
SUMMARY:Acting Recital
DESCRIPTION:Join us for Triple Threat Week as we celebrate singing\, dancing\, and acting. There is a $5 minimum donation.
URL:https://www.cypresscollege.edu/event/acting-recital/
LOCATION:9200 Valley View St.\, Cypress\, CA\, 90630\, United States
CATEGORIES:Theater & Dance
ATTACH;FMTTYPE=image/jpeg:https://www.cypresscollege.edu/wp-content/uploads/triplethreat.jpg
END:VEVENT
END:VCALENDAR