BEGIN:VCALENDAR
VERSION:2.0
PRODID:-//Cypress College - ECPv6.15.7//NONSGML v1.0//EN
CALSCALE:GREGORIAN
METHOD:PUBLISH
X-WR-CALNAME:Cypress College
X-ORIGINAL-URL:https://www.cypresscollege.edu
X-WR-CALDESC:Events for Cypress College
REFRESH-INTERVAL;VALUE=DURATION:PT1H
X-Robots-Tag:noindex
X-PUBLISHED-TTL:PT1H
BEGIN:VTIMEZONE
TZID:America/Los_Angeles
BEGIN:DAYLIGHT
TZOFFSETFROM:-0800
TZOFFSETTO:-0700
TZNAME:PDT
DTSTART:20160313T100000
END:DAYLIGHT
BEGIN:STANDARD
TZOFFSETFROM:-0700
TZOFFSETTO:-0800
TZNAME:PST
DTSTART:20161106T090000
END:STANDARD
BEGIN:DAYLIGHT
TZOFFSETFROM:-0800
TZOFFSETTO:-0700
TZNAME:PDT
DTSTART:20170312T100000
END:DAYLIGHT
BEGIN:STANDARD
TZOFFSETFROM:-0700
TZOFFSETTO:-0800
TZNAME:PST
DTSTART:20171105T090000
END:STANDARD
BEGIN:DAYLIGHT
TZOFFSETFROM:-0800
TZOFFSETTO:-0700
TZNAME:PDT
DTSTART:20180311T100000
END:DAYLIGHT
BEGIN:STANDARD
TZOFFSETFROM:-0700
TZOFFSETTO:-0800
TZNAME:PST
DTSTART:20181104T090000
END:STANDARD
END:VTIMEZONE
BEGIN:VEVENT
DTSTART;TZID=America/Los_Angeles:20170905T100000
DTEND;TZID=America/Los_Angeles:20170905T130000
DTSTAMP:20260420T135820
CREATED:20170830T181858Z
LAST-MODIFIED:20170830T181858Z
UID:9173-1504605600-1504616400@www.cypresscollege.edu
SUMMARY:University of Utah Table Visit
DESCRIPTION:No appointment necessary. The table visit will take place in front of CCCPLX. \nCypress College Transfer Center\n2nd Floor Student Center\n(714) 484-7129\nOffice Hours: Monday & Thursday 8 a.m. – 6 p.m.\,\nTuesday & Wednesday 8 a.m. – 7 p.m.\, Friday 8 a.m. – 5 p.m.
URL:https://www.cypresscollege.edu/event/university-of-utah-table-visit/2017-09-05/
LOCATION:Cypress College\, 9200 Valley View St.\, Cypress\, CA\, 90630\, United States
CATEGORIES:Transfer Center
GEO:33.8280924;-118.0252758
X-APPLE-STRUCTURED-LOCATION;VALUE=URI;X-ADDRESS=Cypress College 9200 Valley View St. Cypress CA 90630 United States;X-APPLE-RADIUS=500;X-TITLE=9200 Valley View St.:geo:-118.0252758,33.8280924
END:VEVENT
BEGIN:VEVENT
DTSTART;TZID=America/Los_Angeles:20170907T120000
DTEND;TZID=America/Los_Angeles:20170907T130000
DTSTAMP:20260420T135820
CREATED:20170831T231721Z
LAST-MODIFIED:20170831T231721Z
UID:9206-1504785600-1504789200@www.cypresscollege.edu
SUMMARY:TAG Workshops
DESCRIPTION:TAG (Transfer Admission Guarantee) is a free\, quick and easy way to determine if a student is eligible for admission to a specific college or university. A TAG secures a seat at a selected college or university\, provided that the student meets the conditions specified in the agreement. \nTAGS are available for the following schools only:\n~UC Davis~UC Irvine\n~UC Merced~UC Riverside\n~UC Santa Barbara~UC Santa Cruz \nTAG Workshops are held in the Transfer Center. You can sign up to 30 days in advance. SEATING IS LIMITED. Sign up here: http://CypressCollegeTransferCenterWorkshops.eventbrite.com \nCypress College Transfer Center\n2nd Floor Student Center; (714) 484-7129\nFall Office Hours: Monday & Thursday 8 a.m.-6 .p.m.;\nTuesday & Wednesday 8 a.m.-7 .p.m.; & Friday 8 a.m.-5 .p.m.
URL:https://www.cypresscollege.edu/event/tag-workshops/2017-09-07/
LOCATION:Transfer Center
CATEGORIES:Transfer Center,Workshop
GEO:33.827769;-118.025317
END:VEVENT
BEGIN:VEVENT
DTSTART;TZID=America/Los_Angeles:20170911T090000
DTEND;TZID=America/Los_Angeles:20170911T120000
DTSTAMP:20260420T135820
CREATED:20170719T202128Z
LAST-MODIFIED:20170824T030742Z
UID:8035-1505120400-1505131200@www.cypresscollege.edu
SUMMARY:The Art Institute Table Visit
DESCRIPTION:Table visits will take place in front of CCCPLX. No appointment is necessary. \nAvailable Dates:\nMon 9/11 9am-12pm\nMon 10/30 10am-1pm\nMon 11/13 10am-1pm\nMon 12/4 10am-1pm \nFor more information:\nCypress College Transfer Center\n2nd Floor Student Center\, (714) 484-7129\nOffice Hours: Mon & Thurs 8 a.m. – 6 p.m.\, Tues & Wed 8 a.m. – 7 p.m.\, Fri 8 a.m. – 5 p.m.
URL:https://www.cypresscollege.edu/event/the-art-institute-table-visit/
LOCATION:Cypress College\, 9200 Valley View St.\, Cypress\, CA\, 90630\, United States
CATEGORIES:Transfer Center
GEO:33.8280924;-118.0252758
X-APPLE-STRUCTURED-LOCATION;VALUE=URI;X-ADDRESS=Cypress College 9200 Valley View St. Cypress CA 90630 United States;X-APPLE-RADIUS=500;X-TITLE=9200 Valley View St.:geo:-118.0252758,33.8280924
END:VEVENT
BEGIN:VEVENT
DTSTART;TZID=America/Los_Angeles:20170912T100000
DTEND;TZID=America/Los_Angeles:20170912T140000
DTSTAMP:20260420T135820
CREATED:20170905T230524Z
LAST-MODIFIED:20170905T230524Z
UID:9263-1505210400-1505224800@www.cypresscollege.edu
SUMMARY:Transfer Tuesdays
DESCRIPTION:Today’s Transfer Tuesday is happening in the SEM lobby on the first floor!
URL:https://www.cypresscollege.edu/event/transfer-tuesdays/
LOCATION:Cypress College\, 9200 Valley View St.\, Cypress\, CA\, 90630\, United States
CATEGORIES:Transfer Center
GEO:33.8280924;-118.0252758
X-APPLE-STRUCTURED-LOCATION;VALUE=URI;X-ADDRESS=Cypress College 9200 Valley View St. Cypress CA 90630 United States;X-APPLE-RADIUS=500;X-TITLE=9200 Valley View St.:geo:-118.0252758,33.8280924
END:VEVENT
BEGIN:VEVENT
DTSTART;TZID=America/Los_Angeles:20170913T090000
DTEND;TZID=America/Los_Angeles:20170913T150000
DTSTAMP:20260420T135820
CREATED:20170719T200456Z
LAST-MODIFIED:20170824T030724Z
UID:8021-1505293200-1505314800@www.cypresscollege.edu
SUMMARY:UCLA Advisor Appointments
DESCRIPTION:You may sign-up 30 days in advance. Appointments will be held in the Transfer Center. \nAvailable dates:\nSept. 13th (Wed) 9am-3pm\nSept. 27th (Wed) 9am-3pm\nOct. 10th (Tues) 9am-3pm\nOct. 23rd (Mon) 9am-3pm\nNov. 13th (Mon) 9am-3pm\nNov. 27th (Mon) 9am-3pm\nDec. 5th (Tues) 9am-3pm \nFor more information:\nCypress College Transfer Center\n2nd Floor Student Center\, (714) 484-7129\nOffice Hours: Mon & Thurs 8 a.m. – 6 p.m.\, Tues & Wed 8 a.m. – 7 p.m.\, Fri 8 a.m. – 5 p.m.
URL:https://www.cypresscollege.edu/event/ucla-advisor-appointments/
LOCATION:Cypress College\, 9200 Valley View St.\, Cypress\, CA\, 90630\, United States
CATEGORIES:Transfer Center
GEO:33.8280924;-118.0252758
X-APPLE-STRUCTURED-LOCATION;VALUE=URI;X-ADDRESS=Cypress College 9200 Valley View St. Cypress CA 90630 United States;X-APPLE-RADIUS=500;X-TITLE=9200 Valley View St.:geo:-118.0252758,33.8280924
END:VEVENT
BEGIN:VEVENT
DTSTART;TZID=America/Los_Angeles:20170914T090000
DTEND;TZID=America/Los_Angeles:20170914T120000
DTSTAMP:20260420T135820
CREATED:20170719T202750Z
LAST-MODIFIED:20170824T030715Z
UID:8043-1505379600-1505390400@www.cypresscollege.edu
SUMMARY:CSUF Advisor Appointment
DESCRIPTION:These advisor appointments are for students seeking a career in teaching K-12. You may sign up 30 days in advance. Appointments will be held in the Transfer Center. \nAvailable Dates:\nThurs. 9/14 9 a.m.— 12 p.m.\nThurs. 10/26 9 a.m.— 12 p.m.\nWed. 11/22 9 a.m.— 12 p.m. \nFor more information:\nCypress College Transfer Center\n2nd Floor Student Center\, (714) 484-7129\nOffice Hours: Mon & Thurs 8 a.m. – 6 p.m.\, Tues & Wed 8 a.m. – 7 p.m.\, Fri 8 a.m. – 5 p.m.
URL:https://www.cypresscollege.edu/event/csuf-advisor-appointment-2/
LOCATION:Cypress College\, 9200 Valley View St.\, Cypress\, CA\, 90630\, United States
CATEGORIES:Transfer Center
GEO:33.8280924;-118.0252758
X-APPLE-STRUCTURED-LOCATION;VALUE=URI;X-ADDRESS=Cypress College 9200 Valley View St. Cypress CA 90630 United States;X-APPLE-RADIUS=500;X-TITLE=9200 Valley View St.:geo:-118.0252758,33.8280924
END:VEVENT
BEGIN:VEVENT
DTSTART;TZID=America/Los_Angeles:20170918T120000
DTEND;TZID=America/Los_Angeles:20170918T150000
DTSTAMP:20260420T135820
CREATED:20170817T152958Z
LAST-MODIFIED:20170824T030656Z
UID:8555-1505736000-1505746800@www.cypresscollege.edu
SUMMARY:UCI Advisor Appointments
DESCRIPTION:The UCI CalTeach advisor appointments are for future math and science teachers only. \nAppointments will be held in the Transfer Center. You may sign up 30 days in advance. \nTransfer Center\n2nd Floor Student Center\n714-484-7129\nOffice hours: Monday & Thursday 8 a.m. – 6 p.m.\, Tuesday & Wednesday 8 a.m. – 7 p.m.\, Friday 8 a.m. – 5 p.m.
URL:https://www.cypresscollege.edu/event/uci-advisor-appointments/
LOCATION:Cypress College\, 9200 Valley View St.\, Cypress\, CA\, 90630\, United States
CATEGORIES:Transfer Center
GEO:33.8280924;-118.0252758
X-APPLE-STRUCTURED-LOCATION;VALUE=URI;X-ADDRESS=Cypress College 9200 Valley View St. Cypress CA 90630 United States;X-APPLE-RADIUS=500;X-TITLE=9200 Valley View St.:geo:-118.0252758,33.8280924
END:VEVENT
BEGIN:VEVENT
DTSTART;TZID=America/Los_Angeles:20170919T100000
DTEND;TZID=America/Los_Angeles:20170919T140000
DTSTAMP:20260420T135820
CREATED:20170905T230652Z
LAST-MODIFIED:20170905T230652Z
UID:9265-1505815200-1505829600@www.cypresscollege.edu
SUMMARY:Transfer Tuesdays
DESCRIPTION:Today’s Transfer Tuesday is happening in the HUM lobby!
URL:https://www.cypresscollege.edu/event/transfer-tuesdays-2/
LOCATION:Cypress College\, 9200 Valley View St.\, Cypress\, CA\, 90630\, United States
CATEGORIES:Transfer Center
GEO:33.8280924;-118.0252758
X-APPLE-STRUCTURED-LOCATION;VALUE=URI;X-ADDRESS=Cypress College 9200 Valley View St. Cypress CA 90630 United States;X-APPLE-RADIUS=500;X-TITLE=9200 Valley View St.:geo:-118.0252758,33.8280924
END:VEVENT
BEGIN:VEVENT
DTSTART;TZID=America/Los_Angeles:20170920T093000
DTEND;TZID=America/Los_Angeles:20170920T140000
DTSTAMP:20260420T135820
CREATED:20170830T175855Z
LAST-MODIFIED:20170830T175855Z
UID:9146-1505899800-1505916000@www.cypresscollege.edu
SUMMARY:UC Irvine Advisor Appointments
DESCRIPTION:You may sign up 30 days in advance. Appointments will be held in the Transfer Center. \nCypress College Transfer Center\n2nd Floor Student Center\n(714) 484-7129\nOffice Hours: Monday & Thursday 8 a.m. – 6 p.m.\,\nTuesday & Wednesday 8 a.m. – 7 p.m.\, Friday 8 a.m. – 5 p.m.
URL:https://www.cypresscollege.edu/event/uc-irvine-advisor-appointments/2017-09-20/
LOCATION:Transfer Center
CATEGORIES:Transfer Center
GEO:33.827769;-118.025317
END:VEVENT
BEGIN:VEVENT
DTSTART;TZID=America/Los_Angeles:20170922T090000
DTEND;TZID=America/Los_Angeles:20170922T123000
DTSTAMP:20260420T135820
CREATED:20170830T175443Z
LAST-MODIFIED:20170830T175443Z
UID:9140-1506070800-1506083400@www.cypresscollege.edu
SUMMARY:CSUF Advisor Appointments
DESCRIPTION:You may sign up 30 days in advance. Appointments will be held in the Transfer Center. \nCypress College Transfer Center\n2nd Floor Student Center\n(714) 484-7129\nOffice Hours: Monday & Thursday 8 a.m. – 6 p.m.\,\nTuesday & Wednesday 8 a.m. – 7 p.m.\, Friday 8 a.m. – 5 p.m.
URL:https://www.cypresscollege.edu/event/csuf-advisor-appointments/2017-09-22/
LOCATION:Transfer Center
CATEGORIES:Transfer Center
GEO:33.827769;-118.025317
END:VEVENT
BEGIN:VEVENT
DTSTART;TZID=America/Los_Angeles:20170926T100000
DTEND;TZID=America/Los_Angeles:20170926T140000
DTSTAMP:20260420T135820
CREATED:20170905T230745Z
LAST-MODIFIED:20170905T230745Z
UID:9267-1506420000-1506434400@www.cypresscollege.edu
SUMMARY:Transfer Tuesdays
DESCRIPTION:Today’s Transfer Tuesday is happening in the Fine Arts lobby!
URL:https://www.cypresscollege.edu/event/transfer-tuesdays-3/
LOCATION:Cypress College\, 9200 Valley View St.\, Cypress\, CA\, 90630\, United States
CATEGORIES:Transfer Center
GEO:33.8280924;-118.0252758
X-APPLE-STRUCTURED-LOCATION;VALUE=URI;X-ADDRESS=Cypress College 9200 Valley View St. Cypress CA 90630 United States;X-APPLE-RADIUS=500;X-TITLE=9200 Valley View St.:geo:-118.0252758,33.8280924
END:VEVENT
BEGIN:VEVENT
DTSTART;TZID=America/Los_Angeles:20170927T090000
DTEND;TZID=America/Los_Angeles:20170927T150000
DTSTAMP:20260420T135820
CREATED:20170719T200551Z
LAST-MODIFIED:20170824T030633Z
UID:8023-1506502800-1506524400@www.cypresscollege.edu
SUMMARY:UCLA Advisor Appointments
DESCRIPTION:You may sign-up 30 days in advance. Appointments will be held in the Transfer Center. \nAvailable dates:\nSept. 27th (Wed) 9am-3pm\nOct. 10th (Tues) 9am-3pm\nOct. 23rd (Mon) 9am-3pm\nNov. 13th (Mon) 9am-3pm\nNov. 27th (Mon) 9am-3pm\nDec. 5th (Tues) 9am-3pm \nFor more information:\nCypress College Transfer Center\n2nd Floor Student Center\, (714) 484-7129\nOffice Hours: Mon & Thurs 8 a.m. – 6 p.m.\, Tues & Wed 8 a.m. – 7 p.m.\, Fri 8 a.m. – 5 p.m.
URL:https://www.cypresscollege.edu/event/ucla-advisor-appointments-2/
LOCATION:Cypress College\, 9200 Valley View St.\, Cypress\, CA\, 90630\, United States
CATEGORIES:Transfer Center
GEO:33.8280924;-118.0252758
X-APPLE-STRUCTURED-LOCATION;VALUE=URI;X-ADDRESS=Cypress College 9200 Valley View St. Cypress CA 90630 United States;X-APPLE-RADIUS=500;X-TITLE=9200 Valley View St.:geo:-118.0252758,33.8280924
END:VEVENT
BEGIN:VEVENT
DTSTART;TZID=America/Los_Angeles:20170927T100000
DTEND;TZID=America/Los_Angeles:20170927T130000
DTSTAMP:20260420T135820
CREATED:20170719T203216Z
LAST-MODIFIED:20170824T030616Z
UID:8049-1506506400-1506517200@www.cypresscollege.edu
SUMMARY:Hope International University Table Visit
DESCRIPTION:The table visits will take place in front of CCCPLX. No appointment is necessary. \nAvailable Dates:\nWed\, 9/27 10:00 am-1:00 pm\nWed\, 10/25 10:00 am-1:00 pm\nWed\, 11/8 10:00 am-1:00 pm\nWed\, 12/6 10:00 am-1:00 pm \nFor more information:\nCypress College Transfer Center\n2nd Floor Student Center\, (714) 484-7129\nOffice Hours: Mon & Thurs 8 a.m. – 6 p.m.\, Tues & Wed 8 a.m. – 7 p.m.\, Fri 8 a.m. – 5 p.m.
URL:https://www.cypresscollege.edu/event/hope-international-university-table-visit-2/
LOCATION:Cypress College\, 9200 Valley View St.\, Cypress\, CA\, 90630\, United States
CATEGORIES:Transfer Center
GEO:33.8280924;-118.0252758
X-APPLE-STRUCTURED-LOCATION;VALUE=URI;X-ADDRESS=Cypress College 9200 Valley View St. Cypress CA 90630 United States;X-APPLE-RADIUS=500;X-TITLE=9200 Valley View St.:geo:-118.0252758,33.8280924
END:VEVENT
BEGIN:VEVENT
DTSTART;VALUE=DATE:20170930
DTEND;VALUE=DATE:20171001
DTSTAMP:20260420T135820
CREATED:20170914T232647Z
LAST-MODIFIED:20170914T232647Z
UID:9432-1506729600-1506815999@www.cypresscollege.edu
SUMMARY:TAG Application Deadline
DESCRIPTION:
URL:https://www.cypresscollege.edu/event/tag-application-deadline/
LOCATION:CA
CATEGORIES:Important Dates to Remember,Transfer Center
END:VEVENT
END:VCALENDAR