BEGIN:VCALENDAR
VERSION:2.0
PRODID:-//Cypress College - ECPv6.15.7//NONSGML v1.0//EN
CALSCALE:GREGORIAN
METHOD:PUBLISH
X-WR-CALNAME:Cypress College
X-ORIGINAL-URL:https://www.cypresscollege.edu
X-WR-CALDESC:Events for Cypress College
REFRESH-INTERVAL;VALUE=DURATION:PT1H
X-Robots-Tag:noindex
X-PUBLISHED-TTL:PT1H
BEGIN:VTIMEZONE
TZID:America/Los_Angeles
BEGIN:DAYLIGHT
TZOFFSETFROM:-0800
TZOFFSETTO:-0700
TZNAME:PDT
DTSTART:20160313T100000
END:DAYLIGHT
BEGIN:STANDARD
TZOFFSETFROM:-0700
TZOFFSETTO:-0800
TZNAME:PST
DTSTART:20161106T090000
END:STANDARD
BEGIN:DAYLIGHT
TZOFFSETFROM:-0800
TZOFFSETTO:-0700
TZNAME:PDT
DTSTART:20170312T100000
END:DAYLIGHT
BEGIN:STANDARD
TZOFFSETFROM:-0700
TZOFFSETTO:-0800
TZNAME:PST
DTSTART:20171105T090000
END:STANDARD
BEGIN:DAYLIGHT
TZOFFSETFROM:-0800
TZOFFSETTO:-0700
TZNAME:PDT
DTSTART:20180311T100000
END:DAYLIGHT
BEGIN:STANDARD
TZOFFSETFROM:-0700
TZOFFSETTO:-0800
TZNAME:PST
DTSTART:20181104T090000
END:STANDARD
END:VTIMEZONE
BEGIN:VEVENT
DTSTART;TZID=America/Los_Angeles:20171002T120000
DTEND;TZID=America/Los_Angeles:20171002T150000
DTSTAMP:20260420T122806
CREATED:20170817T153151Z
LAST-MODIFIED:20170824T030603Z
UID:8557-1506945600-1506956400@www.cypresscollege.edu
SUMMARY:UCI Advisor Appointments
DESCRIPTION:The UCI CalTeach advisor appointments are for future math and science teachers only. \nAppointments will be held in the Transfer Center. You may sign up 30 days in advance. \nTransfer Center\n2nd Floor Student Center\n714-484-7129\nOffice hours: Monday & Thursday 8 a.m. – 6 p.m.\, Tuesday & Wednesday 8 a.m. – 7 p.m.\, Friday 8 a.m. – 5 p.m.
URL:https://www.cypresscollege.edu/event/uci-advisor-appointments-2/
LOCATION:Cypress College\, 9200 Valley View St.\, Cypress\, CA\, 90630\, United States
CATEGORIES:Transfer Center
GEO:33.8280924;-118.0252758
X-APPLE-STRUCTURED-LOCATION;VALUE=URI;X-ADDRESS=Cypress College 9200 Valley View St. Cypress CA 90630 United States;X-APPLE-RADIUS=500;X-TITLE=9200 Valley View St.:geo:-118.0252758,33.8280924
END:VEVENT
BEGIN:VEVENT
DTSTART;TZID=America/Los_Angeles:20171003T100000
DTEND;TZID=America/Los_Angeles:20171003T130000
DTSTAMP:20260420T122806
CREATED:20170829T170549Z
LAST-MODIFIED:20170829T170549Z
UID:9063-1507024800-1507035600@www.cypresscollege.edu
SUMMARY:SCHEC Transfer Fair
DESCRIPTION:Location: under the Piazza near CCCPLX and Theater Arts building
URL:https://www.cypresscollege.edu/event/schec-transfer-fair/
LOCATION:CA
CATEGORIES:Transfer Center
END:VEVENT
BEGIN:VEVENT
DTSTART;TZID=America/Los_Angeles:20171003T123000
DTEND;TZID=America/Los_Angeles:20171003T133000
DTSTAMP:20260420T122806
CREATED:20170915T170138Z
LAST-MODIFIED:20170915T170138Z
UID:9445-1507033800-1507037400@www.cypresscollege.edu
SUMMARY:UC Application Workshops
DESCRIPTION:You may sign-up 30 days in advance.\nSeating is limited.\nWorkshops will be held in the Transfer Center. \nMust use the link below to sign-up for workshops:\nhttp://CypressCollegeTransferCenterWorkshops.eventbrite.com \nCypress College Transfer Center\, Student Center 2nd Floor\nPhone: (714) 484-7129\nOffice Hours: M & Th 8 a.m.-6 p.m.\,\nT & W 8 a.m.-7 p.m.\, F 8 a.m.-5 p.m.
URL:https://www.cypresscollege.edu/event/uc-application-workshops/2017-10-03/
LOCATION:Transfer Center
CATEGORIES:Transfer Center,Workshop
GEO:33.827769;-118.025317
END:VEVENT
BEGIN:VEVENT
DTSTART;TZID=America/Los_Angeles:20171005T100000
DTEND;TZID=America/Los_Angeles:20171005T120000
DTSTAMP:20260420T122806
CREATED:20170926T160501Z
LAST-MODIFIED:20170926T160512Z
UID:9607-1507197600-1507204800@www.cypresscollege.edu
SUMMARY:UC Santa Cruz Advisor Appointment
DESCRIPTION:Appointments are held in the Transfer Center. You may sign up one month in advance. \nCypress College Transfer Center\n2nd Floor Student Center\n(714) 484-7129\nOffice Hours: Mon & Thurs 8 am – 6 pm\,\nTues & Wed 8 am – 7 pm\, Fri 8 am – 5 pm
URL:https://www.cypresscollege.edu/event/uc-santa-cruz/
LOCATION:Transfer Center
CATEGORIES:Transfer Center
GEO:33.827769;-118.025317
END:VEVENT
BEGIN:VEVENT
DTSTART;TZID=America/Los_Angeles:20171005T133000
DTEND;TZID=America/Los_Angeles:20171005T143000
DTSTAMP:20260420T122806
CREATED:20170915T165647Z
LAST-MODIFIED:20170915T165647Z
UID:9436-1507210200-1507213800@www.cypresscollege.edu
SUMMARY:CSU Application Workshops
DESCRIPTION:You may sign-up 30 days in advance.\nSeating is limited.\nWorkshops will be held in the Transfer Center. \nMust use the link below to sign-up for workshops:\nhttp://CypressCollegeTransferCenterWorkshops.eventbrite.com \nCypress College Transfer Center\, Student Center 2nd Floor\nPhone: (714) 484-7129\nOffice Hours: M & Th 8 a.m.-6 p.m.\,\nT & W 8 a.m.-7 p.m.\, F 8 a.m.-5 p.m.
URL:https://www.cypresscollege.edu/event/csu-application-workshops/2017-10-05/
LOCATION:Transfer Center
CATEGORIES:Transfer Center,Workshop
GEO:33.827769;-118.025317
END:VEVENT
BEGIN:VEVENT
DTSTART;TZID=America/Los_Angeles:20171009T090000
DTEND;TZID=America/Los_Angeles:20171009T180000
DTSTAMP:20260420T122806
CREATED:20170830T180326Z
LAST-MODIFIED:20170830T180326Z
UID:9152-1507539600-1507572000@www.cypresscollege.edu
SUMMARY:UC Santa Barbara Advisor Appointments
DESCRIPTION:You may sign up 30 days in advance. Appointments will be held in the Transfer Center. \nCypress College Transfer Center\n2nd Floor Student Center\n(714) 484-7129\nOffice Hours: Monday & Thursday 8 a.m. – 6 p.m.\,\nTuesday & Wednesday 8 a.m. – 7 p.m.\, Friday 8 a.m. – 5 p.m.
URL:https://www.cypresscollege.edu/event/uc-santa-barbara-advisor-appointments/
LOCATION:Transfer Center
CATEGORIES:Transfer Center
GEO:33.827769;-118.025317
END:VEVENT
BEGIN:VEVENT
DTSTART;TZID=America/Los_Angeles:20171009T140000
DTEND;TZID=America/Los_Angeles:20171009T160000
DTSTAMP:20260420T122806
CREATED:20170926T160632Z
LAST-MODIFIED:20170926T160632Z
UID:9610-1507557600-1507564800@www.cypresscollege.edu
SUMMARY:UC Berkeley Advisor Appointment
DESCRIPTION:Appointments are held in the Transfer Center. You may sign up one month in advance. \nCypress College Transfer Center\n2nd Floor Student Center\n(714) 484-7129\nOffice Hours: Mon & Thurs 8 am – 6 pm\,\nTues & Wed 8 am – 7 pm\, Fri 8 am – 5 pm
URL:https://www.cypresscollege.edu/event/uc-berkeley-advisor-appointment/
LOCATION:Transfer Center
CATEGORIES:Transfer Center
GEO:33.827769;-118.025317
END:VEVENT
BEGIN:VEVENT
DTSTART;TZID=America/Los_Angeles:20171010T090000
DTEND;TZID=America/Los_Angeles:20171010T150000
DTSTAMP:20260420T122806
CREATED:20170719T200741Z
LAST-MODIFIED:20170824T030513Z
UID:8025-1507626000-1507647600@www.cypresscollege.edu
SUMMARY:UCLA Advisor Appointment
DESCRIPTION:You may sign-up 30 days in advance. Appointments will be held in the Transfer Center. \nAvailable dates:\nOct. 10th (Tues) 9am-3pm\nOct. 23rd (Mon) 9am-3pm\nNov. 13th (Mon) 9am-3pm\nNov. 27th (Mon) 9am-3pm\nDec. 5th (Tues) 9am-3pm \nFor more information:\nCypress College Transfer Center\n2nd Floor Student Center\, (714) 484-7129\nOffice Hours: Mon & Thurs 8 a.m. – 6 p.m.\, Tues & Wed 8 a.m. – 7 p.m.\, Fri 8 a.m. – 5 p.m.
URL:https://www.cypresscollege.edu/event/ucla-advisor-appointment/
LOCATION:Cypress College\, 9200 Valley View St.\, Cypress\, CA\, 90630\, United States
CATEGORIES:Transfer Center
GEO:33.8280924;-118.0252758
X-APPLE-STRUCTURED-LOCATION;VALUE=URI;X-ADDRESS=Cypress College 9200 Valley View St. Cypress CA 90630 United States;X-APPLE-RADIUS=500;X-TITLE=9200 Valley View St.:geo:-118.0252758,33.8280924
END:VEVENT
BEGIN:VEVENT
DTSTART;TZID=America/Los_Angeles:20171017T100000
DTEND;TZID=America/Los_Angeles:20171017T130000
DTSTAMP:20260420T122806
CREATED:20170926T160829Z
LAST-MODIFIED:20170926T160829Z
UID:9612-1508234400-1508245200@www.cypresscollege.edu
SUMMARY:Grand Canyon University Table Visit
DESCRIPTION:Table visits are held in front of CCCPLX. No appointment necessary. \nCypress College Transfer Center\n2nd Floor Student Center\n(714) 484-7129\nOffice Hours: Mon & Thurs 8 am – 6 pm\,\nTues & Wed 8 am – 7 pm\, Fri 8 am – 5 pm
URL:https://www.cypresscollege.edu/event/grand-canyon-university-table-visit/2017-10-17/
LOCATION:CA
CATEGORIES:Transfer Center
END:VEVENT
BEGIN:VEVENT
DTSTART;TZID=America/Los_Angeles:20171017T120000
DTEND;TZID=America/Los_Angeles:20171017T150000
DTSTAMP:20260420T122806
CREATED:20170817T153236Z
LAST-MODIFIED:20170824T030423Z
UID:8559-1508241600-1508252400@www.cypresscollege.edu
SUMMARY:UCI Advisor Appointments
DESCRIPTION:The UCI CalTeach advisor appointments are for future math and science teachers only. \nAppointments will be held in the Transfer Center. You may sign up 30 days in advance. \nTransfer Center\n2nd Floor Student Center\n714-484-7129\nOffice hours: Monday & Thursday 8 a.m. – 6 p.m.\, Tuesday & Wednesday 8 a.m. – 7 p.m.\, Friday 8 a.m. – 5 p.m.
URL:https://www.cypresscollege.edu/event/uci-advisor-appointments-3/
LOCATION:Cypress College\, 9200 Valley View St.\, Cypress\, CA\, 90630\, United States
CATEGORIES:Transfer Center
GEO:33.8280924;-118.0252758
X-APPLE-STRUCTURED-LOCATION;VALUE=URI;X-ADDRESS=Cypress College 9200 Valley View St. Cypress CA 90630 United States;X-APPLE-RADIUS=500;X-TITLE=9200 Valley View St.:geo:-118.0252758,33.8280924
END:VEVENT
BEGIN:VEVENT
DTSTART;TZID=America/Los_Angeles:20171023T090000
DTEND;TZID=America/Los_Angeles:20171023T120000
DTSTAMP:20260420T122806
CREATED:20170926T204719Z
LAST-MODIFIED:20170926T204719Z
UID:9629-1508749200-1508760000@www.cypresscollege.edu
SUMMARY:Vanguard University Table Visit
DESCRIPTION:No appointment necessary. \nCypress College Transfer Center\, Student Center 2nd Floor\nPhone: (714) 484-7129\nOffice Hours: Monday & Thursday 8 a.m.-6 p.m.\, Tuesday & Wednesday 8 a.m.-7 p.m.\, Friday 8 a.m.-5 p.m. \nThe event is happening in front of CCCPLX.
URL:https://www.cypresscollege.edu/event/vanguard-university-table-visit/2017-10-23/
LOCATION:CA
CATEGORIES:Transfer Center,Workshop
END:VEVENT
BEGIN:VEVENT
DTSTART;TZID=America/Los_Angeles:20171023T090000
DTEND;TZID=America/Los_Angeles:20171023T150000
DTSTAMP:20260420T122806
CREATED:20170719T200900Z
LAST-MODIFIED:20170824T030404Z
UID:8027-1508749200-1508770800@www.cypresscollege.edu
SUMMARY:UCLA Advisor Appointment
DESCRIPTION:You may sign-up 30 days in advance. Appointments will be held in the Transfer Center. \nAvailable dates:\nOct. 23rd (Mon) 9am-3pm\nNov. 13th (Mon) 9am-3pm\nNov. 27th (Mon) 9am-3pm\nDec. 5th (Tues) 9am-3pm \nFor more information:\nCypress College Transfer Center\n2nd Floor Student Center\, (714) 484-7129\nOffice Hours: Mon & Thurs 8 a.m. – 6 p.m.\, Tues & Wed 8 a.m. – 7 p.m.\, Fri 8 a.m. – 5 p.m.
URL:https://www.cypresscollege.edu/event/ucla-advisor-appointment-2/
LOCATION:Cypress College\, 9200 Valley View St.\, Cypress\, CA\, 90630\, United States
CATEGORIES:Transfer Center
GEO:33.8280924;-118.0252758
X-APPLE-STRUCTURED-LOCATION;VALUE=URI;X-ADDRESS=Cypress College 9200 Valley View St. Cypress CA 90630 United States;X-APPLE-RADIUS=500;X-TITLE=9200 Valley View St.:geo:-118.0252758,33.8280924
END:VEVENT
BEGIN:VEVENT
DTSTART;TZID=America/Los_Angeles:20171025T100000
DTEND;TZID=America/Los_Angeles:20171025T130000
DTSTAMP:20260420T122806
CREATED:20170719T203258Z
LAST-MODIFIED:20170824T030342Z
UID:8051-1508925600-1508936400@www.cypresscollege.edu
SUMMARY:Hope International University Table Visit
DESCRIPTION:The table visits will take place in front of CCCPLX. No appointment is necessary. \nAvailable Dates:\nWed\, 10/25 10:00 am-1:00 pm\nWed\, 11/8 10:00 am-1:00 pm\nWed\, 12/6 10:00 am-1:00 pm \nFor more information:\nCypress College Transfer Center\n2nd Floor Student Center\, (714) 484-7129\nOffice Hours: Mon & Thurs 8 a.m. – 6 p.m.\, Tues & Wed 8 a.m. – 7 p.m.\, Fri 8 a.m. – 5 p.m.
URL:https://www.cypresscollege.edu/event/hope-international-university-table-visit-3/
LOCATION:Cypress College\, 9200 Valley View St.\, Cypress\, CA\, 90630\, United States
CATEGORIES:Transfer Center
GEO:33.8280924;-118.0252758
X-APPLE-STRUCTURED-LOCATION;VALUE=URI;X-ADDRESS=Cypress College 9200 Valley View St. Cypress CA 90630 United States;X-APPLE-RADIUS=500;X-TITLE=9200 Valley View St.:geo:-118.0252758,33.8280924
END:VEVENT
BEGIN:VEVENT
DTSTART;TZID=America/Los_Angeles:20171026T090000
DTEND;TZID=America/Los_Angeles:20171026T120000
DTSTAMP:20260420T122806
CREATED:20170719T202850Z
LAST-MODIFIED:20170824T030322Z
UID:8045-1509008400-1509019200@www.cypresscollege.edu
SUMMARY:CSUF Advisor Appointment
DESCRIPTION:These advisor appointments are for students seeking a career in teaching K-12. You may sign up 30 days in advance. Appointments will be held in the Transfer Center. \nAvailable Dates:\nThurs. 10/26 9 a.m.— 12 p.m.\nWed. 11/22 9 a.m.— 12 p.m. \nFor more information:\nCypress College Transfer Center\n2nd Floor Student Center\, (714) 484-7129\nOffice Hours: Mon & Thurs 8 a.m. – 6 p.m.\, Tues & Wed 8 a.m. – 7 p.m.\, Fri 8 a.m. – 5 p.m.
URL:https://www.cypresscollege.edu/event/csuf-advisor-appointment-3/
LOCATION:Cypress College\, 9200 Valley View St.\, Cypress\, CA\, 90630\, United States
CATEGORIES:Transfer Center
GEO:33.8280924;-118.0252758
X-APPLE-STRUCTURED-LOCATION;VALUE=URI;X-ADDRESS=Cypress College 9200 Valley View St. Cypress CA 90630 United States;X-APPLE-RADIUS=500;X-TITLE=9200 Valley View St.:geo:-118.0252758,33.8280924
END:VEVENT
BEGIN:VEVENT
DTSTART;VALUE=DATE:20171030
DTEND;VALUE=DATE:20171104
DTSTAMP:20260420T122806
CREATED:20170829T170929Z
LAST-MODIFIED:20171026T191822Z
UID:9071-1509321600-1509753599@www.cypresscollege.edu
SUMMARY:Transfer Awareness Week
DESCRIPTION:
URL:https://www.cypresscollege.edu/event/transfer-awareness-week/
LOCATION:Cypress College\, 9200 Valley View St.\, Cypress\, CA\, 90630\, United States
CATEGORIES:Transfer Center
ATTACH;FMTTYPE=image/jpeg:https://www.cypresscollege.edu/wp-content/uploads/Fall-2017-Transfer-Awareness-Week-Flyer.jpg
GEO:33.8280924;-118.0252758
X-APPLE-STRUCTURED-LOCATION;VALUE=URI;X-ADDRESS=Cypress College 9200 Valley View St. Cypress CA 90630 United States;X-APPLE-RADIUS=500;X-TITLE=9200 Valley View St.:geo:-118.0252758,33.8280924
END:VEVENT
BEGIN:VEVENT
DTSTART;TZID=America/Los_Angeles:20171030T080000
DTEND;TZID=America/Los_Angeles:20171030T170000
DTSTAMP:20260420T122806
CREATED:20170926T160406Z
LAST-MODIFIED:20170926T160406Z
UID:9605-1509350400-1509382800@www.cypresscollege.edu
SUMMARY:UC Riverside Advisor Appointment
DESCRIPTION:Appointments are held in the Transfer Center. You may sign up one month in advance. \nCypress College Transfer Center\n2nd Floor Student Center\n(714) 484-7129\nOffice Hours: Mon & Thurs 8 am – 6 pm\,\nTues & Wed 8 am – 7 pm\, Fri 8 am – 5 pm
URL:https://www.cypresscollege.edu/event/uc-riverside-advisor-appointment/
LOCATION:CA
CATEGORIES:Transfer Center
END:VEVENT
BEGIN:VEVENT
DTSTART;TZID=America/Los_Angeles:20171030T100000
DTEND;TZID=America/Los_Angeles:20171030T130000
DTSTAMP:20260420T122806
CREATED:20170719T202234Z
LAST-MODIFIED:20170824T030302Z
UID:8037-1509357600-1509368400@www.cypresscollege.edu
SUMMARY:The Art Institute Table Visit
DESCRIPTION:Table visits will take place in front of CCCPLX. No appointment is necessary. \nAvailable Dates:\nMon 10/30 10am-1pm\nMon 11/13 10am-1pm\nMon 12/4 10am-1pm \nFor more information:\nCypress College Transfer Center\n2nd Floor Student Center\, (714) 484-7129\nOffice Hours: Mon & Thurs 8 a.m. – 6 p.m.\, Tues & Wed 8 a.m. – 7 p.m.\, Fri 8 a.m. – 5 p.m.
URL:https://www.cypresscollege.edu/event/the-art-institute-table-visit-2/
LOCATION:Cypress College\, 9200 Valley View St.\, Cypress\, CA\, 90630\, United States
CATEGORIES:Transfer Center
GEO:33.8280924;-118.0252758
X-APPLE-STRUCTURED-LOCATION;VALUE=URI;X-ADDRESS=Cypress College 9200 Valley View St. Cypress CA 90630 United States;X-APPLE-RADIUS=500;X-TITLE=9200 Valley View St.:geo:-118.0252758,33.8280924
END:VEVENT
BEGIN:VEVENT
DTSTART;TZID=America/Los_Angeles:20171031T120000
DTEND;TZID=America/Los_Angeles:20171031T150000
DTSTAMP:20260420T122806
CREATED:20170817T153335Z
LAST-MODIFIED:20170824T030254Z
UID:8561-1509451200-1509462000@www.cypresscollege.edu
SUMMARY:UCI Advisor Appointments
DESCRIPTION:The UCI CalTeach advisor appointments are for future math and science teachers only. \nAppointments will be held in the Transfer Center. You may sign up 30 days in advance. \nTransfer Center\n2nd Floor Student Center\n714-484-7129\nOffice hours: Monday & Thursday 8 a.m. – 6 p.m.\, Tuesday & Wednesday 8 a.m. – 7 p.m.\, Friday 8 a.m. – 5 p.m.
URL:https://www.cypresscollege.edu/event/uci-advisor-appointments-4/
LOCATION:Cypress College\, 9200 Valley View St.\, Cypress\, CA\, 90630\, United States
CATEGORIES:Transfer Center
GEO:33.8280924;-118.0252758
X-APPLE-STRUCTURED-LOCATION;VALUE=URI;X-ADDRESS=Cypress College 9200 Valley View St. Cypress CA 90630 United States;X-APPLE-RADIUS=500;X-TITLE=9200 Valley View St.:geo:-118.0252758,33.8280924
END:VEVENT
END:VCALENDAR