BEGIN:VCALENDAR
VERSION:2.0
PRODID:-//Cypress College - ECPv6.15.7//NONSGML v1.0//EN
CALSCALE:GREGORIAN
METHOD:PUBLISH
X-ORIGINAL-URL:https://www.cypresscollege.edu
X-WR-CALDESC:Events for Cypress College
REFRESH-INTERVAL;VALUE=DURATION:PT1H
X-Robots-Tag:noindex
X-PUBLISHED-TTL:PT1H
BEGIN:VTIMEZONE
TZID:America/Los_Angeles
BEGIN:DAYLIGHT
TZOFFSETFROM:-0800
TZOFFSETTO:-0700
TZNAME:PDT
DTSTART:20160313T100000
END:DAYLIGHT
BEGIN:STANDARD
TZOFFSETFROM:-0700
TZOFFSETTO:-0800
TZNAME:PST
DTSTART:20161106T090000
END:STANDARD
BEGIN:DAYLIGHT
TZOFFSETFROM:-0800
TZOFFSETTO:-0700
TZNAME:PDT
DTSTART:20170312T100000
END:DAYLIGHT
BEGIN:STANDARD
TZOFFSETFROM:-0700
TZOFFSETTO:-0800
TZNAME:PST
DTSTART:20171105T090000
END:STANDARD
BEGIN:DAYLIGHT
TZOFFSETFROM:-0800
TZOFFSETTO:-0700
TZNAME:PDT
DTSTART:20180311T100000
END:DAYLIGHT
BEGIN:STANDARD
TZOFFSETFROM:-0700
TZOFFSETTO:-0800
TZNAME:PST
DTSTART:20181104T090000
END:STANDARD
END:VTIMEZONE
BEGIN:VEVENT
DTSTART;VALUE=DATE:20171030
DTEND;VALUE=DATE:20171104
DTSTAMP:20260420T105952
CREATED:20170829T170929Z
LAST-MODIFIED:20171026T191822Z
UID:9071-1509321600-1509753599@www.cypresscollege.edu
SUMMARY:Transfer Awareness Week
DESCRIPTION:
URL:https://www.cypresscollege.edu/event/transfer-awareness-week/
LOCATION:Cypress College\, 9200 Valley View St.\, Cypress\, CA\, 90630\, United States
CATEGORIES:Transfer Center
ATTACH;FMTTYPE=image/jpeg:https://www.cypresscollege.edu/wp-content/uploads/Fall-2017-Transfer-Awareness-Week-Flyer.jpg
GEO:33.8280924;-118.0252758
X-APPLE-STRUCTURED-LOCATION;VALUE=URI;X-ADDRESS=Cypress College 9200 Valley View St. Cypress CA 90630 United States;X-APPLE-RADIUS=500;X-TITLE=9200 Valley View St.:geo:-118.0252758,33.8280924
END:VEVENT
BEGIN:VEVENT
DTSTART;TZID=America/Los_Angeles:20171102T100000
DTEND;TZID=America/Los_Angeles:20171102T130000
DTSTAMP:20260420T105952
CREATED:20170829T170642Z
LAST-MODIFIED:20171031T184127Z
UID:9065-1509616800-1509627600@www.cypresscollege.edu
SUMMARY:Transfer & Pre-Graduation Fair
DESCRIPTION:Location: under the Piazza near CCCPLX and Theater Arts building \nPrizes and FREE FOOD! \nOver 40 universities and colleges will be attending\, including CSUs\, UCs\, private colleges and universities\, and out-of-state colleges and universities. \nAt the fair\, you can: \n\nApply for graduation\n\nCounselors will be available to assist with your graduation application\n\n\nReceive important graduation information\nOrder your cap and gown
URL:https://www.cypresscollege.edu/event/transfer-fair-2/
LOCATION:Cypress College\, 9200 Valley View St.\, Cypress\, CA\, 90630\, United States
CATEGORIES:Transfer Center
ATTACH;FMTTYPE=image/png:https://www.cypresscollege.edu/wp-content/uploads/TPGFair-Slides_Artboard-3.png
GEO:33.8280924;-118.0252758
X-APPLE-STRUCTURED-LOCATION;VALUE=URI;X-ADDRESS=Cypress College 9200 Valley View St. Cypress CA 90630 United States;X-APPLE-RADIUS=500;X-TITLE=9200 Valley View St.:geo:-118.0252758,33.8280924
END:VEVENT
BEGIN:VEVENT
DTSTART;TZID=America/Los_Angeles:20171102T130000
DTEND;TZID=America/Los_Angeles:20171102T150000
DTSTAMP:20260420T105952
CREATED:20170926T160034Z
LAST-MODIFIED:20170926T160047Z
UID:9602-1509627600-1509634800@www.cypresscollege.edu
SUMMARY:Chapman University Advisor Appointment
DESCRIPTION:Appointments are held in the Transfer Center. You may sign up one month in advance. \nCypress College Transfer Center\n2nd Floor Student Center\n(714) 484-7129\nOffice Hours: Mon & Thurs 8 am – 6 pm\,\nTues & Wed 8 am – 7 pm\, Fri 8 am – 5 pm
URL:https://www.cypresscollege.edu/event/chapman-university-advisor-appointment/
LOCATION:Transfer Center
CATEGORIES:Transfer Center
GEO:33.827769;-118.025317
END:VEVENT
BEGIN:VEVENT
DTSTART;TZID=America/Los_Angeles:20171102T133000
DTEND;TZID=America/Los_Angeles:20171102T143000
DTSTAMP:20260420T105952
CREATED:20170926T204302Z
LAST-MODIFIED:20170926T204545Z
UID:9625-1509629400-1509633000@www.cypresscollege.edu
SUMMARY:Transferring to USC Workshop
DESCRIPTION:You may sign up 30 days in advance. Seating is limited. To sign up\, visit www.CypressCollegeTransferCenterWorkshops.eventbrite.com. \nCypress College Transfer Center\, Student Center 2nd Floor\nPhone: (714) 484-7129\nOffice Hours: Monday & Thursday 8 a.m.-6 p.m.\, Tuesday & Wednesday 8 a.m.-7 p.m.\, Friday 8 a.m.-5 p.m. \nThe event is happening in CCCPLX 405.
URL:https://www.cypresscollege.edu/event/transferring-to-usc-workshop/
LOCATION:CA
CATEGORIES:Transfer Center,Workshop
END:VEVENT
BEGIN:VEVENT
DTSTART;TZID=America/Los_Angeles:20171106T120000
DTEND;TZID=America/Los_Angeles:20171106T150000
DTSTAMP:20260420T105952
CREATED:20170817T153423Z
LAST-MODIFIED:20170824T030237Z
UID:8563-1509969600-1509980400@www.cypresscollege.edu
SUMMARY:UCI Advisor Appointments
DESCRIPTION:The UCI CalTeach advisor appointments are for future math and science teachers only. \nAppointments will be held in the Transfer Center. You may sign up 30 days in advance. \nTransfer Center\n2nd Floor Student Center\n714-484-7129\nOffice hours: Monday & Thursday 8 a.m. – 6 p.m.\, Tuesday & Wednesday 8 a.m. – 7 p.m.\, Friday 8 a.m. – 5 p.m.
URL:https://www.cypresscollege.edu/event/uci-advisor-appointments-5/
LOCATION:Cypress College\, 9200 Valley View St.\, Cypress\, CA\, 90630\, United States
CATEGORIES:Transfer Center
GEO:33.8280924;-118.0252758
X-APPLE-STRUCTURED-LOCATION;VALUE=URI;X-ADDRESS=Cypress College 9200 Valley View St. Cypress CA 90630 United States;X-APPLE-RADIUS=500;X-TITLE=9200 Valley View St.:geo:-118.0252758,33.8280924
END:VEVENT
BEGIN:VEVENT
DTSTART;TZID=America/Los_Angeles:20171108T100000
DTEND;TZID=America/Los_Angeles:20171108T130000
DTSTAMP:20260420T105952
CREATED:20170719T203440Z
LAST-MODIFIED:20170824T030203Z
UID:8053-1510135200-1510146000@www.cypresscollege.edu
SUMMARY:Hope International University Table Visit
DESCRIPTION:The table visits will take place in front of CCCPLX. No appointment is necessary. \nAvailable Dates:\nWed\, 11/8 10:00 am-1:00 pm\nWed\, 12/6 10:00 am-1:00 pm \nFor more information:\nCypress College Transfer Center\n2nd Floor Student Center\, (714) 484-7129\nOffice Hours: Mon & Thurs 8 a.m. – 6 p.m.\, Tues & Wed 8 a.m. – 7 p.m.\, Fri 8 a.m. – 5 p.m.
URL:https://www.cypresscollege.edu/event/hope-international-university-table-visit-4/
LOCATION:Cypress College\, 9200 Valley View St.\, Cypress\, CA\, 90630\, United States
CATEGORIES:Transfer Center
GEO:33.8280924;-118.0252758
X-APPLE-STRUCTURED-LOCATION;VALUE=URI;X-ADDRESS=Cypress College 9200 Valley View St. Cypress CA 90630 United States;X-APPLE-RADIUS=500;X-TITLE=9200 Valley View St.:geo:-118.0252758,33.8280924
END:VEVENT
BEGIN:VEVENT
DTSTART;TZID=America/Los_Angeles:20171113T090000
DTEND;TZID=America/Los_Angeles:20171113T150000
DTSTAMP:20260420T105952
CREATED:20170719T201029Z
LAST-MODIFIED:20170824T030135Z
UID:8029-1510563600-1510585200@www.cypresscollege.edu
SUMMARY:UCLA Advisor Appointment
DESCRIPTION:You may sign-up 30 days in advance. Appointments will be held in the Transfer Center. \nAvailable dates:\nNov. 13th (Mon) 9am-3pm\nNov. 27th (Mon) 9am-3pm\nDec. 5th (Tues) 9am-3pm \nFor more information:\nCypress College Transfer Center\n2nd Floor Student Center\, (714) 484-7129\nOffice Hours: Mon & Thurs 8 a.m. – 6 p.m.\, Tues & Wed 8 a.m. – 7 p.m.\, Fri 8 a.m. – 5 p.m.
URL:https://www.cypresscollege.edu/event/ucla-advisor-appointment-3/
LOCATION:Cypress College\, 9200 Valley View St.\, Cypress\, CA\, 90630\, United States
CATEGORIES:Transfer Center
GEO:33.8280924;-118.0252758
X-APPLE-STRUCTURED-LOCATION;VALUE=URI;X-ADDRESS=Cypress College 9200 Valley View St. Cypress CA 90630 United States;X-APPLE-RADIUS=500;X-TITLE=9200 Valley View St.:geo:-118.0252758,33.8280924
END:VEVENT
BEGIN:VEVENT
DTSTART;TZID=America/Los_Angeles:20171113T100000
DTEND;TZID=America/Los_Angeles:20171113T130000
DTSTAMP:20260420T105952
CREATED:20170719T202406Z
LAST-MODIFIED:20170824T030127Z
UID:8039-1510567200-1510578000@www.cypresscollege.edu
SUMMARY:The Art Institute Table Visit
DESCRIPTION:Table visits will take place in front of CCCPLX. No appointment is necessary. \nAvailable Dates:\nMon 11/13 10am-1pm\nMon 12/4 10am-1pm \nFor more information:\nCypress College Transfer Center\n2nd Floor Student Center\, (714) 484-7129\nOffice Hours: Mon & Thurs 8 a.m. – 6 p.m.\, Tues & Wed 8 a.m. – 7 p.m.\, Fri 8 a.m. – 5 p.m.
URL:https://www.cypresscollege.edu/event/the-art-institute-table-visit-3/
LOCATION:Cypress College\, 9200 Valley View St.\, Cypress\, CA\, 90630\, United States
CATEGORIES:Transfer Center
GEO:33.8280924;-118.0252758
X-APPLE-STRUCTURED-LOCATION;VALUE=URI;X-ADDRESS=Cypress College 9200 Valley View St. Cypress CA 90630 United States;X-APPLE-RADIUS=500;X-TITLE=9200 Valley View St.:geo:-118.0252758,33.8280924
END:VEVENT
BEGIN:VEVENT
DTSTART;TZID=America/Los_Angeles:20171122T090000
DTEND;TZID=America/Los_Angeles:20171122T120000
DTSTAMP:20260420T105952
CREATED:20170719T203023Z
LAST-MODIFIED:20170824T030037Z
UID:8047-1511341200-1511352000@www.cypresscollege.edu
SUMMARY:CSUF Advisor Appointment
DESCRIPTION:These advisor appointments are for students seeking a career in teaching K-12. You may sign up 30 days in advance. Appointments will be held in the Transfer Center. \nAvailable Dates:\nWed. 11/22 9 a.m.— 12 p.m. \nFor more information:\nCypress College Transfer Center\n2nd Floor Student Center\, (714) 484-7129\nOffice Hours: Mon & Thurs 8 a.m. – 6 p.m.\, Tues & Wed 8 a.m. – 7 p.m.\, Fri 8 a.m. – 5 p.m.
URL:https://www.cypresscollege.edu/event/csuf-advisor-appointment-4/
LOCATION:Cypress College\, 9200 Valley View St.\, Cypress\, CA\, 90630\, United States
CATEGORIES:Transfer Center
GEO:33.8280924;-118.0252758
X-APPLE-STRUCTURED-LOCATION;VALUE=URI;X-ADDRESS=Cypress College 9200 Valley View St. Cypress CA 90630 United States;X-APPLE-RADIUS=500;X-TITLE=9200 Valley View St.:geo:-118.0252758,33.8280924
END:VEVENT
BEGIN:VEVENT
DTSTART;TZID=America/Los_Angeles:20171127T090000
DTEND;TZID=America/Los_Angeles:20171127T150000
DTSTAMP:20260420T105952
CREATED:20170719T201152Z
LAST-MODIFIED:20170824T030020Z
UID:8031-1511773200-1511794800@www.cypresscollege.edu
SUMMARY:UCLA Advisor Appointment
DESCRIPTION:You may sign-up 30 days in advance. Appointments will be held in the Transfer Center. \nAvailable dates:\nNov. 27th (Mon) 9am-3pm\nDec. 5th (Tues) 9am-3pm \nFor more information:\nCypress College Transfer Center\n2nd Floor Student Center\, (714) 484-7129\nOffice Hours: Mon & Thurs 8 a.m. – 6 p.m.\, Tues & Wed 8 a.m. – 7 p.m.\, Fri 8 a.m. – 5 p.m.
URL:https://www.cypresscollege.edu/event/ucla-advisor-appointment-4/
LOCATION:Cypress College\, 9200 Valley View St.\, Cypress\, CA\, 90630\, United States
CATEGORIES:Transfer Center
GEO:33.8280924;-118.0252758
X-APPLE-STRUCTURED-LOCATION;VALUE=URI;X-ADDRESS=Cypress College 9200 Valley View St. Cypress CA 90630 United States;X-APPLE-RADIUS=500;X-TITLE=9200 Valley View St.:geo:-118.0252758,33.8280924
END:VEVENT
BEGIN:VEVENT
DTSTART;VALUE=DATE:20171130
DTEND;VALUE=DATE:20171201
DTSTAMP:20260420T105952
CREATED:20170829T170824Z
LAST-MODIFIED:20170829T170824Z
UID:9069-1512000000-1512086399@www.cypresscollege.edu
SUMMARY:CSU and UC Application Deadline for Fall 2018
DESCRIPTION:
URL:https://www.cypresscollege.edu/event/csu-and-uc-application-deadline-for-fall-2018/
LOCATION:CA
CATEGORIES:Important Dates to Remember,Transfer Center
END:VEVENT
END:VCALENDAR