BEGIN:VCALENDAR
VERSION:2.0
PRODID:-//Cypress College - ECPv6.15.7//NONSGML v1.0//EN
CALSCALE:GREGORIAN
METHOD:PUBLISH
X-WR-CALNAME:Cypress College
X-ORIGINAL-URL:https://www.cypresscollege.edu
X-WR-CALDESC:Events for Cypress College
REFRESH-INTERVAL;VALUE=DURATION:PT1H
X-Robots-Tag:noindex
X-PUBLISHED-TTL:PT1H
BEGIN:VTIMEZONE
TZID:America/Los_Angeles
BEGIN:DAYLIGHT
TZOFFSETFROM:-0800
TZOFFSETTO:-0700
TZNAME:PDT
DTSTART:20170312T100000
END:DAYLIGHT
BEGIN:STANDARD
TZOFFSETFROM:-0700
TZOFFSETTO:-0800
TZNAME:PST
DTSTART:20171105T090000
END:STANDARD
BEGIN:DAYLIGHT
TZOFFSETFROM:-0800
TZOFFSETTO:-0700
TZNAME:PDT
DTSTART:20180311T100000
END:DAYLIGHT
BEGIN:STANDARD
TZOFFSETFROM:-0700
TZOFFSETTO:-0800
TZNAME:PST
DTSTART:20181104T090000
END:STANDARD
BEGIN:DAYLIGHT
TZOFFSETFROM:-0800
TZOFFSETTO:-0700
TZNAME:PDT
DTSTART:20190310T100000
END:DAYLIGHT
BEGIN:STANDARD
TZOFFSETFROM:-0700
TZOFFSETTO:-0800
TZNAME:PST
DTSTART:20191103T090000
END:STANDARD
END:VTIMEZONE
BEGIN:VEVENT
DTSTART;TZID=America/Los_Angeles:20180905T080000
DTEND;TZID=America/Los_Angeles:20180905T140000
DTSTAMP:20260419T193940
CREATED:20180814T231614Z
LAST-MODIFIED:20181022T231004Z
UID:17979-1536134400-1536156000@www.cypresscollege.edu
SUMMARY:UCLA Advisor Appointments
DESCRIPTION:Representatives from UCLA will be on campus to answer any questions you may have. No appointment is necessary. For additional information\, call (714) 484-7129.
URL:https://www.cypresscollege.edu/event/ucla-advisor-appointments-4/2018-09-05/
LOCATION:9200 Valley View St.\, Cypress\, CA\, 90630\, United States
CATEGORIES:Transfer Center
ATTACH;FMTTYPE=image/jpeg:https://www.cypresscollege.edu/wp-content/uploads/Transfer-Center-UCLA-Rep-Appts-Fall-2018.jpg
END:VEVENT
BEGIN:VEVENT
DTSTART;TZID=America/Los_Angeles:20180905T100000
DTEND;TZID=America/Los_Angeles:20180905T130000
DTSTAMP:20260419T193940
CREATED:20180823T210137Z
LAST-MODIFIED:20181022T224703Z
UID:18285-1536141600-1536152400@www.cypresscollege.edu
SUMMARY:Grand Canyon University Table Visit
DESCRIPTION:Representatives from Grand Canyon University will be on campus to answer any questions you may have. No appointment is necessary. For additional information\, call (714) 484-7129.
URL:https://www.cypresscollege.edu/event/grand-canyon-university-table-visit-3/2018-09-05/
LOCATION:9200 Valley View St.\, Cypress\, CA\, 90630\, United States
CATEGORIES:Transfer Center
ATTACH;FMTTYPE=image/jpeg:https://www.cypresscollege.edu/wp-content/uploads/2018-event-transfer-center-GCU-Table-Visits.jpg
END:VEVENT
BEGIN:VEVENT
DTSTART;TZID=America/Los_Angeles:20180906T100000
DTEND;TZID=America/Los_Angeles:20180906T130000
DTSTAMP:20260419T193940
CREATED:20180823T205921Z
LAST-MODIFIED:20181022T225433Z
UID:18276-1536228000-1536238800@www.cypresscollege.edu
SUMMARY:Cogswell College Table Visit
DESCRIPTION:Representatives from Cogswell College will be on campus to answer any questions you may have. No appointment is necessary. For additional information\, call (714) 484-7129.
URL:https://www.cypresscollege.edu/event/cogswell-college-table-visit/2018-09-06/
LOCATION:9200 Valley View St.\, Cypress\, CA\, 90630\, United States
CATEGORIES:Transfer Center
ATTACH;FMTTYPE=image/jpeg:https://www.cypresscollege.edu/wp-content/uploads/2018-Cogswell-College-Fall-transfer-center.jpg
END:VEVENT
BEGIN:VEVENT
DTSTART;TZID=America/Los_Angeles:20180906T140000
DTEND;TZID=America/Los_Angeles:20180906T150000
DTSTAMP:20260419T193940
CREATED:20180806T210422Z
LAST-MODIFIED:20180806T210422Z
UID:17808-1536242400-1536246000@www.cypresscollege.edu
SUMMARY:TAG Workshops
DESCRIPTION:
URL:https://www.cypresscollege.edu/event/tag-workshops-2/2018-09-06/
LOCATION:9200 Valley View St.\, Cypress\, CA\, 90630\, United States
CATEGORIES:Transfer Center,Workshop
ATTACH;FMTTYPE=image/jpeg:https://www.cypresscollege.edu/wp-content/uploads/TAG-Workshop-Flyers-Fall-2018.jpg
END:VEVENT
BEGIN:VEVENT
DTSTART;TZID=America/Los_Angeles:20180910T090000
DTEND;TZID=America/Los_Angeles:20180910T150000
DTSTAMP:20260419T193940
CREATED:20180814T230746Z
LAST-MODIFIED:20181022T223850Z
UID:17943-1536570000-1536591600@www.cypresscollege.edu
SUMMARY:CSUDH Advisor Appointments
DESCRIPTION:Representatives from CSU Dominguez Hills will be on campus to answer any questions you may have. You may sign up 30 days in advance. Appointments will be held in the Transfer Center. To make an appointment\, call (714) 484-7129.
URL:https://www.cypresscollege.edu/event/csudh-advisor-appointments/2018-09-10/
LOCATION:9200 Valley View St.\, Cypress\, CA\, 90630\, United States
CATEGORIES:Transfer Center
ATTACH;FMTTYPE=image/jpeg:https://www.cypresscollege.edu/wp-content/uploads/Transfer-Center-CSUDH-Rep-Appts-Fall-2018.jpg
END:VEVENT
BEGIN:VEVENT
DTSTART;TZID=America/Los_Angeles:20180911T100000
DTEND;TZID=America/Los_Angeles:20180911T130000
DTSTAMP:20260419T193940
CREATED:20180823T205627Z
LAST-MODIFIED:20181022T223535Z
UID:18267-1536660000-1536670800@www.cypresscollege.edu
SUMMARY:Biola University Table Visits
DESCRIPTION:Representatives from Biola University will be on campus to answer any questions you may have. They will be at tables set up in front of the Cypress College Complex. No appointment is necessary. For details\, please call (714) 484-7129.
URL:https://www.cypresscollege.edu/event/biola-university-table-visits/2018-09-11/
LOCATION:9200 Valley View St.\, Cypress\, CA\, 90630\, United States
CATEGORIES:Transfer Center
ATTACH;FMTTYPE=image/jpeg:https://www.cypresscollege.edu/wp-content/uploads/2018-Biola-Fall-Transfer-Center.jpg
END:VEVENT
BEGIN:VEVENT
DTSTART;TZID=America/Los_Angeles:20180912T100000
DTEND;TZID=America/Los_Angeles:20180912T150000
DTSTAMP:20260419T193940
CREATED:20180814T231029Z
LAST-MODIFIED:20181022T225532Z
UID:17953-1536746400-1536764400@www.cypresscollege.edu
SUMMARY:CSU Fullerton Advisor Appointments
DESCRIPTION:Representatives from CSU Fullerton will be on campus to answer any questions you may have. You may sign up 30 days in advance. Appointments will be held in the Transfer Center. To make an appointment\, call (714) 484-7129.
URL:https://www.cypresscollege.edu/event/csu-fullerton-advisor-appointments-2/2018-09-12/
LOCATION:9200 Valley View St.\, Cypress\, CA\, 90630\, United States
CATEGORIES:Transfer Center
ATTACH;FMTTYPE=image/jpeg:https://www.cypresscollege.edu/wp-content/uploads/Transfer-Center-CSUF-Flyer-Fall-2018.jpg
END:VEVENT
BEGIN:VEVENT
DTSTART;TZID=America/Los_Angeles:20180913T090000
DTEND;TZID=America/Los_Angeles:20180913T140000
DTSTAMP:20260419T193940
CREATED:20180814T231426Z
LAST-MODIFIED:20181022T231051Z
UID:17968-1536829200-1536847200@www.cypresscollege.edu
SUMMARY:UC Irvine Advisor Appointments
DESCRIPTION:Representatives from UCI will be on campus to answer any questions you may have. No appointment is necessary. For additional information\, call (714) 484-7129.
URL:https://www.cypresscollege.edu/event/uc-irvine-advisor-appointments-2/2018-09-13/
LOCATION:9200 Valley View St.\, Cypress\, CA\, 90630\, United States
CATEGORIES:Transfer Center
ATTACH;FMTTYPE=image/jpeg:https://www.cypresscollege.edu/wp-content/uploads/Transfer-Center-UCI-Appts-Fall-2018.jpg
END:VEVENT
BEGIN:VEVENT
DTSTART;TZID=America/Los_Angeles:20180919T100000
DTEND;TZID=America/Los_Angeles:20180919T130000
DTSTAMP:20260419T193940
CREATED:20180823T210417Z
LAST-MODIFIED:20181022T231339Z
UID:18293-1537351200-1537362000@www.cypresscollege.edu
SUMMARY:National University Table Visits
DESCRIPTION:Representatives from National University will be on campus to answer any questions you may have. No appointment is necessary. For additional information\, call (714) 484-7129.
URL:https://www.cypresscollege.edu/event/national-university-table-visits/2018-09-19/
LOCATION:9200 Valley View St.\, Cypress\, CA\, 90630\, United States
CATEGORIES:Transfer Center
ATTACH;FMTTYPE=image/jpeg:https://www.cypresscollege.edu/wp-content/uploads/2018-Event-Transfer-Center-National-Table-Visit.jpg
END:VEVENT
BEGIN:VEVENT
DTSTART;TZID=America/Los_Angeles:20180920T093000
DTEND;TZID=America/Los_Angeles:20180920T120000
DTSTAMP:20260419T193940
CREATED:20180904T210137Z
LAST-MODIFIED:20180904T210308Z
UID:18509-1537435800-1537444800@www.cypresscollege.edu
SUMMARY:UC Santa Cruz Advisor Appointments
DESCRIPTION:
URL:https://www.cypresscollege.edu/event/uc-santa-cruz-advisor-appointments/
LOCATION:9200 Valley View St.\, Cypress\, CA\, 90630\, United States
CATEGORIES:Transfer Center
ATTACH;FMTTYPE=image/jpeg:https://www.cypresscollege.edu/wp-content/uploads/2018-Event-Transfer-Center-UCSC-Flyer-1.jpg
END:VEVENT
END:VCALENDAR