BEGIN:VCALENDAR
VERSION:2.0
PRODID:-//Cypress College - ECPv6.15.7//NONSGML v1.0//EN
CALSCALE:GREGORIAN
METHOD:PUBLISH
X-WR-CALNAME:Cypress College
X-ORIGINAL-URL:https://www.cypresscollege.edu
X-WR-CALDESC:Events for Cypress College
REFRESH-INTERVAL;VALUE=DURATION:PT1H
X-Robots-Tag:noindex
X-PUBLISHED-TTL:PT1H
BEGIN:VTIMEZONE
TZID:America/Los_Angeles
BEGIN:DAYLIGHT
TZOFFSETFROM:-0800
TZOFFSETTO:-0700
TZNAME:PDT
DTSTART:20180311T100000
END:DAYLIGHT
BEGIN:STANDARD
TZOFFSETFROM:-0700
TZOFFSETTO:-0800
TZNAME:PST
DTSTART:20181104T090000
END:STANDARD
BEGIN:DAYLIGHT
TZOFFSETFROM:-0800
TZOFFSETTO:-0700
TZNAME:PDT
DTSTART:20190310T100000
END:DAYLIGHT
BEGIN:STANDARD
TZOFFSETFROM:-0700
TZOFFSETTO:-0800
TZNAME:PST
DTSTART:20191103T090000
END:STANDARD
BEGIN:DAYLIGHT
TZOFFSETFROM:-0800
TZOFFSETTO:-0700
TZNAME:PDT
DTSTART:20200308T100000
END:DAYLIGHT
BEGIN:STANDARD
TZOFFSETFROM:-0700
TZOFFSETTO:-0800
TZNAME:PST
DTSTART:20201101T090000
END:STANDARD
END:VTIMEZONE
BEGIN:VEVENT
DTSTART;TZID=America/Los_Angeles:20190301T074500
DTEND;TZID=America/Los_Angeles:20190301T160000
DTSTAMP:20260419T101518
CREATED:20190207T184548Z
LAST-MODIFIED:20190207T184548Z
UID:22709-1551426300-1551456000@www.cypresscollege.edu
SUMMARY:UC Irvine & Vanguard University Bus Tour
DESCRIPTION:Come Tour with Us!\nLunch will be provided by Vanguard University. \nDon’t miss out and sign up at the Transfer Center today! \nA $10 cash-only reservation fee is required at the time of your RSVP. \nThe fee will be refunded at the time of check-in. \nSpace is limited! \nFor information: \nCypress College Transfer Center\n2nd Floor\, Student Center\, (714) 484-7129\nOffice Hours: Monday-Thursday 8 a.m. – 6 p.m.\, Friday 8 a.m. – 5 p.m.
URL:https://www.cypresscollege.edu/event/uc-irvine-vanguard-university-bus-tour/
LOCATION:9200 Valley View St.\, Cypress\, CA\, 90630\, United States
CATEGORIES:Transfer Center
ATTACH;FMTTYPE=image/jpeg:https://www.cypresscollege.edu/wp-content/uploads/2019-Event-Transfer-Center-UCI-Vanguard-Bus-Tour-19.jpg
END:VEVENT
BEGIN:VEVENT
DTSTART;TZID=America/Los_Angeles:20190305T100000
DTEND;TZID=America/Los_Angeles:20190305T130000
DTSTAMP:20260419T101518
CREATED:20190205T223445Z
LAST-MODIFIED:20190305T192806Z
UID:22627-1551780000-1551790800@www.cypresscollege.edu
SUMMARY:Transfer Fair
DESCRIPTION:Where would you like to go?\nThe Transfer Fair is happening under the piazza (near Cypress College Complex and Theater Arts buildings). \nUniversities Attending\n\nAcademy of Art University\nAmerican University of Health Sciences\nAzusa Pacific University\nBiola University\nBrandman University\nCal Poly Pomona\nCal State University Dominguez\nChapman University\nConcordia University\nCSU Fullerton\nCSU Long Beach\nCSULB Health Care Administration\nDeVry University\nEmbry-Riddle Aeronautical University\nFIDM\nGrand Canyon University\nHBCU Transfer Programs\nHope University\nLoma Linda University\nNational University\nNew School of Architecture\nTrident University International\nTrinity Law School\nUC Irvine\nUCLA\nUC Riverside\nUnion Institute & University\nUniversity of La Verne\nUniversity of Phoenix\nUniversity of Redlands\nVanguard University\nWebster University\nWest Coast University\nWestcliff University\n\nWorkshops\n\nPizza with Private Schools Panel 1:30–3 p.m. in CCCPLX-419\nApplying to CSUF Workshop 1:30–2:30 p.m. in the Transfer Center\n\nRepresentative Appointments\n\nCSU Dominguez Hills 9–10 a.m. and 1:30–3 p.m. in the Transfer Center\nCal Poly Pomona 2:30–5 p.m. in the Transfer Center\n\nPlease contact the Transfer Center at (714) 484-7129 to schedule an appointment to meet with a university representative. \nTo sign up for a workshop\, please visit our Eventbrite page: www.CypressCollegeTransferCenterWorkshops.Eventbrite.com
URL:https://www.cypresscollege.edu/event/transfer-fair-4/
LOCATION:9200 Valley View St.\, Cypress\, CA\, 90630\, United States
CATEGORIES:Transfer Center
ATTACH;FMTTYPE=image/jpeg:https://www.cypresscollege.edu/wp-content/uploads/2019-event-transfer-center-SCHECTransferFair-Mar52019.jpg
END:VEVENT
BEGIN:VEVENT
DTSTART;TZID=America/Los_Angeles:20190305T133000
DTEND;TZID=America/Los_Angeles:20190305T143000
DTSTAMP:20260419T101518
CREATED:20190205T223846Z
LAST-MODIFIED:20190205T223846Z
UID:22637-1551792600-1551796200@www.cypresscollege.edu
SUMMARY:CSU Fullerton Highlights
DESCRIPTION:Where: In the Transfer Center \nWould you like to learn more about becoming a CSUF Titan? \nCal State Fullerton will explain it all at this information session. Learn about admission requirements\, academic programs\, student resources\, and more! \nYou may sign up 30 days in advance. \nMust use this link to sign up for the workshop: www.CypressCollegeTransferCenterWorkshops.Eventbrite.com \nFor more information: \nCypress College Transfer Center\n2nd Floor\, Student Center\, (714) 484-7129\nOffice Hours: Monday-Thursday 8 a.m. – 6 p.m.\, Friday 8 a.m. – 5 p.m.
URL:https://www.cypresscollege.edu/event/csu-fullerton-highlights/
LOCATION:9200 Valley View St.\, Cypress\, CA\, 90630\, United States
CATEGORIES:Transfer Center
ATTACH;FMTTYPE=image/jpeg:https://www.cypresscollege.edu/wp-content/uploads/2019-event-transfer-center-CSUF-Highlights.jpg
END:VEVENT
BEGIN:VEVENT
DTSTART;TZID=America/Los_Angeles:20190305T133000
DTEND;TZID=America/Los_Angeles:20190305T150000
DTSTAMP:20260419T101518
CREATED:20190205T223707Z
LAST-MODIFIED:20190205T223707Z
UID:22632-1551792600-1551798000@www.cypresscollege.edu
SUMMARY:Pizza with Private Schools
DESCRIPTION:Where: CCCPLX-419 \nEnjoy lunch and learn about the following universities: \n\nBiola University\nBrandman University\nWebster University\nUniversity of La Verne\nHope International University\nUniversity of Redlands\n\nMust use this link to sign up for the workshop: www.CypressCollegeTransferCenterWorkshops.Eventbrite.com \nFor more information: \nCypress College Transfer Center\n2nd Floor\, Student Center\, (714) 484-7129\nOffice Hours: Monday-Thursday 8 a.m.–6 p.m.\, Friday 8 a.m.–5 p.m.
URL:https://www.cypresscollege.edu/event/pizza-with-private-schools-2/
LOCATION:9200 Valley View St.\, Cypress\, CA\, 90630\, United States
CATEGORIES:Transfer Center
ATTACH;FMTTYPE=image/jpeg:https://www.cypresscollege.edu/wp-content/uploads/2019-event-transfer-center-PizzawPrivateSchools.jpg
END:VEVENT
BEGIN:VEVENT
DTSTART;TZID=America/Los_Angeles:20190305T143000
DTEND;TZID=America/Los_Angeles:20190305T170000
DTSTAMP:20260419T101518
CREATED:20190123T234244Z
LAST-MODIFIED:20190123T234244Z
UID:22221-1551796200-1551805200@www.cypresscollege.edu
SUMMARY:Cal Poly Pomona Advisor Appointment
DESCRIPTION:Appointments will be held in the Transfer Center. You may sign up 30 days in advance. \nFor information: \nCypress College Transfer Center\n2nd Floor\, Student Center\, (714) 484-7129\nOffice Hours: Monday–Thursday 8 a.m.–6 p.m.\, Friday 8 a.m.–5 p.m.
URL:https://www.cypresscollege.edu/event/cal-poly-pomona-advisor-appointment/2019-03-05/
LOCATION:9200 Valley View St.\, Cypress\, CA\, 90630\, United States
CATEGORIES:Transfer Center
ATTACH;FMTTYPE=image/jpeg:https://www.cypresscollege.edu/wp-content/uploads/2019-Event-Transfer-Cal-Poly-Pomona-Appts-Spring.jpg
END:VEVENT
BEGIN:VEVENT
DTSTART;TZID=America/Los_Angeles:20190308T071500
DTEND;TZID=America/Los_Angeles:20190308T160000
DTSTAMP:20260419T101518
CREATED:20190207T184832Z
LAST-MODIFIED:20190207T184832Z
UID:22714-1552029300-1552060800@www.cypresscollege.edu
SUMMARY:Cal Poly Pomona & University of La Verne University Bus Tour
DESCRIPTION:Come Tour with Us!\n\nDon’t miss out and sign up at the Transfer Center today!\nA $10 cash-only reservation fee is required at the time of your RSVP.\nThe fee will be refunded at the time of check-in.\nSpace is limited!\n\nFor information:\nCypress College Transfer Center\n2nd Floor\, Student Center\, (714) 484-7129\nOffice Hours: Monday-Thursday 8 a.m. – 6 p.m.\, Friday 8 a.m. – 5 p.m.
URL:https://www.cypresscollege.edu/event/cal-poly-pomona-university-of-la-verne-university-bus-tour/
LOCATION:9200 Valley View St.\, Cypress\, CA\, 90630\, United States
CATEGORIES:Transfer Center
ATTACH;FMTTYPE=image/jpeg:https://www.cypresscollege.edu/wp-content/uploads/2019-Event-Transfer-Center-CPP-La-Verne-Bus-Tour.jpg
END:VEVENT
BEGIN:VEVENT
DTSTART;TZID=America/Los_Angeles:20190312T100000
DTEND;TZID=America/Los_Angeles:20190312T130000
DTSTAMP:20260419T101518
CREATED:20190124T000532Z
LAST-MODIFIED:20190124T000532Z
UID:22281-1552384800-1552395600@www.cypresscollege.edu
SUMMARY:Westcliff University Table Visits
DESCRIPTION:The table visits take place in front of CCCPLX. No appointment necessary. \nFor information: \nCypress College Transfer Center\n2nd Floor\, Student Center\, (714) 484-7129\nOffice Hours: Monday–Thursday 8 a.m.–6 p.m.\, Friday 8 a.m.–5 p.m.
URL:https://www.cypresscollege.edu/event/westcliff-university-table-visits/2019-03-12/
LOCATION:9200 Valley View St.\, Cypress\, CA\, 90630\, United States
CATEGORIES:Transfer Center
ATTACH;FMTTYPE=image/jpeg:https://www.cypresscollege.edu/wp-content/uploads/2019-Event-Transfer-Westcliff-Table-Visits-Spring-scaled.jpg
END:VEVENT
BEGIN:VEVENT
DTSTART;TZID=America/Los_Angeles:20190312T120000
DTEND;TZID=America/Los_Angeles:20190312T133000
DTSTAMP:20260419T101518
CREATED:20190205T224053Z
LAST-MODIFIED:20190205T224053Z
UID:22641-1552392000-1552397400@www.cypresscollege.edu
SUMMARY:Art Center College of Design Information Session
DESCRIPTION:Where: In the Transfer Center \nAre you considering pursuing art and design at an art school? Art Center College of Design will be presenting about the various design programs their college has to offer. \nYou may sign up 30 days in advance. \nMust use this link to sign up for the workshop: www.CypressCollegeTransferCenterWorkshops.Eventbrite.com \nFor more information: \nCypress College Transfer Center\n2nd Floor\, Student Center\, (714) 484-7129\nOffice Hours: Monday-Thursday 8 a.m. – 6 p.m.\, Friday 8 a.m. – 5 p.m.
URL:https://www.cypresscollege.edu/event/art-center-college-of-design-information-session/
LOCATION:9200 Valley View St.\, Cypress\, CA\, 90630\, United States
CATEGORIES:Transfer Center
ATTACH;FMTTYPE=image/jpeg:https://www.cypresscollege.edu/wp-content/uploads/2019-event-transfer-center-ArtCenterInfoSession.jpg
END:VEVENT
BEGIN:VEVENT
DTSTART;TZID=America/Los_Angeles:20190315T061500
DTEND;TZID=America/Los_Angeles:20190315T170000
DTSTAMP:20260419T101518
CREATED:20190207T190130Z
LAST-MODIFIED:20190207T190229Z
UID:22719-1552630500-1552669200@www.cypresscollege.edu
SUMMARY:UCLA STOMP Conference Bus Tour
DESCRIPTION:Come Tour with Us!\n\nUCLA STOMP Conference\nAll the UCs will be there!\nBreakfast and lunch will be provided.\nDon’t miss out and sign up at the Transfer Center today!\nA $10 cash-only reservation fee is required at the time of your RSVP.\nThe fee will be refunded at the time of check-in.\nSpace is limited!\n\nFor information:\nCypress College Transfer Center\n2nd Floor\, Student Center\, (714) 484-7129\nOffice Hours: Monday-Thursday 8 a.m. – 6 p.m.\, Friday 8 a.m. – 5 p.m.
URL:https://www.cypresscollege.edu/event/ucla-stomp-conference-bus-tour/
LOCATION:9200 Valley View St.\, Cypress\, CA\, 90630\, United States
CATEGORIES:Transfer Center
ATTACH;FMTTYPE=image/jpeg:https://www.cypresscollege.edu/wp-content/uploads/2019-Event-Transfer-Center-UCLA-STOMP.jpg
END:VEVENT
BEGIN:VEVENT
DTSTART;TZID=America/Los_Angeles:20190321T130000
DTEND;TZID=America/Los_Angeles:20190321T140000
DTSTAMP:20260419T101518
CREATED:20190124T210541Z
LAST-MODIFIED:20190124T210541Z
UID:22337-1553173200-1553176800@www.cypresscollege.edu
SUMMARY:Next Steps Workshop with CSU Fullerton
DESCRIPTION:Admitted CSUF students: attend this workshop to learn about the next steps in the transfer process! \nYou can sign up to 30 days in advance. \nWorkshops are held in the Transfer Center. \nMust use this link to sign up: CypressCollegeTransferCenterWorkshops.eventbrite.com \nFor more information: \nCypress College Transfer Center\n2nd Floor\, Student Center\, (714) 484-7129\nOffice Hours: Monday–Thursday 8 a.m.–6 p.m.\, Friday 8 a.m.–5 p.m.
URL:https://www.cypresscollege.edu/event/next-steps-workshop-with-csu-fullerton/2019-03-21/
LOCATION:9200 Valley View St.\, Cypress\, CA\, 90630\, United States
CATEGORIES:Transfer Center,Workshop
ATTACH;FMTTYPE=image/jpeg:https://www.cypresscollege.edu/wp-content/uploads/2019-event-transfer-center-CSUF-Next-Steps-Spring-scaled.jpg
END:VEVENT
BEGIN:VEVENT
DTSTART;TZID=America/Los_Angeles:20190322T084500
DTEND;TZID=America/Los_Angeles:20190322T173000
DTSTAMP:20260419T101518
CREATED:20190207T190359Z
LAST-MODIFIED:20190207T190359Z
UID:22724-1553244300-1553275800@www.cypresscollege.edu
SUMMARY:CSU Long Beach & Biola University Bus Tour
DESCRIPTION:Come Tour with Us!\n\nLunch will be provided by Biola University.\nDon’t miss out and sign up at the Transfer Center today!\nA $10 cash-only reservation fee is required at the time of your RSVP.\nThe fee will be refunded at the time of check-in.\nSpace is limited!\n\nFor information:\nCypress College Transfer Center\n2nd Floor\, Student Center\, (714) 484-7129\nOffice Hours: Monday-Thursday 8 a.m. – 6 p.m.\, Friday 8 a.m. – 5 p.m.
URL:https://www.cypresscollege.edu/event/csu-long-beach-biola-university-bus-tour/
LOCATION:9200 Valley View St.\, Cypress\, CA\, 90630\, United States
CATEGORIES:Transfer Center
ATTACH;FMTTYPE=image/jpeg:https://www.cypresscollege.edu/wp-content/uploads/2019-Event-Transfer-Center-CSULB-Biola-Bus-Tour.jpg
END:VEVENT
BEGIN:VEVENT
DTSTART;TZID=America/Los_Angeles:20190326T110000
DTEND;TZID=America/Los_Angeles:20190326T140000
DTSTAMP:20260419T101518
CREATED:20190123T235811Z
LAST-MODIFIED:20190123T235811Z
UID:22257-1553598000-1553608800@www.cypresscollege.edu
SUMMARY:Grand Canyon University Advisor Appointments
DESCRIPTION:Appointments will be held in the Transfer Center. You may sign up 30 days in advance. \nFor information: \nCypress College Transfer Center\n2nd Floor\, Student Center\, (714) 484-7129\nOffice Hours: Monday–Thursday 8 a.m.–6 p.m.\, Friday 8 a.m.–5 p.m.
URL:https://www.cypresscollege.edu/event/grand-canyon-university-advisor-appointments/
LOCATION:9200 Valley View St.\, Cypress\, CA\, 90630\, United States
CATEGORIES:Transfer Center
ATTACH;FMTTYPE=image/jpeg:https://www.cypresscollege.edu/wp-content/uploads/2019-Event-Transfer-GCU-Rep-Appts-Spring-scaled.jpg
END:VEVENT
END:VCALENDAR