BEGIN:VCALENDAR
VERSION:2.0
PRODID:-//Cypress College - ECPv6.15.7//NONSGML v1.0//EN
CALSCALE:GREGORIAN
METHOD:PUBLISH
X-ORIGINAL-URL:https://www.cypresscollege.edu
X-WR-CALDESC:Events for Cypress College
REFRESH-INTERVAL;VALUE=DURATION:PT1H
X-Robots-Tag:noindex
X-PUBLISHED-TTL:PT1H
BEGIN:VTIMEZONE
TZID:America/Los_Angeles
BEGIN:DAYLIGHT
TZOFFSETFROM:-0800
TZOFFSETTO:-0700
TZNAME:PDT
DTSTART:20180311T100000
END:DAYLIGHT
BEGIN:STANDARD
TZOFFSETFROM:-0700
TZOFFSETTO:-0800
TZNAME:PST
DTSTART:20181104T090000
END:STANDARD
BEGIN:DAYLIGHT
TZOFFSETFROM:-0800
TZOFFSETTO:-0700
TZNAME:PDT
DTSTART:20190310T100000
END:DAYLIGHT
BEGIN:STANDARD
TZOFFSETFROM:-0700
TZOFFSETTO:-0800
TZNAME:PST
DTSTART:20191103T090000
END:STANDARD
BEGIN:DAYLIGHT
TZOFFSETFROM:-0800
TZOFFSETTO:-0700
TZNAME:PDT
DTSTART:20200308T100000
END:DAYLIGHT
BEGIN:STANDARD
TZOFFSETFROM:-0700
TZOFFSETTO:-0800
TZNAME:PST
DTSTART:20201101T090000
END:STANDARD
END:VTIMEZONE
BEGIN:VEVENT
DTSTART;TZID=America/Los_Angeles:20190404T130000
DTEND;TZID=America/Los_Angeles:20190404T140000
DTSTAMP:20260419T084440
CREATED:20190311T192639Z
LAST-MODIFIED:20190311T192639Z
UID:23881-1554382800-1554386400@www.cypresscollege.edu
SUMMARY:I’ve Been Denied by a CSU… Now What?
DESCRIPTION:What are your options after getting denied admission by a CSU? Attend this workshop to find out! \nWorkshop will be held in the Transfer Center. \nYou can sign up 30 days in advance. \nSpace is limited. \nTo sign up for the workshop\, visit this link: CypressCollegeTransferCenterWorkshops.eventbrite.com \nFor more information: \nCypress College Transfer Center \n2nd Floor\, Student Center\, (714) 484-7129 \nOffice Hours: Monday–Thursday 8 a.m.–6 p.m.\, Friday 8 a.m.–5 p.m.
URL:https://www.cypresscollege.edu/event/ive-been-denied-by-a-csu-now-what/
LOCATION:9200 Valley View St.\, Cypress\, CA\, 90630\, United States
CATEGORIES:Transfer Center,Workshop
ATTACH;FMTTYPE=image/jpeg:https://www.cypresscollege.edu/wp-content/uploads/2019-event-transfer-center-CSU-Ive-been-Denied-Workshop.jpg
END:VEVENT
BEGIN:VEVENT
DTSTART;TZID=America/Los_Angeles:20190405T140000
DTEND;TZID=America/Los_Angeles:20190405T150000
DTSTAMP:20260419T084440
CREATED:20190311T211123Z
LAST-MODIFIED:20190311T211123Z
UID:23892-1554472800-1554476400@www.cypresscollege.edu
SUMMARY:Transfer 101 Workshop
DESCRIPTION:This workshop will cover the following\, and more: \n\nBasic CSU & UC Admission Requirements\nTransferable Courses\nApplication Deadlines\n\nThe workshop will be held in the Transfer Center. \nYou may sign up 30 days in advance. \nSpace is limited. \nTo sign up for the workshop\, visit this link: CypressCollegeTransferCenterWorkshops.eventbrite.com \nFor more information: \nCypress College Transfer Center \n2nd Floor\, Student Center\, (714) 484-7129 \nOffice Hours: Monday–Thursday 8 a.m.–6 p.m.\, Friday 8 a.m.–5 p.m.
URL:https://www.cypresscollege.edu/event/transfer-101-workshop-2/
LOCATION:9200 Valley View St.\, Cypress\, CA\, 90630\, United States
CATEGORIES:Transfer Center,Workshop
ATTACH;FMTTYPE=image/jpeg:https://www.cypresscollege.edu/wp-content/uploads/2019-event-Transfer-101-Workshop.jpg
END:VEVENT
BEGIN:VEVENT
DTSTART;TZID=America/Los_Angeles:20190409T100000
DTEND;TZID=America/Los_Angeles:20190409T120000
DTSTAMP:20260419T084440
CREATED:20190313T202000Z
LAST-MODIFIED:20190313T202000Z
UID:24200-1554804000-1554811200@www.cypresscollege.edu
SUMMARY:UC Santa Cruz Advisor Appointments
DESCRIPTION:Appointments with UC Santa Cruz will be held in the Transfer Center. \nYou may sign up 30 days in advance. \nFor more information: \nCypress College Transfer Center \n2nd Floor\, Student Center\, (714) 484-7129 \nOffice Hours: Monday–Thursday 8 a.m.–6 p.m.\, Friday 8 a.m.–5 p.m.
URL:https://www.cypresscollege.edu/event/uc-santa-cruz-advisor-appointments-2/
LOCATION:9200 Valley View St.\, Cypress\, CA\, 90630\, United States
CATEGORIES:Transfer Center
ATTACH;FMTTYPE=image/jpeg:https://www.cypresscollege.edu/wp-content/uploads/2019-event-transfer-center-UCSC-Flyer.jpg
END:VEVENT
BEGIN:VEVENT
DTSTART;TZID=America/Los_Angeles:20190412T074500
DTEND;TZID=America/Los_Angeles:20190412T150000
DTSTAMP:20260419T084440
CREATED:20190207T190558Z
LAST-MODIFIED:20190207T190558Z
UID:22729-1555055100-1555081200@www.cypresscollege.edu
SUMMARY:CSU Dominguez Hills & Loyola Marymount University Bus Tour
DESCRIPTION:Come Tour with Us!\n\nLunch will be provided by Loyola Marymount University.\nDon’t miss out and sign up at the Transfer Center today!\nA $10 cash-only reservation fee is required at the time of your RSVP.\nThe fee will be refunded at the time of check-in.\nSpace is limited!\n\nFor information:\nCypress College Transfer Center\n2nd Floor\, Student Center\, (714) 484-7129\nOffice Hours: Monday-Thursday 8 a.m. – 6 p.m.\, Friday 8 a.m. – 5 p.m.
URL:https://www.cypresscollege.edu/event/csu-dominguez-hills-loyola-marymount-university-bus-tour/
LOCATION:9200 Valley View St.\, Cypress\, CA\, 90630\, United States
CATEGORIES:Transfer Center
ATTACH;FMTTYPE=image/jpeg:https://www.cypresscollege.edu/wp-content/uploads/2019-Event-Transfer-Center-CSUDH-LMU-Bus-Tour.jpg
END:VEVENT
BEGIN:VEVENT
DTSTART;TZID=America/Los_Angeles:20190425T123000
DTEND;TZID=America/Los_Angeles:20190425T133000
DTSTAMP:20260419T084440
CREATED:20190409T174521Z
LAST-MODIFIED:20190409T174521Z
UID:25116-1556195400-1556199000@www.cypresscollege.edu
SUMMARY:Pre-TAG Workshop
DESCRIPTION:What is TAG? \nTAG (Transfer Admission Guarantee) is a free\, quick and easy way to determine if a student is eligible for admission to a specific college or university. A TAG secures a seat at a selected college or university\, provided that the student meets the conditions specified in the agreement. \nTAGS are available for the following schools only: \n\nUC Davis\nUC Irvine\nUC Merced\nUC Riverside\nUC Santa Barbara\nUC Santa Cruz\n\nTo sign up for the workshop\, please visit: CypressCollegeTransferCenterWorkshops.Eventbrite.com \nTAG Workshops will be held in the Transfer Center. \nYou can sign up 30 days in advance. \nSeating is limited. \nFor more information: \nCypress College Transfer Center \n2nd Floor\, Student Center\, (714) 484-7129 \nOffice Hours: Monday–Thursday 8 a.m.–6 p.m.\, Friday 8 a.m.–5 p.m.
URL:https://www.cypresscollege.edu/event/pre-tag-workshop-2/2019-04-25/
LOCATION:9200 Valley View St.\, Cypress\, CA\, 90630\, United States
CATEGORIES:Transfer Center,Workshop
ATTACH;FMTTYPE=image/jpeg:https://www.cypresscollege.edu/wp-content/uploads/2019-event-transfer-Pre-TAG-Workshop.jpg
END:VEVENT
BEGIN:VEVENT
DTSTART;TZID=America/Los_Angeles:20190426T074500
DTEND;TZID=America/Los_Angeles:20190426T160000
DTSTAMP:20260419T084440
CREATED:20190207T194205Z
LAST-MODIFIED:20190207T194205Z
UID:22734-1556264700-1556294400@www.cypresscollege.edu
SUMMARY:CSU Fullerton & Chapman University Bus Tour
DESCRIPTION:Come Tour with Us!\n\nLunch will be provided by Chapman University.\nDon’t miss out and sign up at the Transfer Center today!\nA $10 cash-only reservation fee is required at the time of your RSVP.\nThe fee will be refunded at the time of check-in.\nSpace is limited!\n\nFor information:\nCypress College Transfer Center\n2nd Floor\, Student Center\, (714) 484-7129\nOffice Hours: Monday-Thursday 8 a.m. – 6 p.m.\, Friday 8 a.m. – 5 p.m.
URL:https://www.cypresscollege.edu/event/csu-fullerton-chapman-university-bus-tour/
LOCATION:9200 Valley View St.\, Cypress\, CA\, 90630\, United States
CATEGORIES:Transfer Center
ATTACH;FMTTYPE=image/jpeg:https://www.cypresscollege.edu/wp-content/uploads/2019-Event-Transfer-Center-CSUF-Chapman-Bus-Tour.jpg
END:VEVENT
BEGIN:VEVENT
DTSTART;TZID=America/Los_Angeles:20190429T090000
DTEND;TZID=America/Los_Angeles:20190429T120000
DTSTAMP:20260419T084440
CREATED:20190306T235432Z
LAST-MODIFIED:20190306T235432Z
UID:23440-1556528400-1556539200@www.cypresscollege.edu
SUMMARY:UCLA Advisor Appointments
DESCRIPTION:You may sign up for UCLA advisor appointments 30 days in advance. \nAppointments will be held in the Transfer Center. \nFor more information: \nCypress College Transfer Center \n2nd Floor\, Student Center\, (714) 484-7129 \nOffice Hours: Monday-Thursday 8 a.m.–6 p.m.\, Friday 8 a.m.–5 p.m.
URL:https://www.cypresscollege.edu/event/ucla-advisor-appointments-5/
LOCATION:9200 Valley View St.\, Cypress\, CA\, 90630\, United States
CATEGORIES:Transfer Center
ATTACH;FMTTYPE=image/jpeg:https://www.cypresscollege.edu/wp-content/uploads/2019-transfer-center-UCLA-Rep-Appts.jpg
END:VEVENT
BEGIN:VEVENT
DTSTART;TZID=America/Los_Angeles:20190429T130000
DTEND;TZID=America/Los_Angeles:20190429T140000
DTSTAMP:20260419T084440
CREATED:20190306T235644Z
LAST-MODIFIED:20190306T235644Z
UID:23445-1556542800-1556546400@www.cypresscollege.edu
SUMMARY:Next Steps Workshop with UCLA
DESCRIPTION:Admitted UCLA Bruins – attend this workshop to learn about the next steps in the transfer process! \nWorkshop will be held in the Transfer Center. \nYou may sign up 30 days in advance. \nMust use this link to sign up for the workshop: http://cypresscollegetransfercenterworkshops.eventbrite.com \nFor more information: \nCypress College Transfer Center \n2nd Floor\, Student Center\, (714) 484-7129 \nOffice Hours: Monday-Thursday 8 a.m.–6 p.m.\, Friday 8 a.m.–5 p.m.
URL:https://www.cypresscollege.edu/event/next-steps-workshop-with-ucla/
LOCATION:9200 Valley View St.\, Cypress\, CA\, 90630\, United States
CATEGORIES:Transfer Center
ATTACH;FMTTYPE=image/jpeg:https://www.cypresscollege.edu/wp-content/uploads/2019-transfer-center-UCLA-next-steps.jpg
END:VEVENT
END:VCALENDAR