BEGIN:VCALENDAR
VERSION:2.0
PRODID:-//Cypress College - ECPv6.15.7//NONSGML v1.0//EN
CALSCALE:GREGORIAN
METHOD:PUBLISH
X-ORIGINAL-URL:https://www.cypresscollege.edu
X-WR-CALDESC:Events for Cypress College
REFRESH-INTERVAL;VALUE=DURATION:PT1H
X-Robots-Tag:noindex
X-PUBLISHED-TTL:PT1H
BEGIN:VTIMEZONE
TZID:America/Los_Angeles
BEGIN:DAYLIGHT
TZOFFSETFROM:-0800
TZOFFSETTO:-0700
TZNAME:PDT
DTSTART:20170312T100000
END:DAYLIGHT
BEGIN:STANDARD
TZOFFSETFROM:-0700
TZOFFSETTO:-0800
TZNAME:PST
DTSTART:20171105T090000
END:STANDARD
BEGIN:DAYLIGHT
TZOFFSETFROM:-0800
TZOFFSETTO:-0700
TZNAME:PDT
DTSTART:20180311T100000
END:DAYLIGHT
BEGIN:STANDARD
TZOFFSETFROM:-0700
TZOFFSETTO:-0800
TZNAME:PST
DTSTART:20181104T090000
END:STANDARD
BEGIN:DAYLIGHT
TZOFFSETFROM:-0800
TZOFFSETTO:-0700
TZNAME:PDT
DTSTART:20190310T100000
END:DAYLIGHT
BEGIN:STANDARD
TZOFFSETFROM:-0700
TZOFFSETTO:-0800
TZNAME:PST
DTSTART:20191103T090000
END:STANDARD
END:VTIMEZONE
BEGIN:VEVENT
DTSTART;TZID=America/Los_Angeles:20181030T100000
DTEND;TZID=America/Los_Angeles:20181030T130000
DTSTAMP:20260419T175558
CREATED:20181022T190423Z
LAST-MODIFIED:20181022T190423Z
UID:20004-1540893600-1540904400@www.cypresscollege.edu
SUMMARY:Transfer Tuesdays Table
DESCRIPTION:This event is part of Transfer Awareness Week\, which is a week-long event for students planning to transfer to a four-year university or college. \nLocation: L/LRC Lobby \nPlease call the Transfer Center at (714) 484-7129 to schedule an advisor appointment. Table Visits do not require an appointment. Students must sign up for workshops. To do so\, visit cypresscollegtransfercenterworkshops.eventbrite.com.
URL:https://www.cypresscollege.edu/event/transfer-tuesdays-table/
LOCATION:9200 Valley View St.\, Cypress\, CA\, 90630\, United States
CATEGORIES:Transfer Center
END:VEVENT
BEGIN:VEVENT
DTSTART;TZID=America/Los_Angeles:20181030T100000
DTEND;TZID=America/Los_Angeles:20181030T130000
DTSTAMP:20260419T175558
CREATED:20181022T190526Z
LAST-MODIFIED:20181022T190526Z
UID:20007-1540893600-1540904400@www.cypresscollege.edu
SUMMARY:Grand Canyon University Table Visit
DESCRIPTION:This event is part of Transfer Awareness Week\, which is a week-long event for students planning to transfer to a four-year university or college. \nLocation: In front of Cypress College Complex \nPlease call the Transfer Center at (714) 484-7129 to schedule an advisor appointment. Table Visits do not require an appointment. Students must sign up for workshops. To do so\, visit cypresscollegtransfercenterworkshops.eventbrite.com.
URL:https://www.cypresscollege.edu/event/grand-canyon-university-table-visit-4/
LOCATION:9200 Valley View St.\, Cypress\, CA\, 90630\, United States
CATEGORIES:Transfer Center
END:VEVENT
BEGIN:VEVENT
DTSTART;TZID=America/Los_Angeles:20181030T130000
DTEND;TZID=America/Los_Angeles:20181030T140000
DTSTAMP:20260419T175559
CREATED:20181001T222559Z
LAST-MODIFIED:20181001T222559Z
UID:19362-1540904400-1540908000@www.cypresscollege.edu
SUMMARY:Associate Degree for Transfer (ADT) Workshop
DESCRIPTION:
URL:https://www.cypresscollege.edu/event/associate-degree-for-transfer-adt-workshop/
LOCATION:9200 Valley View St.\, Cypress\, CA\, 90630\, United States
CATEGORIES:Transfer Center,Workshop
ATTACH;FMTTYPE=image/jpeg:https://www.cypresscollege.edu/wp-content/uploads/2018_Event-Transfer-Center-ADT-Workshop-scaled.jpg
END:VEVENT
BEGIN:VEVENT
DTSTART;TZID=America/Los_Angeles:20181030T130000
DTEND;TZID=America/Los_Angeles:20181030T140000
DTSTAMP:20260419T175559
CREATED:20181022T190710Z
LAST-MODIFIED:20181022T190710Z
UID:20013-1540904400-1540908000@www.cypresscollege.edu
SUMMARY:ADT (Associate Degree for Transfer) Workshop
DESCRIPTION:This event is part of Transfer Awareness Week\, which is a week-long event for students planning to transfer to a four-year university or college. \nLocation: Transfer Center \nPlease call the Transfer Center at (714) 484-7129 to schedule an advisor appointment. Table Visits do not require an appointment. Students must sign up for workshops. To do so\, visit cypresscollegtransfercenterworkshops.eventbrite.com.
URL:https://www.cypresscollege.edu/event/adt-associate-degree-for-transfer-workshop/
LOCATION:9200 Valley View St.\, Cypress\, CA\, 90630\, United States
CATEGORIES:Transfer Center
END:VEVENT
BEGIN:VEVENT
DTSTART;TZID=America/Los_Angeles:20181030T143000
DTEND;TZID=America/Los_Angeles:20181030T153000
DTSTAMP:20260419T175559
CREATED:20181022T190801Z
LAST-MODIFIED:20181022T190801Z
UID:20016-1540909800-1540913400@www.cypresscollege.edu
SUMMARY:DegreeWorks 101 Workshop
DESCRIPTION:This event is part of Transfer Awareness Week\, which is a week-long event for students planning to transfer to a four-year university or college. \nLocation: Transfer Center \nPlease call the Transfer Center at (714) 484-7129 to schedule an advisor appointment. Table Visits do not require an appointment. Students must sign up for workshops. To do so\, visit cypresscollegtransfercenterworkshops.eventbrite.com.
URL:https://www.cypresscollege.edu/event/degreeworks-101-workshop-2/
LOCATION:9200 Valley View St.\, Cypress\, CA\, 90630\, United States
CATEGORIES:Transfer Center
END:VEVENT
END:VCALENDAR