BEGIN:VCALENDAR
VERSION:2.0
PRODID:-//Cypress College - ECPv6.15.7//NONSGML v1.0//EN
CALSCALE:GREGORIAN
METHOD:PUBLISH
X-ORIGINAL-URL:https://www.cypresscollege.edu
X-WR-CALDESC:Events for Cypress College
REFRESH-INTERVAL;VALUE=DURATION:PT1H
X-Robots-Tag:noindex
X-PUBLISHED-TTL:PT1H
BEGIN:VTIMEZONE
TZID:America/Los_Angeles
BEGIN:DAYLIGHT
TZOFFSETFROM:-0800
TZOFFSETTO:-0700
TZNAME:PDT
DTSTART:20160313T100000
END:DAYLIGHT
BEGIN:STANDARD
TZOFFSETFROM:-0700
TZOFFSETTO:-0800
TZNAME:PST
DTSTART:20161106T090000
END:STANDARD
BEGIN:DAYLIGHT
TZOFFSETFROM:-0800
TZOFFSETTO:-0700
TZNAME:PDT
DTSTART:20170312T100000
END:DAYLIGHT
BEGIN:STANDARD
TZOFFSETFROM:-0700
TZOFFSETTO:-0800
TZNAME:PST
DTSTART:20171105T090000
END:STANDARD
BEGIN:DAYLIGHT
TZOFFSETFROM:-0800
TZOFFSETTO:-0700
TZNAME:PDT
DTSTART:20180311T100000
END:DAYLIGHT
BEGIN:STANDARD
TZOFFSETFROM:-0700
TZOFFSETTO:-0800
TZNAME:PST
DTSTART:20181104T090000
END:STANDARD
END:VTIMEZONE
BEGIN:VEVENT
DTSTART;TZID=America/Los_Angeles:20170918T120000
DTEND;TZID=America/Los_Angeles:20170918T150000
DTSTAMP:20260420T183631
CREATED:20170817T152958Z
LAST-MODIFIED:20170824T030656Z
UID:8555-1505736000-1505746800@www.cypresscollege.edu
SUMMARY:UCI Advisor Appointments
DESCRIPTION:The UCI CalTeach advisor appointments are for future math and science teachers only. \nAppointments will be held in the Transfer Center. You may sign up 30 days in advance. \nTransfer Center\n2nd Floor Student Center\n714-484-7129\nOffice hours: Monday & Thursday 8 a.m. – 6 p.m.\, Tuesday & Wednesday 8 a.m. – 7 p.m.\, Friday 8 a.m. – 5 p.m.
URL:https://www.cypresscollege.edu/event/uci-advisor-appointments/
LOCATION:Cypress College\, 9200 Valley View St.\, Cypress\, CA\, 90630\, United States
CATEGORIES:Transfer Center
GEO:33.8280924;-118.0252758
X-APPLE-STRUCTURED-LOCATION;VALUE=URI;X-ADDRESS=Cypress College 9200 Valley View St. Cypress CA 90630 United States;X-APPLE-RADIUS=500;X-TITLE=9200 Valley View St.:geo:-118.0252758,33.8280924
END:VEVENT
BEGIN:VEVENT
DTSTART;TZID=America/Los_Angeles:20170919T100000
DTEND;TZID=America/Los_Angeles:20170919T140000
DTSTAMP:20260420T183631
CREATED:20170905T230652Z
LAST-MODIFIED:20170905T230652Z
UID:9265-1505815200-1505829600@www.cypresscollege.edu
SUMMARY:Transfer Tuesdays
DESCRIPTION:Today’s Transfer Tuesday is happening in the HUM lobby!
URL:https://www.cypresscollege.edu/event/transfer-tuesdays-2/
LOCATION:Cypress College\, 9200 Valley View St.\, Cypress\, CA\, 90630\, United States
CATEGORIES:Transfer Center
GEO:33.8280924;-118.0252758
X-APPLE-STRUCTURED-LOCATION;VALUE=URI;X-ADDRESS=Cypress College 9200 Valley View St. Cypress CA 90630 United States;X-APPLE-RADIUS=500;X-TITLE=9200 Valley View St.:geo:-118.0252758,33.8280924
END:VEVENT
BEGIN:VEVENT
DTSTART;TZID=America/Los_Angeles:20170920T093000
DTEND;TZID=America/Los_Angeles:20170920T140000
DTSTAMP:20260420T183631
CREATED:20170830T175855Z
LAST-MODIFIED:20170830T175855Z
UID:9146-1505899800-1505916000@www.cypresscollege.edu
SUMMARY:UC Irvine Advisor Appointments
DESCRIPTION:You may sign up 30 days in advance. Appointments will be held in the Transfer Center. \nCypress College Transfer Center\n2nd Floor Student Center\n(714) 484-7129\nOffice Hours: Monday & Thursday 8 a.m. – 6 p.m.\,\nTuesday & Wednesday 8 a.m. – 7 p.m.\, Friday 8 a.m. – 5 p.m.
URL:https://www.cypresscollege.edu/event/uc-irvine-advisor-appointments/2017-09-20/
LOCATION:Transfer Center
CATEGORIES:Transfer Center
GEO:33.827769;-118.025317
END:VEVENT
BEGIN:VEVENT
DTSTART;TZID=America/Los_Angeles:20170922T090000
DTEND;TZID=America/Los_Angeles:20170922T123000
DTSTAMP:20260420T183631
CREATED:20170830T175443Z
LAST-MODIFIED:20170830T175443Z
UID:9140-1506070800-1506083400@www.cypresscollege.edu
SUMMARY:CSUF Advisor Appointments
DESCRIPTION:You may sign up 30 days in advance. Appointments will be held in the Transfer Center. \nCypress College Transfer Center\n2nd Floor Student Center\n(714) 484-7129\nOffice Hours: Monday & Thursday 8 a.m. – 6 p.m.\,\nTuesday & Wednesday 8 a.m. – 7 p.m.\, Friday 8 a.m. – 5 p.m.
URL:https://www.cypresscollege.edu/event/csuf-advisor-appointments/2017-09-22/
LOCATION:Transfer Center
CATEGORIES:Transfer Center
GEO:33.827769;-118.025317
END:VEVENT
END:VCALENDAR