BEGIN:VCALENDAR
VERSION:2.0
PRODID:-//Cypress College - ECPv6.15.7//NONSGML v1.0//EN
CALSCALE:GREGORIAN
METHOD:PUBLISH
X-WR-CALNAME:Cypress College
X-ORIGINAL-URL:https://www.cypresscollege.edu
X-WR-CALDESC:Events for Cypress College
REFRESH-INTERVAL;VALUE=DURATION:PT1H
X-Robots-Tag:noindex
X-PUBLISHED-TTL:PT1H
BEGIN:VTIMEZONE
TZID:America/Los_Angeles
BEGIN:DAYLIGHT
TZOFFSETFROM:-0800
TZOFFSETTO:-0700
TZNAME:PDT
DTSTART:20160313T100000
END:DAYLIGHT
BEGIN:STANDARD
TZOFFSETFROM:-0700
TZOFFSETTO:-0800
TZNAME:PST
DTSTART:20161106T090000
END:STANDARD
BEGIN:DAYLIGHT
TZOFFSETFROM:-0800
TZOFFSETTO:-0700
TZNAME:PDT
DTSTART:20170312T100000
END:DAYLIGHT
BEGIN:STANDARD
TZOFFSETFROM:-0700
TZOFFSETTO:-0800
TZNAME:PST
DTSTART:20171105T090000
END:STANDARD
BEGIN:DAYLIGHT
TZOFFSETFROM:-0800
TZOFFSETTO:-0700
TZNAME:PDT
DTSTART:20180311T100000
END:DAYLIGHT
BEGIN:STANDARD
TZOFFSETFROM:-0700
TZOFFSETTO:-0800
TZNAME:PST
DTSTART:20181104T090000
END:STANDARD
END:VTIMEZONE
BEGIN:VEVENT
DTSTART;TZID=America/Los_Angeles:20171127T090000
DTEND;TZID=America/Los_Angeles:20171127T150000
DTSTAMP:20260420T122050
CREATED:20170719T201152Z
LAST-MODIFIED:20170824T030020Z
UID:8031-1511773200-1511794800@www.cypresscollege.edu
SUMMARY:UCLA Advisor Appointment
DESCRIPTION:You may sign-up 30 days in advance. Appointments will be held in the Transfer Center. \nAvailable dates:\nNov. 27th (Mon) 9am-3pm\nDec. 5th (Tues) 9am-3pm \nFor more information:\nCypress College Transfer Center\n2nd Floor Student Center\, (714) 484-7129\nOffice Hours: Mon & Thurs 8 a.m. – 6 p.m.\, Tues & Wed 8 a.m. – 7 p.m.\, Fri 8 a.m. – 5 p.m.
URL:https://www.cypresscollege.edu/event/ucla-advisor-appointment-4/
LOCATION:Cypress College\, 9200 Valley View St.\, Cypress\, CA\, 90630\, United States
CATEGORIES:Transfer Center
GEO:33.8280924;-118.0252758
X-APPLE-STRUCTURED-LOCATION;VALUE=URI;X-ADDRESS=Cypress College 9200 Valley View St. Cypress CA 90630 United States;X-APPLE-RADIUS=500;X-TITLE=9200 Valley View St.:geo:-118.0252758,33.8280924
END:VEVENT
BEGIN:VEVENT
DTSTART;VALUE=DATE:20171130
DTEND;VALUE=DATE:20171201
DTSTAMP:20260420T122050
CREATED:20170829T170824Z
LAST-MODIFIED:20170829T170824Z
UID:9069-1512000000-1512086399@www.cypresscollege.edu
SUMMARY:CSU and UC Application Deadline for Fall 2018
DESCRIPTION:
URL:https://www.cypresscollege.edu/event/csu-and-uc-application-deadline-for-fall-2018/
LOCATION:CA
CATEGORIES:Important Dates to Remember,Transfer Center
END:VEVENT
END:VCALENDAR