BEGIN:VCALENDAR
VERSION:2.0
PRODID:-//Cypress College - ECPv6.15.7//NONSGML v1.0//EN
CALSCALE:GREGORIAN
METHOD:PUBLISH
X-WR-CALNAME:Cypress College
X-ORIGINAL-URL:https://www.cypresscollege.edu
X-WR-CALDESC:Events for Cypress College
REFRESH-INTERVAL;VALUE=DURATION:PT1H
X-Robots-Tag:noindex
X-PUBLISHED-TTL:PT1H
BEGIN:VTIMEZONE
TZID:America/Los_Angeles
BEGIN:DAYLIGHT
TZOFFSETFROM:-0800
TZOFFSETTO:-0700
TZNAME:PDT
DTSTART:20170312T100000
END:DAYLIGHT
BEGIN:STANDARD
TZOFFSETFROM:-0700
TZOFFSETTO:-0800
TZNAME:PST
DTSTART:20171105T090000
END:STANDARD
BEGIN:DAYLIGHT
TZOFFSETFROM:-0800
TZOFFSETTO:-0700
TZNAME:PDT
DTSTART:20180311T100000
END:DAYLIGHT
BEGIN:STANDARD
TZOFFSETFROM:-0700
TZOFFSETTO:-0800
TZNAME:PST
DTSTART:20181104T090000
END:STANDARD
BEGIN:DAYLIGHT
TZOFFSETFROM:-0800
TZOFFSETTO:-0700
TZNAME:PDT
DTSTART:20190310T100000
END:DAYLIGHT
BEGIN:STANDARD
TZOFFSETFROM:-0700
TZOFFSETTO:-0800
TZNAME:PST
DTSTART:20191103T090000
END:STANDARD
END:VTIMEZONE
BEGIN:VEVENT
DTSTART;TZID=America/Los_Angeles:20180828T100000
DTEND;TZID=America/Los_Angeles:20180828T163000
DTSTAMP:20260419T233917
CREATED:20180806T161901Z
LAST-MODIFIED:20180806T161901Z
UID:17784-1535450400-1535473800@www.cypresscollege.edu
SUMMARY:UC Santa Barbara Advisor Appointment
DESCRIPTION:
URL:https://www.cypresscollege.edu/event/uc-santa-barbara-advisor-appointment/
LOCATION:9200 Valley View St.\, Cypress\, CA\, 90630\, United States
CATEGORIES:Transfer Center
ATTACH;FMTTYPE=image/jpeg:https://www.cypresscollege.edu/wp-content/uploads/UCSB-Fall-2018-Flyer.jpg
END:VEVENT
BEGIN:VEVENT
DTSTART;TZID=America/Los_Angeles:20180829T100000
DTEND;TZID=America/Los_Angeles:20180829T130000
DTSTAMP:20260419T233917
CREATED:20180823T211056Z
LAST-MODIFIED:20181022T222758Z
UID:18311-1535536800-1535547600@www.cypresscollege.edu
SUMMARY:University of Texas\, Arlington Table Visit
DESCRIPTION:Representatives from University of Texas\, Arlington will be on campus to answer any questions you may have. The table visits will take place in front of the Cypress College Complex. No appointment is necessary. For additional details\, contact the Transfer Center at (714) 484-7129.
URL:https://www.cypresscollege.edu/event/university-of-texas-arlington-table-visit/2018-08-29/
LOCATION:9200 Valley View St.\, Cypress\, CA\, 90630\, United States
CATEGORIES:Transfer Center
ATTACH;FMTTYPE=image/jpeg:https://www.cypresscollege.edu/wp-content/uploads/2018-event-transfer-center-University-of-Texas.jpg
END:VEVENT
BEGIN:VEVENT
DTSTART;VALUE=DATE:20180831
DTEND;VALUE=DATE:20180901
DTSTAMP:20260419T233917
CREATED:20180823T212948Z
LAST-MODIFIED:20180823T212948Z
UID:18325-1535673600-1535759999@www.cypresscollege.edu
SUMMARY:CSU Spring 2019 Application Deadline
DESCRIPTION:
URL:https://www.cypresscollege.edu/event/csu-spring-2019-application-deadline/
LOCATION:9200 Valley View St.\, Cypress\, CA\, 90630\, United States
CATEGORIES:Important Dates to Remember,Transfer Center
END:VEVENT
END:VCALENDAR