BEGIN:VCALENDAR
VERSION:2.0
PRODID:-//Cypress College - ECPv6.15.7//NONSGML v1.0//EN
CALSCALE:GREGORIAN
METHOD:PUBLISH
X-ORIGINAL-URL:https://www.cypresscollege.edu
X-WR-CALDESC:Events for Cypress College
REFRESH-INTERVAL;VALUE=DURATION:PT1H
X-Robots-Tag:noindex
X-PUBLISHED-TTL:PT1H
BEGIN:VTIMEZONE
TZID:America/Los_Angeles
BEGIN:DAYLIGHT
TZOFFSETFROM:-0800
TZOFFSETTO:-0700
TZNAME:PDT
DTSTART:20170312T100000
END:DAYLIGHT
BEGIN:STANDARD
TZOFFSETFROM:-0700
TZOFFSETTO:-0800
TZNAME:PST
DTSTART:20171105T090000
END:STANDARD
BEGIN:DAYLIGHT
TZOFFSETFROM:-0800
TZOFFSETTO:-0700
TZNAME:PDT
DTSTART:20180311T100000
END:DAYLIGHT
BEGIN:STANDARD
TZOFFSETFROM:-0700
TZOFFSETTO:-0800
TZNAME:PST
DTSTART:20181104T090000
END:STANDARD
BEGIN:DAYLIGHT
TZOFFSETFROM:-0800
TZOFFSETTO:-0700
TZNAME:PDT
DTSTART:20190310T100000
END:DAYLIGHT
BEGIN:STANDARD
TZOFFSETFROM:-0700
TZOFFSETTO:-0800
TZNAME:PST
DTSTART:20191103T090000
END:STANDARD
END:VTIMEZONE
BEGIN:VEVENT
DTSTART;TZID=America/Los_Angeles:20181003T103000
DTEND;TZID=America/Los_Angeles:20181003T113000
DTSTAMP:20260419T194119
CREATED:20180911T175600Z
LAST-MODIFIED:20180911T175618Z
UID:18703-1538562600-1538566200@www.cypresscollege.edu
SUMMARY:UC Application Workshops
DESCRIPTION:Note: You must sign up at the link below.
URL:https://www.cypresscollege.edu/event/uc-application-workshops-2/2018-10-03/
LOCATION:9200 Valley View St.\, Cypress\, CA\, 90630\, United States
CATEGORIES:Transfer Center,Workshop
ATTACH;FMTTYPE=image/jpeg:https://www.cypresscollege.edu/wp-content/uploads/2018-Event-Transfer-Center-UC-App-Workshops.jpg
END:VEVENT
BEGIN:VEVENT
DTSTART;TZID=America/Los_Angeles:20181004T100000
DTEND;TZID=America/Los_Angeles:20181004T130000
DTSTAMP:20260419T194119
CREATED:20180906T154307Z
LAST-MODIFIED:20180906T154307Z
UID:18558-1538647200-1538658000@www.cypresscollege.edu
SUMMARY:Transfer Fair
DESCRIPTION:Representatives from CSUs\, UCs\, out-of-state\, and privates will be attending. There will be snacks\, music\, and raffle items. We will also be holding advisor appointments with CSUF and Chapman University\, as well as a CSU Application Workshop after the fair. Contact the Transfer Center for more information.
URL:https://www.cypresscollege.edu/event/transfer-fair-3/
LOCATION:9200 Valley View St.\, Cypress\, CA\, 90630\, United States
CATEGORIES:Transfer Center
ATTACH;FMTTYPE=image/jpeg:https://www.cypresscollege.edu/wp-content/uploads/SCHEC-Transfer-Fair-Fall-2018.jpg
END:VEVENT
BEGIN:VEVENT
DTSTART;TZID=America/Los_Angeles:20181004T160000
DTEND;TZID=America/Los_Angeles:20181004T170000
DTSTAMP:20260419T194119
CREATED:20180911T175047Z
LAST-MODIFIED:20180911T175651Z
UID:18687-1538668800-1538672400@www.cypresscollege.edu
SUMMARY:CSU Application Workshops
DESCRIPTION:Note: You must sign up at the link below.
URL:https://www.cypresscollege.edu/event/csu-application-workshops-2/2018-10-04/
LOCATION:9200 Valley View St.\, Cypress\, CA\, 90630\, United States
CATEGORIES:Transfer Center,Workshop
ATTACH;FMTTYPE=image/jpeg:https://www.cypresscollege.edu/wp-content/uploads/2018-Event-Transfer-Center-CSU-App-Workshops.jpg
END:VEVENT
END:VCALENDAR