BEGIN:VCALENDAR
VERSION:2.0
PRODID:-//Cypress College - ECPv6.15.7//NONSGML v1.0//EN
CALSCALE:GREGORIAN
METHOD:PUBLISH
X-WR-CALNAME:Cypress College
X-ORIGINAL-URL:https://www.cypresscollege.edu
X-WR-CALDESC:Events for Cypress College
REFRESH-INTERVAL;VALUE=DURATION:PT1H
X-Robots-Tag:noindex
X-PUBLISHED-TTL:PT1H
BEGIN:VTIMEZONE
TZID:America/Los_Angeles
BEGIN:DAYLIGHT
TZOFFSETFROM:-0800
TZOFFSETTO:-0700
TZNAME:PDT
DTSTART:20210314T100000
END:DAYLIGHT
BEGIN:STANDARD
TZOFFSETFROM:-0700
TZOFFSETTO:-0800
TZNAME:PST
DTSTART:20211107T090000
END:STANDARD
BEGIN:DAYLIGHT
TZOFFSETFROM:-0800
TZOFFSETTO:-0700
TZNAME:PDT
DTSTART:20220313T100000
END:DAYLIGHT
BEGIN:STANDARD
TZOFFSETFROM:-0700
TZOFFSETTO:-0800
TZNAME:PST
DTSTART:20221106T090000
END:STANDARD
BEGIN:DAYLIGHT
TZOFFSETFROM:-0800
TZOFFSETTO:-0700
TZNAME:PDT
DTSTART:20230312T100000
END:DAYLIGHT
BEGIN:STANDARD
TZOFFSETFROM:-0700
TZOFFSETTO:-0800
TZNAME:PST
DTSTART:20231105T090000
END:STANDARD
END:VTIMEZONE
BEGIN:VEVENT
DTSTART;TZID=America/Los_Angeles:20220408T093000
DTEND;TZID=America/Los_Angeles:20220408T223000
DTSTAMP:20260421T072037
CREATED:20220407T190614Z
LAST-MODIFIED:20220407T190614Z
UID:47974-1649410200-1649457000@www.cypresscollege.edu
SUMMARY:Accounting Alumni Event
DESCRIPTION:Welcome to the Accounting Alumni Event! \n• Learn how to successfully transition to a four-year university from Cypress College Alumni. \n• Find out how to network\, build resumes\, and develop valuable interview skills to obtain an internship. \n• Explore opportunities to build mentor relationships with Cypress College alumni. \nPlease email any questions to Professor Ann Sheridan Solis at asolis@cypresscollege.edu \nAll students are welcome! \nZoom Registration Link: https://tinyurl.com/2p8d3bme
URL:https://www.cypresscollege.edu/event/accounting-alumni-event/
LOCATION:9200 Valley View St.\, Cypress\, CA\, 90630\, United States
CATEGORIES:Alumni,Business/CIS
END:VEVENT
END:VCALENDAR