BEGIN:VCALENDAR
VERSION:2.0
PRODID:-//Cypress College - ECPv6.15.7//NONSGML v1.0//EN
CALSCALE:GREGORIAN
METHOD:PUBLISH
X-ORIGINAL-URL:https://www.cypresscollege.edu
X-WR-CALDESC:Events for Cypress College
REFRESH-INTERVAL;VALUE=DURATION:PT1H
X-Robots-Tag:noindex
X-PUBLISHED-TTL:PT1H
BEGIN:VTIMEZONE
TZID:America/Los_Angeles
BEGIN:DAYLIGHT
TZOFFSETFROM:-0800
TZOFFSETTO:-0700
TZNAME:PDT
DTSTART:20190310T100000
END:DAYLIGHT
BEGIN:STANDARD
TZOFFSETFROM:-0700
TZOFFSETTO:-0800
TZNAME:PST
DTSTART:20191103T090000
END:STANDARD
BEGIN:DAYLIGHT
TZOFFSETFROM:-0800
TZOFFSETTO:-0700
TZNAME:PDT
DTSTART:20200308T100000
END:DAYLIGHT
BEGIN:STANDARD
TZOFFSETFROM:-0700
TZOFFSETTO:-0800
TZNAME:PST
DTSTART:20201101T090000
END:STANDARD
BEGIN:DAYLIGHT
TZOFFSETFROM:-0800
TZOFFSETTO:-0700
TZNAME:PDT
DTSTART:20210314T100000
END:DAYLIGHT
BEGIN:STANDARD
TZOFFSETFROM:-0700
TZOFFSETTO:-0800
TZNAME:PST
DTSTART:20211107T090000
END:STANDARD
END:VTIMEZONE
BEGIN:VEVENT
DTSTART;TZID=America/Los_Angeles:20201118T110000
DTEND;TZID=America/Los_Angeles:20201118T140000
DTSTAMP:20260424T094641
CREATED:20201108T222014Z
LAST-MODIFIED:20201108T222014Z
UID:41069-1605697200-1605708000@www.cypresscollege.edu
SUMMARY:Headshot Happy Hour
DESCRIPTION:Free Professional Headshots available November 18\, 11 a.m. to 2 p.m. \nTaking place in the roundabout in front of the Cypress College Theater. \nStudents line up on the roundabout in their cars\, get out to take headshots\, then get back in their car to exit the roundabout. \nRegister by emailing Melissa Carpenter mcarpenter@cypresscollege.edu.
URL:https://www.cypresscollege.edu/event/headshot-happy-hour-2/
LOCATION:9200 Valley View St.\, Cypress\, CA\, 90630\, United States
ATTACH;FMTTYPE=image/jpeg:https://www.cypresscollege.edu/wp-content/uploads/Drive-Thru-Headshot-2020.jpg
END:VEVENT
END:VCALENDAR