BEGIN:VCALENDAR
VERSION:2.0
PRODID:-//Cypress College - ECPv6.15.7//NONSGML v1.0//EN
CALSCALE:GREGORIAN
METHOD:PUBLISH
X-WR-CALNAME:Cypress College
X-ORIGINAL-URL:https://www.cypresscollege.edu
X-WR-CALDESC:Events for Cypress College
REFRESH-INTERVAL;VALUE=DURATION:PT1H
X-Robots-Tag:noindex
X-PUBLISHED-TTL:PT1H
BEGIN:VTIMEZONE
TZID:America/Los_Angeles
BEGIN:DAYLIGHT
TZOFFSETFROM:-0800
TZOFFSETTO:-0700
TZNAME:PDT
DTSTART:20200308T100000
END:DAYLIGHT
BEGIN:STANDARD
TZOFFSETFROM:-0700
TZOFFSETTO:-0800
TZNAME:PST
DTSTART:20201101T090000
END:STANDARD
BEGIN:DAYLIGHT
TZOFFSETFROM:-0800
TZOFFSETTO:-0700
TZNAME:PDT
DTSTART:20210314T100000
END:DAYLIGHT
BEGIN:STANDARD
TZOFFSETFROM:-0700
TZOFFSETTO:-0800
TZNAME:PST
DTSTART:20211107T090000
END:STANDARD
BEGIN:DAYLIGHT
TZOFFSETFROM:-0800
TZOFFSETTO:-0700
TZNAME:PDT
DTSTART:20220313T100000
END:DAYLIGHT
BEGIN:STANDARD
TZOFFSETFROM:-0700
TZOFFSETTO:-0800
TZNAME:PST
DTSTART:20221106T090000
END:STANDARD
END:VTIMEZONE
BEGIN:VEVENT
DTSTART;TZID=America/Los_Angeles:20210121T080000
DTEND;TZID=America/Los_Angeles:20210325T170000
DTSTAMP:20260421T135910
CREATED:20210125T233035Z
LAST-MODIFIED:20210204T184238Z
UID:42340-1611216000-1616691600@www.cypresscollege.edu
SUMMARY:CCAG Presents: 'HAIRTAGE: Tangled\, Twisted\, and Black\,' curated by Nzuji De Magalhaes
DESCRIPTION:Curated by artist and Cypress Adjunct Professor Nzuji De Magalhaes\, the HAIRTAGE: Tangled\, Twisted\, and Black exhibition and speaker series brings together artists who approach Black hair as a locus of tension and affirmation. \nThe exhibition is online\, along with details of the speaker series\, which kicks off on February 8\, 11:30 a.m.\, when April Bey will discuss her work. In addition to the HAIRTAGE Speaker Series\, while classes are online\, CCAG is offering exhibition tours via Zoom.
URL:https://www.cypresscollege.edu/event/ccag-presents-hairtage-tangled-twisted-and-black-curated-by-nzuji-de-magalhaes/
LOCATION:9200 Valley View St.\, Cypress\, CA\, 90630\, United States
CATEGORIES:Art,Black History Month,Cultural
ATTACH;FMTTYPE=image/jpeg:https://www.cypresscollege.edu/wp-content/uploads/Featured-Image_Event_CCAG-hairtage-2021.jpg
END:VEVENT
BEGIN:VEVENT
DTSTART;TZID=America/Los_Angeles:20210126T080000
DTEND;TZID=America/Los_Angeles:20210514T170000
DTSTAMP:20260421T135910
CREATED:20210126T195027Z
LAST-MODIFIED:20210126T195027Z
UID:42357-1611648000-1621011600@www.cypresscollege.edu
SUMMARY:Online Career and Student Success Workshop Series
DESCRIPTION:Welcome to our Online Career and Student Success Workshop Series. The Online Workshops are available for you to participate in at any time that is convenient for you. \nGet details about our online workshops.
URL:https://www.cypresscollege.edu/event/online-career-and-student-success-workshop-series/
LOCATION:9200 Valley View St.\, Cypress\, CA\, 90630\, United States
CATEGORIES:Career Planning Center,Workshop
ATTACH;FMTTYPE=image/jpeg:https://www.cypresscollege.edu/wp-content/uploads/Events-Featured-Image-workshop_Ken.jpg
END:VEVENT
BEGIN:VEVENT
DTSTART;VALUE=DATE:20210322
DTEND;VALUE=DATE:20210323
DTSTAMP:20260421T135910
CREATED:20201105T190619Z
LAST-MODIFIED:20201105T190619Z
UID:41012-1616371200-1616457599@www.cypresscollege.edu
SUMMARY:Second Eight-Week Classes Begin
DESCRIPTION:
URL:https://www.cypresscollege.edu/event/second-eight-week-classes-begin-2/
LOCATION:9200 Valley View St.\, Cypress\, CA\, 90630\, United States
CATEGORIES:Instruction
END:VEVENT
BEGIN:VEVENT
DTSTART;TZID=America/Los_Angeles:20210322T123000
DTEND;TZID=America/Los_Angeles:20210322T140000
DTSTAMP:20260421T135910
CREATED:20210309T192947Z
LAST-MODIFIED:20210309T192947Z
UID:43237-1616416200-1616421600@www.cypresscollege.edu
SUMMARY:Conversation about Racial Equity with Dr. Frank Harris
DESCRIPTION:Join us Monday\, March 22 from 12:30–2 p.m.\, for a Conversation about Racial Equity with Dr. Frank Harris. The event features a student panel discussions and small breakout discussions. Join here.
URL:https://www.cypresscollege.edu/event/conversation-about-racial-equity-with-dr-frank-harris/
LOCATION:9200 Valley View St.\, Cypress\, CA\, 90630\, United States
CATEGORIES:Cultural,Speaker Series
ATTACH;FMTTYPE=image/jpeg:https://www.cypresscollege.edu/wp-content/uploads/Event_Featured_Conversation-Racial-Equity.jpg
END:VEVENT
BEGIN:VEVENT
DTSTART;VALUE=DATE:20210323
DTEND;VALUE=DATE:20210506
DTSTAMP:20260421T135910
CREATED:20210325T214223Z
LAST-MODIFIED:20210325T214223Z
UID:43421-1616457600-1620259199@www.cypresscollege.edu
SUMMARY:Native Art Contest
DESCRIPTION:Attention all students! The newly launched Native-American Faculty and Staff Alliance (NAFSA) for the North Orange County Community College District is looking for a logo and wants to see your art concepts. A cash prize will be awarded to the winner. \nTo Enter\n\nThe contest runs from March 23 to May 5\, 2021. The winner will be chosen by NAFSA members.\nAll files should be in PDF or EPS format and sent to NativeArtContest@nocccd.edu.\nMust be a current or former student of Cypress College\, Fullerton College\, or NOCE.\n\nDownload the contest guidelines.
URL:https://www.cypresscollege.edu/event/native-art-contest/
LOCATION:9200 Valley View St.\, Cypress\, CA\, 90630\, United States
CATEGORIES:District
ATTACH;FMTTYPE=image/jpeg:https://www.cypresscollege.edu/wp-content/uploads/Event_Featured_NAFSA-Student-Art-Poster-scaled.jpg
END:VEVENT
BEGIN:VEVENT
DTSTART;TZID=America/Los_Angeles:20210323T170000
DTEND;TZID=America/Los_Angeles:20210323T180000
DTSTAMP:20260421T135910
CREATED:20210310T012543Z
LAST-MODIFIED:20210310T012543Z
UID:43251-1616518800-1616522400@www.cypresscollege.edu
SUMMARY:Honoring Student Voices: My Diversity Story
DESCRIPTION:Cypress College Speech and Debate presents Honoring Student Voices: My Diversity Story! \nEvent Information\n\nAll Cypress College students are welcome to participate.\nEvery month will have a new theme and the chance to win $50.\nThere will be a panel of judges consisting of students\, faculty\, staff\, and administrators.\nSpace is limited\, but if there is high demand\, there will be room to accommodate a two-part event.\n\nRequirements\n\nMust try to meet with a coach/mentor.\nMust have a clear introduction\, body\, and conclusion. There should be a clear message. The time limit is 10 minutes.\nPerformances are welcome. Poetry\, prose\, monologues\, and singing are allowed.\nThis is a LIVE event\, but we will accept recordings to be played during the event.\n\nJoin the event here.
URL:https://www.cypresscollege.edu/event/honoring-student-voices-my-diversity-story/
LOCATION:9200 Valley View St.\, Cypress\, CA\, 90630\, United States
CATEGORIES:Language Arts
END:VEVENT
BEGIN:VEVENT
DTSTART;TZID=America/Los_Angeles:20210325T130000
DTEND;TZID=America/Los_Angeles:20210325T140000
DTSTAMP:20260421T135910
CREATED:20210305T195830Z
LAST-MODIFIED:20210309T185949Z
UID:43143-1616677200-1616680800@www.cypresscollege.edu
SUMMARY:Author Cathy Trinh: A Talk on Addiction Recovery
DESCRIPTION:#1 International Bestselling Author. Global Keynote Speaker. Business Mentor. Abundance Mindset Leadership Coach. Cathy is a Vietnam-born mother\, cancer survivor\, and advocate for mental health awareness\, holistic healing\, and addiction recovery expert. \nThe virtual event is happening March 25 from 1 to 2 p.m. RSVP at bit.ly/CathyTrinh. \nMeeting ID: 951 4519 5033 (Passcode: RAC4LG)
URL:https://www.cypresscollege.edu/event/author-cathy-trinh-a-talk-on-addiction-recovery/
LOCATION:9200 Valley View St.\, Cypress\, CA\, 90630\, United States
CATEGORIES:Clubs,Speaker Series,Virtual
ATTACH;FMTTYPE=image/png:https://www.cypresscollege.edu/wp-content/uploads/Event_Featured-Image_Author-Cathy-Trinh.png
END:VEVENT
END:VCALENDAR