BEGIN:VCALENDAR
VERSION:2.0
PRODID:-//Cypress College - ECPv6.15.7//NONSGML v1.0//EN
CALSCALE:GREGORIAN
METHOD:PUBLISH
X-WR-CALNAME:Cypress College
X-ORIGINAL-URL:https://www.cypresscollege.edu
X-WR-CALDESC:Events for Cypress College
REFRESH-INTERVAL;VALUE=DURATION:PT1H
X-Robots-Tag:noindex
X-PUBLISHED-TTL:PT1H
BEGIN:VTIMEZONE
TZID:America/Los_Angeles
BEGIN:DAYLIGHT
TZOFFSETFROM:-0800
TZOFFSETTO:-0700
TZNAME:PDT
DTSTART:20210314T100000
END:DAYLIGHT
BEGIN:STANDARD
TZOFFSETFROM:-0700
TZOFFSETTO:-0800
TZNAME:PST
DTSTART:20211107T090000
END:STANDARD
BEGIN:DAYLIGHT
TZOFFSETFROM:-0800
TZOFFSETTO:-0700
TZNAME:PDT
DTSTART:20220313T100000
END:DAYLIGHT
BEGIN:STANDARD
TZOFFSETFROM:-0700
TZOFFSETTO:-0800
TZNAME:PST
DTSTART:20221106T090000
END:STANDARD
BEGIN:DAYLIGHT
TZOFFSETFROM:-0800
TZOFFSETTO:-0700
TZNAME:PDT
DTSTART:20230312T100000
END:DAYLIGHT
BEGIN:STANDARD
TZOFFSETFROM:-0700
TZOFFSETTO:-0800
TZNAME:PST
DTSTART:20231105T090000
END:STANDARD
END:VTIMEZONE
BEGIN:VEVENT
DTSTART;VALUE=DATE:20221207
DTEND;VALUE=DATE:20221208
DTSTAMP:20260421T185935
CREATED:20221207T231748Z
LAST-MODIFIED:20221207T231748Z
UID:52964-1670371200-1670457599@www.cypresscollege.edu
SUMMARY:Research Methods in Psychology
DESCRIPTION:The Psychology 202 Research Methods in Psychology Poster Session is now online through December 10\, 2022 at:   \nGo to Psy 202 Poster Session Fall 2022  \nWe invite you to view the posters\, send questions and comments for the student researchers\, or simply enjoy some interesting studies.  
URL:https://www.cypresscollege.edu/event/research-methods-in-psychology-3/2022-12-07/
LOCATION:9200 Valley View St.\, Cypress\, CA\, 90630\, United States
END:VEVENT
BEGIN:VEVENT
DTSTART;TZID=America/Los_Angeles:20221208T180000
DTEND;TZID=America/Los_Angeles:20221208T180000
DTSTAMP:20260421T185935
CREATED:20221124T003351Z
LAST-MODIFIED:20221124T003351Z
UID:52755-1670522400-1670522400@www.cypresscollege.edu
SUMMARY:Open Mic Night
DESCRIPTION:Cypress College Recording Club\, Dance Club\, Speech & Debate Team\, and Creative Guild present Open Mic Night. Happening Thursday\, December 8\, at 6 p.m. Sign up with the QR code or at the door!
URL:https://www.cypresscollege.edu/event/open-mic-night/
LOCATION:9200 Valley View St.\, Cypress\, CA\, 90630\, United States
CATEGORIES:Fine Arts,Theater & Dance
ATTACH;FMTTYPE=image/png:https://www.cypresscollege.edu/wp-content/uploads/Event_Featured_Open-Mic-Night-2022.png
END:VEVENT
BEGIN:VEVENT
DTSTART;VALUE=DATE:20221210
DTEND;VALUE=DATE:20221211
DTSTAMP:20260421T185935
CREATED:20210422T205043Z
LAST-MODIFIED:20210422T205043Z
UID:43976-1670630400-1670716799@www.cypresscollege.edu
SUMMARY:Fall Semester Ends
DESCRIPTION:
URL:https://www.cypresscollege.edu/event/fall-semester-ends-5/
LOCATION:9200 Valley View St.\, Cypress\, CA\, 90630\, United States
CATEGORIES:Important Dates to Remember,Instruction
END:VEVENT
END:VCALENDAR