BEGIN:VCALENDAR
VERSION:2.0
PRODID:-//Cypress College - ECPv6.15.7//NONSGML v1.0//EN
CALSCALE:GREGORIAN
METHOD:PUBLISH
X-WR-CALNAME:Cypress College
X-ORIGINAL-URL:https://www.cypresscollege.edu
X-WR-CALDESC:Events for Cypress College
REFRESH-INTERVAL;VALUE=DURATION:PT1H
X-Robots-Tag:noindex
X-PUBLISHED-TTL:PT1H
BEGIN:VTIMEZONE
TZID:America/Los_Angeles
BEGIN:DAYLIGHT
TZOFFSETFROM:-0800
TZOFFSETTO:-0700
TZNAME:PDT
DTSTART:20220313T100000
END:DAYLIGHT
BEGIN:STANDARD
TZOFFSETFROM:-0700
TZOFFSETTO:-0800
TZNAME:PST
DTSTART:20221106T090000
END:STANDARD
BEGIN:DAYLIGHT
TZOFFSETFROM:-0800
TZOFFSETTO:-0700
TZNAME:PDT
DTSTART:20230312T100000
END:DAYLIGHT
BEGIN:STANDARD
TZOFFSETFROM:-0700
TZOFFSETTO:-0800
TZNAME:PST
DTSTART:20231105T090000
END:STANDARD
BEGIN:DAYLIGHT
TZOFFSETFROM:-0800
TZOFFSETTO:-0700
TZNAME:PDT
DTSTART:20240310T100000
END:DAYLIGHT
BEGIN:STANDARD
TZOFFSETFROM:-0700
TZOFFSETTO:-0800
TZNAME:PST
DTSTART:20241103T090000
END:STANDARD
END:VTIMEZONE
BEGIN:VEVENT
DTSTART;VALUE=DATE:20230710
DTEND;VALUE=DATE:20230711
DTSTAMP:20260422T004227
CREATED:20230510T185647Z
LAST-MODIFIED:20230510T185647Z
UID:55000-1688947200-1689033599@www.cypresscollege.edu
SUMMARY:myGateway Registration Begins
DESCRIPTION:
URL:https://www.cypresscollege.edu/event/mygateway-registration-begins-5/
LOCATION:9200 Valley View St.\, Cypress\, CA\, 90630\, United States
CATEGORIES:Important Dates to Remember
END:VEVENT
BEGIN:VEVENT
DTSTART;TZID=America/Los_Angeles:20230712T100000
DTEND;TZID=America/Los_Angeles:20230712T160000
DTSTAMP:20260422T004227
CREATED:20230711T204223Z
LAST-MODIFIED:20230711T204223Z
UID:56024-1689156000-1689177600@www.cypresscollege.edu
SUMMARY:2023 Speech & Debate Summer Workshops
DESCRIPTION:Where: Humanities 209\nWhen: All summer workshops are from 10 a.m. to 4 p.m. (We will have a lunch break!) \nPlatform Speaking Limited Prep\nJuly 10 – Platform Speaking\nJuly 12 – Limited Prep Events\nAugust 10 – Practice \nInterp Events\nJuly 17 – Prose & Poetry\nJuly 19 – Drama & POI\nAugust 8 – Theater\nAugust 10 – Practice \nDebate\nJuly 25 – IPDA\nJuly 27 – NFA LD\nAugust 10 – Practice \nPlease join us! Come see what we’re all about! Participate in all the workshops or attend when you can. \nFor questions\, please contact Professor Jen Page at jpage@cypresscollege.edu.
URL:https://www.cypresscollege.edu/event/2023-speech-debate-summer-workshops/2023-07-12/
LOCATION:9200 Valley View St.\, Cypress\, CA\, 90630\, United States
CATEGORIES:Language Arts
ATTACH;FMTTYPE=image/jpeg:https://www.cypresscollege.edu/wp-content/uploads/Event_Speech-and-Debate-Summer-Workshops-2023.jpg
END:VEVENT
END:VCALENDAR