BEGIN:VCALENDAR
VERSION:2.0
PRODID:-//Cypress College - ECPv6.15.7//NONSGML v1.0//EN
CALSCALE:GREGORIAN
METHOD:PUBLISH
X-ORIGINAL-URL:https://www.cypresscollege.edu
X-WR-CALDESC:Events for Cypress College
REFRESH-INTERVAL;VALUE=DURATION:PT1H
X-Robots-Tag:noindex
X-PUBLISHED-TTL:PT1H
BEGIN:VTIMEZONE
TZID:America/Los_Angeles
BEGIN:DAYLIGHT
TZOFFSETFROM:-0800
TZOFFSETTO:-0700
TZNAME:PDT
DTSTART:20230312T100000
END:DAYLIGHT
BEGIN:STANDARD
TZOFFSETFROM:-0700
TZOFFSETTO:-0800
TZNAME:PST
DTSTART:20231105T090000
END:STANDARD
BEGIN:DAYLIGHT
TZOFFSETFROM:-0800
TZOFFSETTO:-0700
TZNAME:PDT
DTSTART:20240310T100000
END:DAYLIGHT
BEGIN:STANDARD
TZOFFSETFROM:-0700
TZOFFSETTO:-0800
TZNAME:PST
DTSTART:20241103T090000
END:STANDARD
BEGIN:DAYLIGHT
TZOFFSETFROM:-0800
TZOFFSETTO:-0700
TZNAME:PDT
DTSTART:20250309T100000
END:DAYLIGHT
BEGIN:STANDARD
TZOFFSETFROM:-0700
TZOFFSETTO:-0800
TZNAME:PST
DTSTART:20251102T090000
END:STANDARD
END:VTIMEZONE
BEGIN:VEVENT
DTSTART;TZID=America/Los_Angeles:20240819T080000
DTEND;TZID=America/Los_Angeles:20240819T184500
DTSTAMP:20260419T162748
CREATED:20240813T155312Z
LAST-MODIFIED:20240813T155312Z
UID:62161-1724054400-1724093100@www.cypresscollege.edu
SUMMARY:Picture ID Appointments
DESCRIPTION:Need your student ID photo taken? We have appointments available! Sign up by clicking on the links below. The links will take you to the available appointments for the day. \nThe following dates have appointments available 8 a.m.–6:45 p.m. \n\nAugust 19\, 2024\nAugust 20\, 2024\nAugust 21\, 2024\nAugust 22\, 2024\n\nThe following date has appointments available 1–7 p.m. \n\nAugust 23\, 2024
URL:https://www.cypresscollege.edu/event/picture-id-appointments/2024-08-19/
LOCATION:9200 Valley View St.\, Cypress\, CA\, 90630\, United States
CATEGORIES:Important Dates to Remember
END:VEVENT
BEGIN:VEVENT
DTSTART;TZID=America/Los_Angeles:20240819T110000
DTEND;TZID=America/Los_Angeles:20240819T120000
DTSTAMP:20260419T162748
CREATED:20240620T173310Z
LAST-MODIFIED:20240620T173310Z
UID:61698-1724065200-1724068800@www.cypresscollege.edu
SUMMARY:DSS Student Workshops — Glean\, Otter\, and Kurzweil
DESCRIPTION:Join a workshop to learn and get trained on technology that will help you in your classes. \n\nThursday\, August 1\, 1:30 – 2:30 p.m.\n\nZoom\nRegister Now\n\n\nMonday\, August 5\, 10 – 11 a.m.\n\nIn-Person\, DSS Office\, CCCPLX-100\nRegister Now\n\n\nWednesday\, August 7\, 3:30 – 4:30 p.m.\n\nIn-Person\, DSS Office\, CCCPLX-100\nRegister Now\n\n\nMonday\, August 19\, 11 a.m. – 12 p.m.\n\nZoom\nRegister Now
URL:https://www.cypresscollege.edu/event/dss-student-workshops-glean-otter-and-kurzweil/2024-08-19/
LOCATION:9200 Valley View St.\, Cypress\, CA\, 90630\, United States
CATEGORIES:DSS
END:VEVENT
BEGIN:VEVENT
DTSTART;TZID=America/Los_Angeles:20240820T080000
DTEND;TZID=America/Los_Angeles:20240820T184500
DTSTAMP:20260419T162748
CREATED:20240813T155312Z
LAST-MODIFIED:20240813T155312Z
UID:62163-1724140800-1724179500@www.cypresscollege.edu
SUMMARY:Picture ID Appointments
DESCRIPTION:Need your student ID photo taken? We have appointments available! Sign up by clicking on the links below. The links will take you to the available appointments for the day. \nThe following dates have appointments available 8 a.m.–6:45 p.m. \n\nAugust 19\, 2024\nAugust 20\, 2024\nAugust 21\, 2024\nAugust 22\, 2024\n\nThe following date has appointments available 1–7 p.m. \n\nAugust 23\, 2024
URL:https://www.cypresscollege.edu/event/picture-id-appointments/2024-08-20/
LOCATION:9200 Valley View St.\, Cypress\, CA\, 90630\, United States
CATEGORIES:Important Dates to Remember
END:VEVENT
BEGIN:VEVENT
DTSTART;TZID=America/Los_Angeles:20240820T133000
DTEND;TZID=America/Los_Angeles:20240820T143000
DTSTAMP:20260419T162748
CREATED:20240806T212324Z
LAST-MODIFIED:20240806T212324Z
UID:61990-1724160600-1724164200@www.cypresscollege.edu
SUMMARY:Financial Aid In-Person Loan Orientation
DESCRIPTION:Tuesday\, August 13\, 2024\, 11 a.m. – 12 p.m.\nTuesday\, August 20\, 2024\, 1:30 – 2:30 p.m.\nTuesday\, September 10\, 2024 11 a.m. – 12 p.m.\nTuesday\, September 17\, 2024 11 a.m. – 12 p.m.\nTuesday\, October 8\, 2024\, 11 a.m. – 12 p.m.\nTuesday\, October 22\, 2024\, 11 a.m. – 12 p.m.\nTuesday\, November 5\, 2024\, 11 a.m. – 12 p.m.\n\nContact the Financial Aid Office for details. \nT: (714) 484-7114\nE: financialaid@cypresscollege.edu
URL:https://www.cypresscollege.edu/event/financial-aid-in-person-loan-orientation/2024-08-20/
LOCATION:9200 Valley View St.\, Cypress\, CA\, 90630\, United States
CATEGORIES:Financial Aid
ATTACH;FMTTYPE=image/jpeg:https://www.cypresscollege.edu/wp-content/uploads/Events-Featured-Image-Financial_Aid_JC.jpg
END:VEVENT
BEGIN:VEVENT
DTSTART;TZID=America/Los_Angeles:20240821T080000
DTEND;TZID=America/Los_Angeles:20240821T184500
DTSTAMP:20260419T162748
CREATED:20240813T155312Z
LAST-MODIFIED:20240813T155312Z
UID:62164-1724227200-1724265900@www.cypresscollege.edu
SUMMARY:Picture ID Appointments
DESCRIPTION:Need your student ID photo taken? We have appointments available! Sign up by clicking on the links below. The links will take you to the available appointments for the day. \nThe following dates have appointments available 8 a.m.–6:45 p.m. \n\nAugust 19\, 2024\nAugust 20\, 2024\nAugust 21\, 2024\nAugust 22\, 2024\n\nThe following date has appointments available 1–7 p.m. \n\nAugust 23\, 2024
URL:https://www.cypresscollege.edu/event/picture-id-appointments/2024-08-21/
LOCATION:9200 Valley View St.\, Cypress\, CA\, 90630\, United States
CATEGORIES:Important Dates to Remember
END:VEVENT
BEGIN:VEVENT
DTSTART;TZID=America/Los_Angeles:20240821T100000
DTEND;TZID=America/Los_Angeles:20240821T110000
DTSTAMP:20260419T162748
CREATED:20240815T203136Z
LAST-MODIFIED:20240815T203136Z
UID:62260-1724234400-1724238000@www.cypresscollege.edu
SUMMARY:Stop the Bleed (STB) Trainings
DESCRIPTION:Stop the Bleed (STB) Trainings will be provided monthly during the fall semester. The Student Health & Wellness Center holds an Educational License to provide the trainings with assistance from our colleagues in Athletic Training and Campus Safety. Trainings include a presentation of this STB material\, followed by a hands-on practice. This is a free training open to all students/faculty/staff. Class size is limited so please email Marla McBride at mmcbride@cypresscollege.edu if you are interested in attending. \nAll trainings will take place in CCCPLX-419 on: \n\nWednesday\, 8/21/24\, 10 a.m.\nThursday\, 9/5/24\, 2 p.m.\nFriday\, 10/4/24\, 9 a.m.\nMonday\, 11/4/24\, 3 p.m.\n\n*Note: There will be visual images of blood that may be disturbing to some people.
URL:https://www.cypresscollege.edu/event/stop-the-bleed-stb-trainings/2024-08-21/
LOCATION:9200 Valley View St.\, Cypress\, CA\, 90630\, United States
CATEGORIES:Health Center
END:VEVENT
BEGIN:VEVENT
DTSTART;TZID=America/Los_Angeles:20240822T080000
DTEND;TZID=America/Los_Angeles:20240822T184500
DTSTAMP:20260419T162748
CREATED:20240813T155312Z
LAST-MODIFIED:20240813T155312Z
UID:62165-1724313600-1724352300@www.cypresscollege.edu
SUMMARY:Picture ID Appointments
DESCRIPTION:Need your student ID photo taken? We have appointments available! Sign up by clicking on the links below. The links will take you to the available appointments for the day. \nThe following dates have appointments available 8 a.m.–6:45 p.m. \n\nAugust 19\, 2024\nAugust 20\, 2024\nAugust 21\, 2024\nAugust 22\, 2024\n\nThe following date has appointments available 1–7 p.m. \n\nAugust 23\, 2024
URL:https://www.cypresscollege.edu/event/picture-id-appointments/2024-08-22/
LOCATION:9200 Valley View St.\, Cypress\, CA\, 90630\, United States
CATEGORIES:Important Dates to Remember
END:VEVENT
BEGIN:VEVENT
DTSTART;TZID=America/Los_Angeles:20240823T130000
DTEND;TZID=America/Los_Angeles:20240823T190000
DTSTAMP:20260419T162748
CREATED:20240813T155312Z
LAST-MODIFIED:20240813T155312Z
UID:62166-1724418000-1724439600@www.cypresscollege.edu
SUMMARY:Picture ID Appointments
DESCRIPTION:Need your student ID photo taken? We have appointments available! Sign up by clicking on the links below. The links will take you to the available appointments for the day. \nThe following dates have appointments available 8 a.m.–6:45 p.m. \n\nAugust 19\, 2024\nAugust 20\, 2024\nAugust 21\, 2024\nAugust 22\, 2024\n\nThe following date has appointments available 1–7 p.m. \n\nAugust 23\, 2024
URL:https://www.cypresscollege.edu/event/picture-id-appointments/2024-08-23/
LOCATION:9200 Valley View St.\, Cypress\, CA\, 90630\, United States
CATEGORIES:Important Dates to Remember
END:VEVENT
END:VCALENDAR